Workbook

Sheet Math
B1: RPM | AC1: TLIQ | AD1: RPM
A2: TPS | B2: 0 | C2: 200 | D2: 400 | E2: 600 | F2: 800 | G2: 1000 | H2: 1200 | I2: 1400 | J2: 1600 | K2: 1800 | L2: 2000 | M2: 2200 | N2: 2400 | O2: 2600 | P2: 2800 | Q2: 3000 | R2: 3100 | S2: 3250 | T2: 3400 | U2: 3600 | V2: 3800 | W2: 4000 | X2: 4200 | Y2: 4400 | Z2: 4600 | AA2: 4800 | AC2: TPS | AD2: 0 | AE2: 200 | AF2: 400 | AG2: 600 | AH2: 800 | AI2: 1000 | AJ2: 1200 | AK2: 1400 | AL2: 1600 | AM2: 1800 | AN2: 2000 | AO2: 2200 | AP2: 2400 | AQ2: 2600 | AR2: 2800 | AS2: 3000 | AT2: 3100 | AU2: 3250 | AV2: 3400 | AW2: 3600 | AX2: 3800 | AY2: 4000 | AZ2: 4200 | BA2: 4400 | BB2: 4600 | BC2: 4800
A3: 0 | B3: 0 | C3: 0 | D3: 0 | E3: 0 | F3: 0 | G3: 0 | H3: 0 | I3: 0 | J3: 0 | K3: 0 | L3: 0 | M3: 0 | N3: 0 | O3: 0 | P3: 0 | Q3: 0 | R3: 0 | S3: 0 | T3: 0 | U3: 0 | V3: 0 | W3: 0 | X3: 0 | Y3: 0 | Z3: 0 | AA3: 0 | AC3: 0 | AD3: =VLOOKUP(AD17,'TLIQ B0741 Full'!$A$3:$AC$948,2,TRUE) -> 0 | AE3: =VLOOKUP(AE17,'TLIQ B0741 Full'!$A$3:$AC$948,3,TRUE) -> 1.0078125 | AF3: =VLOOKUP(AF17,'TLIQ B0741 Full'!$A$3:$AC$948,4,TRUE) -> 1.5705645 | AG3: =VLOOKUP(AG17,'TLIQ B0741 Full'!$A$3:$AC$948,5,TRUE) -> 1.9650538 | AH3: =VLOOKUP(AH17,'TLIQ B0741 Full'!$A$3:$AC$948,6,TRUE) -> 2.2163978 | AI3: =VLOOKUP(AI17,'TLIQ B0741 Full'!$A$3:$AC$948,7,TRUE) -> 2.6169355 | AJ3: =VLOOKUP(AJ17,'TLIQ B0741 Full'!$A$3:$AC$948,8,TRUE) -> 2.7083333 | AK3: =VLOOKUP(AK17,'TLIQ B0741 Full'!$A$3:$AC$948,9,TRUE) -> 2.7217742 | AL3: =VLOOKUP(AL17,'TLIQ B0741 Full'!$A$3:$AC$948,10,TRUE) -> 2.3840726 | AM3: =VLOOKUP(AM17,'TLIQ B0741 Full'!$A$3:$AC$948,11,TRUE) -> 2.9390121 | AN3: =VLOOKUP(AN17,'TLIQ B0741 Full'!$A$3:$AC$948,12,TRUE) -> 3.703461 | AO3: =VLOOKUP(AO17,'TLIQ B0741 Full'!$A$3:$AC$948,13,TRUE) -> 3.9045699 | AP3: =VLOOKUP(AP17,'TLIQ B0741 Full'!$A$3:$AC$948,14,TRUE) -> 3.8044355 | AQ3: =VLOOKUP(AQ17,'TLIQ B0741 Full'!$A$3:$AC$948,15,TRUE) -> 3.1844758 | AR3: =VLOOKUP(AR17,'TLIQ B0741 Full'!$A$3:$AC$948,16,TRUE) -> 2.202621 | AS3: =VLOOKUP(AS17,'TLIQ B0741 Full'!$A$3:$AC$948,17,TRUE) -> 0.54133065 | AT3: =VLOOKUP(AT17,'TLIQ B0741 Full'!$A$3:$AC$948,18,TRUE) -> 0.171875 | AU3: =VLOOKUP(AU17,'TLIQ B0741 Full'!$A$3:$AC$948,20,TRUE) -> 0.32942708 | AV3: =VLOOKUP(AV17,'TLIQ B0741 Full'!$A$3:$AC$948,21,TRUE) -> 0.32942708 | AW3: =VLOOKUP(AW17,'TLIQ B0741 Full'!$A$3:$AC$948,22,TRUE) -> 0.32942708 | AX3: =VLOOKUP(AX17,'TLIQ B0741 Full'!$A$3:$AC$948,23,TRUE) -> 0.32942708 | AY3: =VLOOKUP(AY17,'TLIQ B0741 Full'!$A$3:$AC$948,24,TRUE) -> 0.32942708 | AZ3: =VLOOKUP(AZ17,'TLIQ B0741 Full'!$A$3:$AC$948,25,TRUE) -> 0.32942708 | BA3: =VLOOKUP(BA17,'TLIQ B0741 Full'!$A$3:$AC$948,26,TRUE) -> 0.32942708 | BB3: =VLOOKUP(BB17,'TLIQ B0741 Full'!$A$3:$AC$948,27,TRUE) -> 0.32942708 | BC3: =VLOOKUP(BC17,'TLIQ B0741 Full'!$A$3:$AC$948,28,TRUE) -> 0.32942708
A4: 10 | B4: 19.703125 | C4: 15.296875 | D4: 11.203125 | E4: 10 | F4: 9.203125 | G4: 8.40625 | H4: 7.203125 | I4: 5.796875 | J4: 3.796875 | K4: 2 | L4: 0 | M4: 0 | N4: 0 | O4: 0 | P4: 0 | Q4: 0 | R4: 0 | S4: 0 | T4: 0 | U4: 0 | V4: 0 | W4: 0 | X4: 0 | Y4: 0 | Z4: 0 | AA4: 0 | AC4: 10 | AD4: =VLOOKUP(AD18,'TLIQ B0741 Full'!$A$3:$AC$948,2,TRUE) -> 0 | AE4: =VLOOKUP(AE18,'TLIQ B0741 Full'!$A$3:$AC$948,3,TRUE) -> 2.765625 | AF4: =VLOOKUP(AF18,'TLIQ B0741 Full'!$A$3:$AC$948,4,TRUE) -> 6.234375 | AG4: =VLOOKUP(AG18,'TLIQ B0741 Full'!$A$3:$AC$948,5,TRUE) -> 10.855469 | AH4: =VLOOKUP(AH18,'TLIQ B0741 Full'!$A$3:$AC$948,6,TRUE) -> 10.649966 | AI4: =VLOOKUP(AI18,'TLIQ B0741 Full'!$A$3:$AC$948,7,TRUE) -> 9.2550951 | AJ4: =VLOOKUP(AJ18,'TLIQ B0741 Full'!$A$3:$AC$948,8,TRUE) -> 7.8743207 | AK4: =VLOOKUP(AK18,'TLIQ B0741 Full'!$A$3:$AC$948,9,TRUE) -> 5.6997283 | AL4: =VLOOKUP(AL18,'TLIQ B0741 Full'!$A$3:$AC$948,10,TRUE) -> 3.7278226 | AM4: =VLOOKUP(AM18,'TLIQ B0741 Full'!$A$3:$AC$948,11,TRUE) -> 3.9763105 | AN4: =VLOOKUP(AN18,'TLIQ B0741 Full'!$A$3:$AC$948,12,TRUE) -> 3.703461 | AO4: =VLOOKUP(AO18,'TLIQ B0741 Full'!$A$3:$AC$948,13,TRUE) -> 3.9045699 | AP4: =VLOOKUP(AP18,'TLIQ B0741 Full'!$A$3:$AC$948,14,TRUE) -> 3.8044355 | AQ4: =VLOOKUP(AQ18,'TLIQ B0741 Full'!$A$3:$AC$948,15,TRUE) -> 3.1844758 | AR4: =VLOOKUP(AR18,'TLIQ B0741 Full'!$A$3:$AC$948,16,TRUE) -> 2.202621 | AS4: =VLOOKUP(AS18,'TLIQ B0741 Full'!$A$3:$AC$948,17,TRUE) -> 0.54133065 | AT4: =VLOOKUP(AT18,'TLIQ B0741 Full'!$A$3:$AC$948,18,TRUE) -> 0.171875 | AU4: =VLOOKUP(AU18,'TLIQ B0741 Full'!$A$3:$AC$948,20,TRUE) -> 0.32942708 | AV4: =VLOOKUP(AV18,'TLIQ B0741 Full'!$A$3:$AC$948,21,TRUE) -> 0.32942708 | AW4: =VLOOKUP(AW18,'TLIQ B0741 Full'!$A$3:$AC$948,22,TRUE) -> 0.32942708 | AX4: =VLOOKUP(AX18,'TLIQ B0741 Full'!$A$3:$AC$948,23,TRUE) -> 0.32942708 | AY4: =VLOOKUP(AY18,'TLIQ B0741 Full'!$A$3:$AC$948,24,TRUE) -> 0.32942708 | AZ4: =VLOOKUP(AZ18,'TLIQ B0741 Full'!$A$3:$AC$948,25,TRUE) -> 0.32942708 | BA4: =VLOOKUP(BA18,'TLIQ B0741 Full'!$A$3:$AC$948,26,TRUE) -> 0.32942708 | BB4: =VLOOKUP(BB18,'TLIQ B0741 Full'!$A$3:$AC$948,27,TRUE) -> 0.32942708 | BC4: =VLOOKUP(BC18,'TLIQ B0741 Full'!$A$3:$AC$948,28,TRUE) -> 0.32942708
A5: 20 | B5: 29 | C5: 22.203125 | D5: 19.296875 | E5: 17.703125 | F5: 16.296875 | G5: 14.703125 | H5: 13.296875 | I5: 11.796875 | J5: 10.796875 | K5: 9.59375 | L5: 8.796875 | M5: 7.40625 | N5: 5.40625 | O5: 3.59375 | P5: 0 | Q5: 0 | R5: 0 | S5: 0 | T5: 0 | U5: 0 | V5: 0 | W5: 0 | X5: 0 | Y5: 0 | Z5: 0 | AA5: 0 | AC5: 20 | AD5: =VLOOKUP(AD19,'TLIQ B0741 Full'!$A$3:$AC$948,2,TRUE) -> 0 | AE5: =VLOOKUP(AE19,'TLIQ B0741 Full'!$A$3:$AC$948,3,TRUE) -> 3.3515625 | AF5: =VLOOKUP(AF19,'TLIQ B0741 Full'!$A$3:$AC$948,4,TRUE) -> 9.5392736 | AG5: =VLOOKUP(AG19,'TLIQ B0741 Full'!$A$3:$AC$948,5,TRUE) -> 17.53308 | AH5: =VLOOKUP(AH19,'TLIQ B0741 Full'!$A$3:$AC$948,6,TRUE) -> 16.523508 | AI5: =VLOOKUP(AI19,'TLIQ B0741 Full'!$A$3:$AC$948,7,TRUE) -> 14.82269 | AJ5: =VLOOKUP(AJ19,'TLIQ B0741 Full'!$A$3:$AC$948,8,TRUE) -> 13.587636 | AK5: =VLOOKUP(AK19,'TLIQ B0741 Full'!$A$3:$AC$948,9,TRUE) -> 11.919837 | AL5: =VLOOKUP(AL19,'TLIQ B0741 Full'!$A$3:$AC$948,10,TRUE) -> 13.185462 | AM5: =VLOOKUP(AM19,'TLIQ B0741 Full'!$A$3:$AC$948,11,TRUE) -> 11.265625 | AN5: =VLOOKUP(AN19,'TLIQ B0741 Full'!$A$3:$AC$948,12,TRUE) -> 8.8175951 | AO5: =VLOOKUP(AO19,'TLIQ B0741 Full'!$A$3:$AC$948,13,TRUE) -> 8.297211 | AP5: =VLOOKUP(AP19,'TLIQ B0741 Full'!$A$3:$AC$948,14,TRUE) -> 7.2731855 | AQ5: =VLOOKUP(AQ19,'TLIQ B0741 Full'!$A$3:$AC$948,15,TRUE) -> 5.5433468 | AR5: =VLOOKUP(AR19,'TLIQ B0741 Full'!$A$3:$AC$948,16,TRUE) -> 2.202621 | AS5: =VLOOKUP(AS19,'TLIQ B0741 Full'!$A$3:$AC$948,17,TRUE) -> 0.54133065 | AT5: =VLOOKUP(AT19,'TLIQ B0741 Full'!$A$3:$AC$948,18,TRUE) -> 0.171875 | AU5: =VLOOKUP(AU19,'TLIQ B0741 Full'!$A$3:$AC$948,20,TRUE) -> 0.32942708 | AV5: =VLOOKUP(AV19,'TLIQ B0741 Full'!$A$3:$AC$948,21,TRUE) -> 0.32942708 | AW5: =VLOOKUP(AW19,'TLIQ B0741 Full'!$A$3:$AC$948,22,TRUE) -> 0.32942708 | AX5: =VLOOKUP(AX19,'TLIQ B0741 Full'!$A$3:$AC$948,23,TRUE) -> 0.32942708 | AY5: =VLOOKUP(AY19,'TLIQ B0741 Full'!$A$3:$AC$948,24,TRUE) -> 0.32942708 | AZ5: =VLOOKUP(AZ19,'TLIQ B0741 Full'!$A$3:$AC$948,25,TRUE) -> 0.32942708 | BA5: =VLOOKUP(BA19,'TLIQ B0741 Full'!$A$3:$AC$948,26,TRUE) -> 0.32942708 | BB5: =VLOOKUP(BB19,'TLIQ B0741 Full'!$A$3:$AC$948,27,TRUE) -> 0.32942708 | BC5: =VLOOKUP(BC19,'TLIQ B0741 Full'!$A$3:$AC$948,28,TRUE) -> 0.32942708
A6: 30 | B6: 40 | C6: 32.59375 | D6: 26.703125 | E6: 24.296875 | F6: 22.703125 | G6: 21.296875 | H6: 20 | I6: 18.90625 | J6: 17.703125 | K6: 16.703125 | L6: 15.296875 | M6: 14.5 | N6: 13.296875 | O6: 11.796875 | P6: 10.59375 | Q6: 9.203125 | R6: 7 | S6: 4.796875 | T6: 2 | U6: 0 | V6: 0 | W6: 0 | X6: 0 | Y6: 0 | Z6: 0 | AA6: 0 | AC6: 30 | AD6: =VLOOKUP(AD20,'TLIQ B0741 Full'!$A$3:$AC$948,2,TRUE) -> 0 | AE6: =VLOOKUP(AE20,'TLIQ B0741 Full'!$A$3:$AC$948,3,TRUE) -> 4.25 | AF6: =VLOOKUP(AF20,'TLIQ B0741 Full'!$A$3:$AC$948,4,TRUE) -> 11.984375 | AG6: =VLOOKUP(AG20,'TLIQ B0741 Full'!$A$3:$AC$948,5,TRUE) -> 23.094735 | AH6: =VLOOKUP(AH20,'TLIQ B0741 Full'!$A$3:$AC$948,6,TRUE) -> 21.087697 | AI6: =VLOOKUP(AI20,'TLIQ B0741 Full'!$A$3:$AC$948,7,TRUE) -> 20.420327 | AJ6: =VLOOKUP(AJ20,'TLIQ B0741 Full'!$A$3:$AC$948,8,TRUE) -> 20.113598 | AK6: =VLOOKUP(AK20,'TLIQ B0741 Full'!$A$3:$AC$948,9,TRUE) -> 19.014358 | AL6: =VLOOKUP(AL20,'TLIQ B0741 Full'!$A$3:$AC$948,10,TRUE) -> 18.677989 | AM6: =VLOOKUP(AM20,'TLIQ B0741 Full'!$A$3:$AC$948,11,TRUE) -> 17.171875 | AN6: =VLOOKUP(AN20,'TLIQ B0741 Full'!$A$3:$AC$948,12,TRUE) -> 15.371264 | AO6: =VLOOKUP(AO20,'TLIQ B0741 Full'!$A$3:$AC$948,13,TRUE) -> 13.713995 | AP6: =VLOOKUP(AP20,'TLIQ B0741 Full'!$A$3:$AC$948,14,TRUE) -> 12.865149 | AQ6: =VLOOKUP(AQ20,'TLIQ B0741 Full'!$A$3:$AC$948,15,TRUE) -> 11.097317 | AR6: =VLOOKUP(AR20,'TLIQ B0741 Full'!$A$3:$AC$948,16,TRUE) -> 10.572581 | AS6: =VLOOKUP(AS20,'TLIQ B0741 Full'!$A$3:$AC$948,17,TRUE) -> 10.826613 | AT6: =VLOOKUP(AT20,'TLIQ B0741 Full'!$A$3:$AC$948,18,TRUE) -> 8.421875 | AU6: =VLOOKUP(AU20,'TLIQ B0741 Full'!$A$3:$AC$948,20,TRUE) -> 4.4294355 | AV6: =VLOOKUP(AV20,'TLIQ B0741 Full'!$A$3:$AC$948,21,TRUE) -> 2.0947581 | AW6: =VLOOKUP(AW20,'TLIQ B0741 Full'!$A$3:$AC$948,22,TRUE) -> 0.32942708 | AX6: =VLOOKUP(AX20,'TLIQ B0741 Full'!$A$3:$AC$948,23,TRUE) -> 0.32942708 | AY6: =VLOOKUP(AY20,'TLIQ B0741 Full'!$A$3:$AC$948,24,TRUE) -> 0.32942708 | AZ6: =VLOOKUP(AZ20,'TLIQ B0741 Full'!$A$3:$AC$948,25,TRUE) -> 0.32942708 | BA6: =VLOOKUP(BA20,'TLIQ B0741 Full'!$A$3:$AC$948,26,TRUE) -> 0.32942708 | BB6: =VLOOKUP(BB20,'TLIQ B0741 Full'!$A$3:$AC$948,27,TRUE) -> 0.32942708 | BC6: =VLOOKUP(BC20,'TLIQ B0741 Full'!$A$3:$AC$948,28,TRUE) -> 0.32942708
A7: 40 | B7: 56.90625 | C7: 46 | D7: 35.703125 | E7: 32.90625 | F7: 30.90625 | G7: 30 | H7: 28.296875 | I7: 27.09375 | J7: 25.703125 | K7: 24.296875 | L7: 22.90625 | M7: 21.296875 | N7: 20.296875 | O7: 19.09375 | P7: 18 | Q7: 16 | R7: 13.90625 | S7: 9.296875 | T7: 4 | U7: 0 | V7: 0 | W7: 0 | X7: 0 | Y7: 0 | Z7: 0 | AA7: 0 | AC7: 40 | AD7: =VLOOKUP(AD21,'TLIQ B0741 Full'!$A$3:$AC$948,2,TRUE) -> 0 | AE7: =VLOOKUP(AE21,'TLIQ B0741 Full'!$A$3:$AC$948,3,TRUE) -> 5.2191723 | AF7: =VLOOKUP(AF21,'TLIQ B0741 Full'!$A$3:$AC$948,4,TRUE) -> 15.081503 | AG7: =VLOOKUP(AG21,'TLIQ B0741 Full'!$A$3:$AC$948,5,TRUE) -> 30.482337 | AH7: =VLOOKUP(AH21,'TLIQ B0741 Full'!$A$3:$AC$948,6,TRUE) -> 28.794158 | AI7: =VLOOKUP(AI21,'TLIQ B0741 Full'!$A$3:$AC$948,7,TRUE) -> 28.468468 | AJ7: =VLOOKUP(AJ21,'TLIQ B0741 Full'!$A$3:$AC$948,8,TRUE) -> 27.213119 | AK7: =VLOOKUP(AK21,'TLIQ B0741 Full'!$A$3:$AC$948,9,TRUE) -> 26.298142 | AL7: =VLOOKUP(AL21,'TLIQ B0741 Full'!$A$3:$AC$948,10,TRUE) -> 24.620777 | AM7: =VLOOKUP(AM21,'TLIQ B0741 Full'!$A$3:$AC$948,11,TRUE) -> 23.999578 | AN7: =VLOOKUP(AN21,'TLIQ B0741 Full'!$A$3:$AC$948,12,TRUE) -> 22.194679 | AO7: =VLOOKUP(AO21,'TLIQ B0741 Full'!$A$3:$AC$948,13,TRUE) -> 20.522928 | AP7: =VLOOKUP(AP21,'TLIQ B0741 Full'!$A$3:$AC$948,14,TRUE) -> 18.559443 | AQ7: =VLOOKUP(AQ21,'TLIQ B0741 Full'!$A$3:$AC$948,15,TRUE) -> 17.911345 | AR7: =VLOOKUP(AR21,'TLIQ B0741 Full'!$A$3:$AC$948,16,TRUE) -> 17.557065 | AS7: =VLOOKUP(AS21,'TLIQ B0741 Full'!$A$3:$AC$948,17,TRUE) -> 17.143342 | AT7: =VLOOKUP(AT21,'TLIQ B0741 Full'!$A$3:$AC$948,18,TRUE) -> 13.859375 | AU7: =VLOOKUP(AU21,'TLIQ B0741 Full'!$A$3:$AC$948,20,TRUE) -> 10.655242 | AV7: =VLOOKUP(AV21,'TLIQ B0741 Full'!$A$3:$AC$948,21,TRUE) -> 4.4294355 | AW7: =VLOOKUP(AW21,'TLIQ B0741 Full'!$A$3:$AC$948,22,TRUE) -> 0.32942708 | AX7: =VLOOKUP(AX21,'TLIQ B0741 Full'!$A$3:$AC$948,23,TRUE) -> 0.32942708 | AY7: =VLOOKUP(AY21,'TLIQ B0741 Full'!$A$3:$AC$948,24,TRUE) -> 0.32942708 | AZ7: =VLOOKUP(AZ21,'TLIQ B0741 Full'!$A$3:$AC$948,25,TRUE) -> 0.32942708 | BA7: =VLOOKUP(BA21,'TLIQ B0741 Full'!$A$3:$AC$948,26,TRUE) -> 0.32942708 | BB7: =VLOOKUP(BB21,'TLIQ B0741 Full'!$A$3:$AC$948,27,TRUE) -> 0.32942708 | BC7: =VLOOKUP(BC21,'TLIQ B0741 Full'!$A$3:$AC$948,28,TRUE) -> 0.32942708
A8: 50 | B8: 85 | C8: 85 | D8: 47.703125 | E8: 44 | F8: 42.203125 | G8: 40.796875 | H8: 39.796875 | I8: 38.40625 | J8: 36.5 | K8: 35.296875 | L8: 34.09375 | M8: 33.09375 | N8: 32.09375 | O8: 30.296875 | P8: 28.703125 | Q8: 25.296875 | R8: 21.703125 | S8: 16.296875 | T8: 8 | U8: 0 | V8: 0 | W8: 0 | X8: 0 | Y8: 0 | Z8: 0 | AA8: 0 | AC8: 50 | AD8: =VLOOKUP(AD22,'TLIQ B0741 Full'!$A$3:$AC$948,2,TRUE) -> 0 | AE8: =VLOOKUP(AE22,'TLIQ B0741 Full'!$A$3:$AC$948,3,TRUE) -> 9.9476902 | AF8: =VLOOKUP(AF22,'TLIQ B0741 Full'!$A$3:$AC$948,4,TRUE) -> 18.132473 | AG8: =VLOOKUP(AG22,'TLIQ B0741 Full'!$A$3:$AC$948,5,TRUE) -> 41.985394 | AH8: =VLOOKUP(AH22,'TLIQ B0741 Full'!$A$3:$AC$948,6,TRUE) -> 39.846977 | AI8: =VLOOKUP(AI22,'TLIQ B0741 Full'!$A$3:$AC$948,7,TRUE) -> 38.762228 | AJ8: =VLOOKUP(AJ22,'TLIQ B0741 Full'!$A$3:$AC$948,8,TRUE) -> 38.148777 | AK8: =VLOOKUP(AK22,'TLIQ B0741 Full'!$A$3:$AC$948,9,TRUE) -> 36.646739 | AL8: =VLOOKUP(AL22,'TLIQ B0741 Full'!$A$3:$AC$948,10,TRUE) -> 35.268342 | AM8: =VLOOKUP(AM22,'TLIQ B0741 Full'!$A$3:$AC$948,11,TRUE) -> 33.839334 | AN8: =VLOOKUP(AN22,'TLIQ B0741 Full'!$A$3:$AC$948,12,TRUE) -> 32.766984 | AO8: =VLOOKUP(AO22,'TLIQ B0741 Full'!$A$3:$AC$948,13,TRUE) -> 30.84375 | AP8: =VLOOKUP(AP22,'TLIQ B0741 Full'!$A$3:$AC$948,14,TRUE) -> 30.928668 | AQ8: =VLOOKUP(AQ22,'TLIQ B0741 Full'!$A$3:$AC$948,15,TRUE) -> 29.078547 | AR8: =VLOOKUP(AR22,'TLIQ B0741 Full'!$A$3:$AC$948,16,TRUE) -> 28.481982 | AS8: =VLOOKUP(AS22,'TLIQ B0741 Full'!$A$3:$AC$948,17,TRUE) -> 25.770693 | AT8: =VLOOKUP(AT22,'TLIQ B0741 Full'!$A$3:$AC$948,18,TRUE) -> 20.251189 | AU8: =VLOOKUP(AU22,'TLIQ B0741 Full'!$A$3:$AC$948,20,TRUE) -> 16.686492 | AV8: =VLOOKUP(AV22,'TLIQ B0741 Full'!$A$3:$AC$948,21,TRUE) -> 9.4879032 | AW8: =VLOOKUP(AW22,'TLIQ B0741 Full'!$A$3:$AC$948,22,TRUE) -> 0.32942708 | AX8: =VLOOKUP(AX22,'TLIQ B0741 Full'!$A$3:$AC$948,23,TRUE) -> 0.32942708 | AY8: =VLOOKUP(AY22,'TLIQ B0741 Full'!$A$3:$AC$948,24,TRUE) -> 0.32942708 | AZ8: =VLOOKUP(AZ22,'TLIQ B0741 Full'!$A$3:$AC$948,25,TRUE) -> 0.32942708 | BA8: =VLOOKUP(BA22,'TLIQ B0741 Full'!$A$3:$AC$948,26,TRUE) -> 0.32942708 | BB8: =VLOOKUP(BB22,'TLIQ B0741 Full'!$A$3:$AC$948,27,TRUE) -> 0.32942708 | BC8: =VLOOKUP(BC22,'TLIQ B0741 Full'!$A$3:$AC$948,28,TRUE) -> 0.32942708
A9: 60 | B9: 85 | C9: 85 | D9: 56.203125 | E9: 53.59375 | F9: 52.796875 | G9: 51.796875 | H9: 50.796875 | I9: 49.796875 | J9: 48.59375 | K9: 47 | L9: 45.59375 | M9: 44.40625 | N9: 43 | O9: 41.59375 | P9: 40 | Q9: 33.296875 | R9: 27.09375 | S9: 19.5 | T9: 10 | U9: 0 | V9: 0 | W9: 0 | X9: 0 | Y9: 0 | Z9: 0 | AA9: 0 | AC9: 60 | AD9: =VLOOKUP(AD23,'TLIQ B0741 Full'!$A$3:$AC$948,2,TRUE) -> 0 | AE9: =VLOOKUP(AE23,'TLIQ B0741 Full'!$A$3:$AC$948,3,TRUE) -> 9.9476902 | AF9: =VLOOKUP(AF23,'TLIQ B0741 Full'!$A$3:$AC$948,4,TRUE) -> 20.819973 | AG9: =VLOOKUP(AG23,'TLIQ B0741 Full'!$A$3:$AC$948,5,TRUE) -> 50.662364 | AH9: =VLOOKUP(AH23,'TLIQ B0741 Full'!$A$3:$AC$948,6,TRUE) -> 53.26087 | AI9: =VLOOKUP(AI23,'TLIQ B0741 Full'!$A$3:$AC$948,7,TRUE) -> 50.519871 | AJ9: =VLOOKUP(AJ23,'TLIQ B0741 Full'!$A$3:$AC$948,8,TRUE) -> 51.159647 | AK9: =VLOOKUP(AK23,'TLIQ B0741 Full'!$A$3:$AC$948,9,TRUE) -> 51.055707 | AL9: =VLOOKUP(AL23,'TLIQ B0741 Full'!$A$3:$AC$948,10,TRUE) -> 48.190897 | AM9: =VLOOKUP(AM23,'TLIQ B0741 Full'!$A$3:$AC$948,11,TRUE) -> 46.887908 | AN9: =VLOOKUP(AN23,'TLIQ B0741 Full'!$A$3:$AC$948,12,TRUE) -> 44.320312 | AO9: =VLOOKUP(AO23,'TLIQ B0741 Full'!$A$3:$AC$948,13,TRUE) -> 43.08356 | AP9: =VLOOKUP(AP23,'TLIQ B0741 Full'!$A$3:$AC$948,14,TRUE) -> 41.390625 | AQ9: =VLOOKUP(AQ23,'TLIQ B0741 Full'!$A$3:$AC$948,15,TRUE) -> 39.742527 | AR9: =VLOOKUP(AR23,'TLIQ B0741 Full'!$A$3:$AC$948,16,TRUE) -> 39.126359 | AS9: =VLOOKUP(AS23,'TLIQ B0741 Full'!$A$3:$AC$948,17,TRUE) -> 32.236909 | AT9: =VLOOKUP(AT23,'TLIQ B0741 Full'!$A$3:$AC$948,18,TRUE) -> 28.100084 | AU9: =VLOOKUP(AU23,'TLIQ B0741 Full'!$A$3:$AC$948,20,TRUE) -> 19.036685 | AV9: =VLOOKUP(AV23,'TLIQ B0741 Full'!$A$3:$AC$948,21,TRUE) -> 10.655242 | AW9: =VLOOKUP(AW23,'TLIQ B0741 Full'!$A$3:$AC$948,22,TRUE) -> 0.32942708 | AX9: =VLOOKUP(AX23,'TLIQ B0741 Full'!$A$3:$AC$948,23,TRUE) -> 0.32942708 | AY9: =VLOOKUP(AY23,'TLIQ B0741 Full'!$A$3:$AC$948,24,TRUE) -> 0.32942708 | AZ9: =VLOOKUP(AZ23,'TLIQ B0741 Full'!$A$3:$AC$948,25,TRUE) -> 0.32942708 | BA9: =VLOOKUP(BA23,'TLIQ B0741 Full'!$A$3:$AC$948,26,TRUE) -> 0.32942708 | BB9: =VLOOKUP(BB23,'TLIQ B0741 Full'!$A$3:$AC$948,27,TRUE) -> 0.32942708 | BC9: =VLOOKUP(BC23,'TLIQ B0741 Full'!$A$3:$AC$948,28,TRUE) -> 0.32942708
A10: 70 | B10: 85 | C10: 85 | D10: 60 | E10: 60 | F10: 60 | G10: 60 | H10: 60 | I10: 60 | J10: 59.59375 | K10: 58.203125 | L10: 57.203125 | M10: 56 | N10: 54.796875 | O10: 53.796875 | P10: 52.203125 | Q10: 49.40625 | R10: 40.203125 | S10: 27.09375 | T10: 12 | U10: 0 | V10: 0 | W10: 0 | X10: 0 | Y10: 0 | Z10: 0 | AA10: 0 | AC10: 70 | AD10: =VLOOKUP(AD24,'TLIQ B0741 Full'!$A$3:$AC$948,2,TRUE) -> 0 | AE10: =VLOOKUP(AE24,'TLIQ B0741 Full'!$A$3:$AC$948,3,TRUE) -> 9.9476902 | AF10: =VLOOKUP(AF24,'TLIQ B0741 Full'!$A$3:$AC$948,4,TRUE) -> 21.871603 | AG10: =VLOOKUP(AG24,'TLIQ B0741 Full'!$A$3:$AC$948,5,TRUE) -> 58.336957 | AH10: =VLOOKUP(AH24,'TLIQ B0741 Full'!$A$3:$AC$948,6,TRUE) -> 59.05231 | AI10: =VLOOKUP(AI24,'TLIQ B0741 Full'!$A$3:$AC$948,7,TRUE) -> 58.103091 | AJ10: =VLOOKUP(AJ24,'TLIQ B0741 Full'!$A$3:$AC$948,8,TRUE) -> 57.774796 | AK10: =VLOOKUP(AK24,'TLIQ B0741 Full'!$A$3:$AC$948,9,TRUE) -> 57.892833 | AL10: =VLOOKUP(AL24,'TLIQ B0741 Full'!$A$3:$AC$948,10,TRUE) -> 59.221128 | AM10: =VLOOKUP(AM24,'TLIQ B0741 Full'!$A$3:$AC$948,11,TRUE) -> 57.710938 | AN10: =VLOOKUP(AN24,'TLIQ B0741 Full'!$A$3:$AC$948,12,TRUE) -> 55.858696 | AO10: =VLOOKUP(AO24,'TLIQ B0741 Full'!$A$3:$AC$948,13,TRUE) -> 55.379076 | AP10: =VLOOKUP(AP24,'TLIQ B0741 Full'!$A$3:$AC$948,14,TRUE) -> 52.848505 | AQ10: =VLOOKUP(AQ24,'TLIQ B0741 Full'!$A$3:$AC$948,15,TRUE) -> 50.615489 | AR10: =VLOOKUP(AR24,'TLIQ B0741 Full'!$A$3:$AC$948,16,TRUE) -> 49.836957 | AS10: =VLOOKUP(AS24,'TLIQ B0741 Full'!$A$3:$AC$948,17,TRUE) -> 47.740149 | AT10: =VLOOKUP(AT24,'TLIQ B0741 Full'!$A$3:$AC$948,18,TRUE) -> 39.716712 | AU10: =VLOOKUP(AU24,'TLIQ B0741 Full'!$A$3:$AC$948,20,TRUE) -> 28.167652 | AV10: =VLOOKUP(AV24,'TLIQ B0741 Full'!$A$3:$AC$948,21,TRUE) -> 12.600806 | AW10: =VLOOKUP(AW24,'TLIQ B0741 Full'!$A$3:$AC$948,22,TRUE) -> 0.32942708 | AX10: =VLOOKUP(AX24,'TLIQ B0741 Full'!$A$3:$AC$948,23,TRUE) -> 0.32942708 | AY10: =VLOOKUP(AY24,'TLIQ B0741 Full'!$A$3:$AC$948,24,TRUE) -> 0.32942708 | AZ10: =VLOOKUP(AZ24,'TLIQ B0741 Full'!$A$3:$AC$948,25,TRUE) -> 0.32942708 | BA10: =VLOOKUP(BA24,'TLIQ B0741 Full'!$A$3:$AC$948,26,TRUE) -> 0.32942708 | BB10: =VLOOKUP(BB24,'TLIQ B0741 Full'!$A$3:$AC$948,27,TRUE) -> 0.32942708 | BC10: =VLOOKUP(BC24,'TLIQ B0741 Full'!$A$3:$AC$948,28,TRUE) -> 0.32942708
A11: 80 | B11: 85 | C11: 85 | D11: 60 | E11: 60 | F11: 60 | G11: 60 | H11: 72 | I11: 71.5 | J11: 70.796875 | K11: 70 | L11: 68.90625 | M11: 67.09375 | N11: 65.703125 | O11: 64.296875 | P11: 62.90625 | Q11: 60.703125 | R11: 54.703125 | S11: 42.40625 | T11: 16 | U11: 0 | V11: 0 | W11: 0 | X11: 0 | Y11: 0 | Z11: 0 | AA11: 0 | AC11: 80 | AD11: =VLOOKUP(AD25,'TLIQ B0741 Full'!$A$3:$AC$948,2,TRUE) -> 0 | AE11: =VLOOKUP(AE25,'TLIQ B0741 Full'!$A$3:$AC$948,3,TRUE) -> 9.9476902 | AF11: =VLOOKUP(AF25,'TLIQ B0741 Full'!$A$3:$AC$948,4,TRUE) -> 21.871603 | AG11: =VLOOKUP(AG25,'TLIQ B0741 Full'!$A$3:$AC$948,5,TRUE) -> 58.336957 | AH11: =VLOOKUP(AH25,'TLIQ B0741 Full'!$A$3:$AC$948,6,TRUE) -> 59.05231 | AI11: =VLOOKUP(AI25,'TLIQ B0741 Full'!$A$3:$AC$948,7,TRUE) -> 58.103091 | AJ11: =VLOOKUP(AJ25,'TLIQ B0741 Full'!$A$3:$AC$948,8,TRUE) -> 69.972486 | AK11: =VLOOKUP(AK25,'TLIQ B0741 Full'!$A$3:$AC$948,9,TRUE) -> 70.608696 | AL11: =VLOOKUP(AL25,'TLIQ B0741 Full'!$A$3:$AC$948,10,TRUE) -> 68.731658 | AM11: =VLOOKUP(AM25,'TLIQ B0741 Full'!$A$3:$AC$948,11,TRUE) -> 69.086358 | AN11: =VLOOKUP(AN25,'TLIQ B0741 Full'!$A$3:$AC$948,12,TRUE) -> 68.319556 | AO11: =VLOOKUP(AO25,'TLIQ B0741 Full'!$A$3:$AC$948,13,TRUE) -> 66.810971 | AP11: =VLOOKUP(AP25,'TLIQ B0741 Full'!$A$3:$AC$948,14,TRUE) -> 64.394361 | AQ11: =VLOOKUP(AQ25,'TLIQ B0741 Full'!$A$3:$AC$948,15,TRUE) -> 63.0625 | AR11: =VLOOKUP(AR25,'TLIQ B0741 Full'!$A$3:$AC$948,16,TRUE) -> 60.621773 | AS11: =VLOOKUP(AS25,'TLIQ B0741 Full'!$A$3:$AC$948,17,TRUE) -> 57.970109 | AT11: =VLOOKUP(AT25,'TLIQ B0741 Full'!$A$3:$AC$948,18,TRUE) -> 52.2348 | AU11: =VLOOKUP(AU25,'TLIQ B0741 Full'!$A$3:$AC$948,20,TRUE) -> 41.471467 | AV11: =VLOOKUP(AV25,'TLIQ B0741 Full'!$A$3:$AC$948,21,TRUE) -> 16.686492 | AW11: =VLOOKUP(AW25,'TLIQ B0741 Full'!$A$3:$AC$948,22,TRUE) -> 0.32942708 | AX11: =VLOOKUP(AX25,'TLIQ B0741 Full'!$A$3:$AC$948,23,TRUE) -> 0.32942708 | AY11: =VLOOKUP(AY25,'TLIQ B0741 Full'!$A$3:$AC$948,24,TRUE) -> 0.32942708 | AZ11: =VLOOKUP(AZ25,'TLIQ B0741 Full'!$A$3:$AC$948,25,TRUE) -> 0.32942708 | BA11: =VLOOKUP(BA25,'TLIQ B0741 Full'!$A$3:$AC$948,26,TRUE) -> 0.32942708 | BB11: =VLOOKUP(BB25,'TLIQ B0741 Full'!$A$3:$AC$948,27,TRUE) -> 0.32942708 | BC11: =VLOOKUP(BC25,'TLIQ B0741 Full'!$A$3:$AC$948,28,TRUE) -> 0.32942708
A12: 90 | B12: 85 | C12: 85 | D12: 60 | E12: 60 | F12: 60 | G12: 60 | H12: 74 | I12: 82 | J12: 80 | K12: 80 | L12: 78.5 | M12: 79 | N12: 76.296875 | O12: 74.90625 | P12: 73.703125 | Q12: 72.296875 | R12: 68.90625 | S12: 60.59375 | T12: 20 | U12: 0 | V12: 0 | W12: 0 | X12: 0 | Y12: 0 | Z12: 0 | AA12: 0 | AC12: 90 | AD12: =VLOOKUP(AD26,'TLIQ B0741 Full'!$A$3:$AC$948,2,TRUE) -> 0 | AE12: =VLOOKUP(AE26,'TLIQ B0741 Full'!$A$3:$AC$948,3,TRUE) -> 9.9476902 | AF12: =VLOOKUP(AF26,'TLIQ B0741 Full'!$A$3:$AC$948,4,TRUE) -> 21.871603 | AG12: =VLOOKUP(AG26,'TLIQ B0741 Full'!$A$3:$AC$948,5,TRUE) -> 58.336957 | AH12: =VLOOKUP(AH26,'TLIQ B0741 Full'!$A$3:$AC$948,6,TRUE) -> 59.05231 | AI12: =VLOOKUP(AI26,'TLIQ B0741 Full'!$A$3:$AC$948,7,TRUE) -> 58.103091 | AJ12: =VLOOKUP(AJ26,'TLIQ B0741 Full'!$A$3:$AC$948,8,TRUE) -> 72.005435 | AK12: =VLOOKUP(AK26,'TLIQ B0741 Full'!$A$3:$AC$948,9,TRUE) -> 80.311156 | AL12: =VLOOKUP(AL26,'TLIQ B0741 Full'!$A$3:$AC$948,10,TRUE) -> 79.554099 | AM12: =VLOOKUP(AM26,'TLIQ B0741 Full'!$A$3:$AC$948,11,TRUE) -> 80.156586 | AN12: =VLOOKUP(AN26,'TLIQ B0741 Full'!$A$3:$AC$948,12,TRUE) -> 79.388105 | AO12: =VLOOKUP(AO26,'TLIQ B0741 Full'!$A$3:$AC$948,13,TRUE) -> 79.148017 | AP12: =VLOOKUP(AP26,'TLIQ B0741 Full'!$A$3:$AC$948,14,TRUE) -> 75.811996 | AQ12: =VLOOKUP(AQ26,'TLIQ B0741 Full'!$A$3:$AC$948,15,TRUE) -> 73.715726 | AR12: =VLOOKUP(AR26,'TLIQ B0741 Full'!$A$3:$AC$948,16,TRUE) -> 72.053668 | AS12: =VLOOKUP(AS26,'TLIQ B0741 Full'!$A$3:$AC$948,17,TRUE) -> 70.709239 | AT12: =VLOOKUP(AT26,'TLIQ B0741 Full'!$A$3:$AC$948,18,TRUE) -> 67.330673 | AU12: =VLOOKUP(AU26,'TLIQ B0741 Full'!$A$3:$AC$948,20,TRUE) -> 57.817595 | AV12: =VLOOKUP(AV26,'TLIQ B0741 Full'!$A$3:$AC$948,21,TRUE) -> 19.036685 | AW12: =VLOOKUP(AW26,'TLIQ B0741 Full'!$A$3:$AC$948,22,TRUE) -> 0.32942708 | AX12: =VLOOKUP(AX26,'TLIQ B0741 Full'!$A$3:$AC$948,23,TRUE) -> 0.32942708 | AY12: =VLOOKUP(AY26,'TLIQ B0741 Full'!$A$3:$AC$948,24,TRUE) -> 0.32942708 | AZ12: =VLOOKUP(AZ26,'TLIQ B0741 Full'!$A$3:$AC$948,25,TRUE) -> 0.32942708 | BA12: =VLOOKUP(BA26,'TLIQ B0741 Full'!$A$3:$AC$948,26,TRUE) -> 0.32942708 | BB12: =VLOOKUP(BB26,'TLIQ B0741 Full'!$A$3:$AC$948,27,TRUE) -> 0.32942708 | BC12: =VLOOKUP(BC26,'TLIQ B0741 Full'!$A$3:$AC$948,28,TRUE) -> 0.32942708
A13: 100 | B13: 85 | C13: 85 | D13: 60 | E13: 60 | F13: 60 | G13: 60 | H13: 74 | I13: 82 | J13: 80 | K13: 80 | L13: 78.5 | M13: 79 | N13: 80 | O13: 83 | P13: 89 | Q13: 90 | R13: 85 | S13: 81 | T13: 20 | U13: 0 | V13: 0 | W13: 0 | X13: 0 | Y13: 0 | Z13: 0 | AA13: 0 | AC13: 100 | AD13: =VLOOKUP(AD27,'TLIQ B0741 Full'!$A$3:$AC$948,2,TRUE) -> 0 | AE13: =VLOOKUP(AE27,'TLIQ B0741 Full'!$A$3:$AC$948,3,TRUE) -> 9.9476902 | AF13: =VLOOKUP(AF27,'TLIQ B0741 Full'!$A$3:$AC$948,4,TRUE) -> 21.871603 | AG13: =VLOOKUP(AG27,'TLIQ B0741 Full'!$A$3:$AC$948,5,TRUE) -> 58.336957 | AH13: =VLOOKUP(AH27,'TLIQ B0741 Full'!$A$3:$AC$948,6,TRUE) -> 59.05231 | AI13: =VLOOKUP(AI27,'TLIQ B0741 Full'!$A$3:$AC$948,7,TRUE) -> 58.103091 | AJ13: =VLOOKUP(AJ27,'TLIQ B0741 Full'!$A$3:$AC$948,8,TRUE) -> 72.005435 | AK13: =VLOOKUP(AK27,'TLIQ B0741 Full'!$A$3:$AC$948,9,TRUE) -> 80.311156 | AL13: =VLOOKUP(AL27,'TLIQ B0741 Full'!$A$3:$AC$948,10,TRUE) -> 79.554099 | AM13: =VLOOKUP(AM27,'TLIQ B0741 Full'!$A$3:$AC$948,11,TRUE) -> 80.156586 | AN13: =VLOOKUP(AN27,'TLIQ B0741 Full'!$A$3:$AC$948,12,TRUE) -> 79.388105 | AO13: =VLOOKUP(AO27,'TLIQ B0741 Full'!$A$3:$AC$948,13,TRUE) -> 79.148017 | AP13: =VLOOKUP(AP27,'TLIQ B0741 Full'!$A$3:$AC$948,14,TRUE) -> 79.21119 | AQ13: =VLOOKUP(AQ27,'TLIQ B0741 Full'!$A$3:$AC$948,15,TRUE) -> 82.982863 | AR13: =VLOOKUP(AR27,'TLIQ B0741 Full'!$A$3:$AC$948,16,TRUE) -> 89.226983 | AS13: =VLOOKUP(AS27,'TLIQ B0741 Full'!$A$3:$AC$948,17,TRUE) -> 89.47295 | AT13: =VLOOKUP(AT27,'TLIQ B0741 Full'!$A$3:$AC$948,18,TRUE) -> 85.037298 | AU13: =VLOOKUP(AU27,'TLIQ B0741 Full'!$A$3:$AC$948,20,TRUE) -> 80.19786 | AV13: =VLOOKUP(AV27,'TLIQ B0741 Full'!$A$3:$AC$948,21,TRUE) -> 19.036685 | AW13: =VLOOKUP(AW27,'TLIQ B0741 Full'!$A$3:$AC$948,22,TRUE) -> 0.32942708 | AX13: =VLOOKUP(AX27,'TLIQ B0741 Full'!$A$3:$AC$948,23,TRUE) -> 0.32942708 | AY13: =VLOOKUP(AY27,'TLIQ B0741 Full'!$A$3:$AC$948,24,TRUE) -> 0.32942708 | AZ13: =VLOOKUP(AZ27,'TLIQ B0741 Full'!$A$3:$AC$948,25,TRUE) -> 0.32942708 | BA13: =VLOOKUP(BA27,'TLIQ B0741 Full'!$A$3:$AC$948,26,TRUE) -> 0.32942708 | BB13: =VLOOKUP(BB27,'TLIQ B0741 Full'!$A$3:$AC$948,27,TRUE) -> 0.32942708 | BC13: =VLOOKUP(BC27,'TLIQ B0741 Full'!$A$3:$AC$948,28,TRUE) -> 0.32942708
B14: copy and past your TBIQ into here [B0727] | AK14: ^FORMULAS - Don’t mess with^
B15: RPM | AC15: BT | AD15: RPM
A16: TPS | B16: 0 | C16: 200 | D16: 400 | E16: 600 | F16: 800 | G16: 1000 | H16: 1200 | I16: 1400 | J16: 1600 | K16: 1800 | L16: 2000 | M16: 2200 | N16: 2400 | O16: 2600 | P16: 2800 | Q16: 3000 | R16: 3100 | S16: 3250 | T16: 3400 | U16: 3600 | V16: 3800 | W16: 4000 | X16: 4200 | Y16: 4400 | Z16: 4600 | AA16: 4800 | AC16: MM3 | AD16: 0 | AE16: 200 | AF16: 400 | AG16: 600 | AH16: 800 | AI16: 1000 | AJ16: 1200 | AK16: 1400 | AL16: 1600 | AM16: 1800 | AN16: 2000 | AO16: 2200 | AP16: 2400 | AQ16: 2600 | AR16: 2800 | AS16: 3000 | AT16: 3100 | AU16: 3250 | AV16: 3400 | AW16: 3600 | AX16: 3800 | AY16: 4000 | AZ16: 4200 | BA16: 4400 | BB16: 4600 | BC16: 4800
A17: 0 | B17: =AD3-B3 -> 0 | C17: =AE3-C3 -> 1.0078125 | D17: =AF3-D3 -> 1.5705645 | E17: =AG3-E3 -> 1.9650538 | F17: =AH3-F3 -> 2.2163978 | G17: =AI3-G3 -> 2.6169355 | H17: =AJ3-H3 -> 2.7083333 | I17: =AK3-I3 -> 2.7217742 | ... AA17: =BC3-AA3 -> 0.32942708 | AC17: 0 | AD17: =VLOOKUP(B3,'Base Torque B1102 Full'!$A$3:$AC$103,2,TRUE) -> 0 | AE17: =VLOOKUP(C3,'Base Torque B1102 Full'!$A$3:$AC$103,3,TRUE) -> -14.023064 | AF17: =VLOOKUP(D3,'Base Torque B1102 Full'!$A$3:$AC$103,4,TRUE) -> -28.784184 | AG17: =VLOOKUP(E3,'Base Torque B1102 Full'!$A$3:$AC$103,5,TRUE) -> -42.807248 | AH17: =VLOOKUP(F3,'Base Torque B1102 Full'!$A$3:$AC$103,6,TRUE) -> -42.807248 | AI17: =VLOOKUP(G3,'Base Torque B1102 Full'!$A$3:$AC$103,7,TRUE) -> -44.28336 | AJ17: =VLOOKUP(H3,'Base Torque B1102 Full'!$A$3:$AC$103,8,TRUE) -> -45.759472 | AK17: =VLOOKUP(I3,'Base Torque B1102 Full'!$A$3:$AC$103,9,TRUE) -> -50.187808 | AL17: =VLOOKUP(J3,'Base Torque B1102 Full'!$A$3:$AC$103,10,TRUE) -> -55.3542 | AM17: =VLOOKUP(K3,'Base Torque B1102 Full'!$A$3:$AC$103,11,TRUE) -> -59.04448 | AN17: =VLOOKUP(L3,'Base Torque B1102 Full'!$A$3:$AC$103,12,TRUE) -> -63.472816 | AO17: =VLOOKUP(M3,'Base Torque B1102 Full'!$A$3:$AC$103,13,TRUE) -> -70.11532 | AP17: =VLOOKUP(N3,'Base Torque B1102 Full'!$A$3:$AC$103,14,TRUE) -> -76.757824 | AQ17: =VLOOKUP(O3,'Base Torque B1102 Full'!$A$3:$AC$103,15,TRUE) -> -83.400328 | AR17: =VLOOKUP(P3,'Base Torque B1102 Full'!$A$3:$AC$103,16,TRUE) -> -95.209224 | AS17: =VLOOKUP(Q3,'Base Torque B1102 Full'!$A$3:$AC$103,17,TRUE) -> -107.01812 | AT17: =VLOOKUP(R3,'Base Torque B1102 Full'!$A$3:$AC$103,18,TRUE) -> -110.7084 | AU17: =VLOOKUP(S3,'Base Torque B1102 Full'!$A$3:$AC$103,20,TRUE) -> -114.39868 | AV17: =VLOOKUP(T3,'Base Torque B1102 Full'!$A$3:$AC$103,21,TRUE) -> -114.39868 | AW17: =VLOOKUP(U3,'Base Torque B1102 Full'!$A$3:$AC$103,22,TRUE) -> -114.39868 | AX17: =VLOOKUP(V3,'Base Torque B1102 Full'!$A$3:$AC$103,23,TRUE) -> -114.39868 | AY17: =VLOOKUP(W3,'Base Torque B1102 Full'!$A$3:$AC$103,24,TRUE) -> -114.39868 | AZ17: =VLOOKUP(X3,'Base Torque B1102 Full'!$A$3:$AC$103,25,TRUE) -> -114.39868 | BA17: =VLOOKUP(Y3,'Base Torque B1102 Full'!$A$3:$AC$103,26,TRUE) -> -114.39868 | BB17: =VLOOKUP(Z3,'Base Torque B1102 Full'!$A$3:$AC$103,27,TRUE) -> -114.39868 | BC17: =VLOOKUP(AA3,'Base Torque B1102 Full'!$A$3:$AC$103,28,TRUE) -> -114.39868
A18: 10 | B18: =AD4-B4 -> -19.703125 | C18: =AE4-C4 -> -12.53125 | D18: =AF4-D4 -> -4.96875 | E18: =AG4-E4 -> 0.85546875 | F18: =AH4-F4 -> 1.446841 | G18: =AI4-G4 -> 0.84884511 | H18: =AJ4-H4 -> 0.67119565 | I18: =AK4-I4 -> -0.097146739 | ... AA18: =BC4-AA4 -> 0.32942708 | AC18: 10 | AD18: =VLOOKUP(B4,'Base Torque B1102 Full'!$A$3:$AC$103,2,TRUE) -> 0 | AE18: =VLOOKUP(C4,'Base Torque B1102 Full'!$A$3:$AC$103,3,TRUE) -> 30.096284 | AF18: =VLOOKUP(D4,'Base Torque B1102 Full'!$A$3:$AC$103,4,TRUE) -> 39.198974 | AG18: =VLOOKUP(E4,'Base Torque B1102 Full'!$A$3:$AC$103,5,TRUE) -> 51.66392 | AH18: =VLOOKUP(F4,'Base Torque B1102 Full'!$A$3:$AC$103,6,TRUE) -> 39.855024 | AI18: =VLOOKUP(G4,'Base Torque B1102 Full'!$A$3:$AC$103,7,TRUE) -> 19.353468 | AJ18: =VLOOKUP(H4,'Base Torque B1102 Full'!$A$3:$AC$103,8,TRUE) -> 10.496796 | AK18: =VLOOKUP(I4,'Base Torque B1102 Full'!$A$3:$AC$103,9,TRUE) -> -7.1345413 | AL18: =VLOOKUP(J4,'Base Torque B1102 Full'!$A$3:$AC$103,10,TRUE) -> -24.355848 | AM18: =VLOOKUP(K4,'Base Torque B1102 Full'!$A$3:$AC$103,11,TRUE) -> -41.823173 | AN18: =VLOOKUP(L4,'Base Torque B1102 Full'!$A$3:$AC$103,12,TRUE) -> -63.472816 | AO18: =VLOOKUP(M4,'Base Torque B1102 Full'!$A$3:$AC$103,13,TRUE) -> -70.11532 | AP18: =VLOOKUP(N4,'Base Torque B1102 Full'!$A$3:$AC$103,14,TRUE) -> -76.757824 | AQ18: =VLOOKUP(O4,'Base Torque B1102 Full'!$A$3:$AC$103,15,TRUE) -> -83.400328 | AR18: =VLOOKUP(P4,'Base Torque B1102 Full'!$A$3:$AC$103,16,TRUE) -> -95.209224 | AS18: =VLOOKUP(Q4,'Base Torque B1102 Full'!$A$3:$AC$103,17,TRUE) -> -107.01812 | AT18: =VLOOKUP(R4,'Base Torque B1102 Full'!$A$3:$AC$103,18,TRUE) -> -110.7084 | AU18: =VLOOKUP(S4,'Base Torque B1102 Full'!$A$3:$AC$103,20,TRUE) -> -114.39868 | AV18: =VLOOKUP(T4,'Base Torque B1102 Full'!$A$3:$AC$103,21,TRUE) -> -114.39868 | AW18: =VLOOKUP(U4,'Base Torque B1102 Full'!$A$3:$AC$103,22,TRUE) -> -114.39868 | AX18: =VLOOKUP(V4,'Base Torque B1102 Full'!$A$3:$AC$103,23,TRUE) -> -114.39868 | AY18: =VLOOKUP(W4,'Base Torque B1102 Full'!$A$3:$AC$103,24,TRUE) -> -114.39868 | AZ18: =VLOOKUP(X4,'Base Torque B1102 Full'!$A$3:$AC$103,25,TRUE) -> -114.39868 | BA18: =VLOOKUP(Y4,'Base Torque B1102 Full'!$A$3:$AC$103,26,TRUE) -> -114.39868 | BB18: =VLOOKUP(Z4,'Base Torque B1102 Full'!$A$3:$AC$103,27,TRUE) -> -114.39868 | BC18: =VLOOKUP(AA4,'Base Torque B1102 Full'!$A$3:$AC$103,28,TRUE) -> -114.39868
A19: 20 | B19: =AD5-B5 -> -29 | C19: =AE5-C5 -> -18.851562 | D19: =AF5-D5 -> -9.7576014 | E19: =AG5-E5 -> -0.17004505 | F19: =AH5-F5 -> 0.22663288 | G19: =AI5-G5 -> 0.11956522 | H19: =AJ5-H5 -> 0.29076087 | I19: =AK5-I5 -> 0.12296196 | ... AA19: =BC5-AA5 -> 0.32942708 | AC19: 20 | AD19: =VLOOKUP(B5,'Base Torque B1102 Full'!$A$3:$AC$103,2,TRUE) -> 0 | AE19: =VLOOKUP(C5,'Base Torque B1102 Full'!$A$3:$AC$103,3,TRUE) -> 45.677466 | AF19: =VLOOKUP(D5,'Base Torque B1102 Full'!$A$3:$AC$103,4,TRUE) -> 81.18616 | AG19: =VLOOKUP(E5,'Base Torque B1102 Full'!$A$3:$AC$103,5,TRUE) -> 106.19806 | AH19: =VLOOKUP(F5,'Base Torque B1102 Full'!$A$3:$AC$103,6,TRUE) -> 85.614496 | AI19: =VLOOKUP(G5,'Base Torque B1102 Full'!$A$3:$AC$103,7,TRUE) -> 56.502287 | AJ19: =VLOOKUP(H5,'Base Torque B1102 Full'!$A$3:$AC$103,8,TRUE) -> 50.433827 | AK19: =VLOOKUP(I5,'Base Torque B1102 Full'!$A$3:$AC$103,9,TRUE) -> 34.278601 | AL19: =VLOOKUP(J5,'Base Torque B1102 Full'!$A$3:$AC$103,10,TRUE) -> 37.640856 | AM19: =VLOOKUP(K5,'Base Torque B1102 Full'!$A$3:$AC$103,11,TRUE) -> 18.4514 | AN19: =VLOOKUP(L5,'Base Torque B1102 Full'!$A$3:$AC$103,12,TRUE) -> -7.7085849 | AO19: =VLOOKUP(M5,'Base Torque B1102 Full'!$A$3:$AC$103,13,TRUE) -> -25.339923 | AP19: =VLOOKUP(N5,'Base Torque B1102 Full'!$A$3:$AC$103,14,TRUE) -> -45.59546 | AQ19: =VLOOKUP(O5,'Base Torque B1102 Full'!$A$3:$AC$103,15,TRUE) -> -63.226797 | AR19: =VLOOKUP(P5,'Base Torque B1102 Full'!$A$3:$AC$103,16,TRUE) -> -95.209224 | AS19: =VLOOKUP(Q5,'Base Torque B1102 Full'!$A$3:$AC$103,17,TRUE) -> -107.01812 | AT19: =VLOOKUP(R5,'Base Torque B1102 Full'!$A$3:$AC$103,18,TRUE) -> -110.7084 | AU19: =VLOOKUP(S5,'Base Torque B1102 Full'!$A$3:$AC$103,20,TRUE) -> -114.39868 | AV19: =VLOOKUP(T5,'Base Torque B1102 Full'!$A$3:$AC$103,21,TRUE) -> -114.39868 | AW19: =VLOOKUP(U5,'Base Torque B1102 Full'!$A$3:$AC$103,22,TRUE) -> -114.39868 | AX19: =VLOOKUP(V5,'Base Torque B1102 Full'!$A$3:$AC$103,23,TRUE) -> -114.39868 | AY19: =VLOOKUP(W5,'Base Torque B1102 Full'!$A$3:$AC$103,24,TRUE) -> -114.39868 | AZ19: =VLOOKUP(X5,'Base Torque B1102 Full'!$A$3:$AC$103,25,TRUE) -> -114.39868 | BA19: =VLOOKUP(Y5,'Base Torque B1102 Full'!$A$3:$AC$103,26,TRUE) -> -114.39868 | BB19: =VLOOKUP(Z5,'Base Torque B1102 Full'!$A$3:$AC$103,27,TRUE) -> -114.39868 | BC19: =VLOOKUP(AA5,'Base Torque B1102 Full'!$A$3:$AC$103,28,TRUE) -> -114.39868
A20: 30 | B20: =AD6-B6 -> -40 | C20: =AE6-C6 -> -28.34375 | D20: =AF6-D6 -> -14.71875 | E20: =AG6-E6 -> -1.2021396 | F20: =AH6-F6 -> -1.6154279 | G20: =AI6-G6 -> -0.87654842 | H20: =AJ6-H6 -> 0.11359797 | I20: =AK6-I6 -> 0.10810811 | ... AA20: =BC6-AA6 -> 0.32942708 | AC20: 30 | AD20: =VLOOKUP(B6,'Base Torque B1102 Full'!$A$3:$AC$103,2,TRUE) -> 0 | AE20: =VLOOKUP(C6,'Base Torque B1102 Full'!$A$3:$AC$103,3,TRUE) -> 68.065164 | AF20: =VLOOKUP(D6,'Base Torque B1102 Full'!$A$3:$AC$103,4,TRUE) -> 111.20044 | AG20: =VLOOKUP(E6,'Base Torque B1102 Full'!$A$3:$AC$103,5,TRUE) -> 151.95753 | AH20: =VLOOKUP(F6,'Base Torque B1102 Full'!$A$3:$AC$103,6,TRUE) -> 127.35566 | AI20: =VLOOKUP(G6,'Base Torque B1102 Full'!$A$3:$AC$103,7,TRUE) -> 102.67179 | AJ20: =VLOOKUP(H6,'Base Torque B1102 Full'!$A$3:$AC$103,8,TRUE) -> 98.161448 | AK20: =VLOOKUP(I6,'Base Torque B1102 Full'!$A$3:$AC$103,9,TRUE) -> 83.072303 | AL20: =VLOOKUP(J6,'Base Torque B1102 Full'!$A$3:$AC$103,10,TRUE) -> 70.361339 | AM20: =VLOOKUP(K6,'Base Torque B1102 Full'!$A$3:$AC$103,11,TRUE) -> 54.370125 | AN20: =VLOOKUP(L6,'Base Torque B1102 Full'!$A$3:$AC$103,12,TRUE) -> 36.164744 | AO20: =VLOOKUP(M6,'Base Torque B1102 Full'!$A$3:$AC$103,13,TRUE) -> 14.679114 | AP20: =VLOOKUP(N6,'Base Torque B1102 Full'!$A$3:$AC$103,14,TRUE) -> 1.476112 | AQ20: =VLOOKUP(O6,'Base Torque B1102 Full'!$A$3:$AC$103,15,TRUE) -> -16.237232 | AR20: =VLOOKUP(P6,'Base Torque B1102 Full'!$A$3:$AC$103,16,TRUE) -> -38.378912 | AS20: =VLOOKUP(Q6,'Base Torque B1102 Full'!$A$3:$AC$103,17,TRUE) -> -50.925864 | AT20: =VLOOKUP(R6,'Base Torque B1102 Full'!$A$3:$AC$103,18,TRUE) -> -66.794068 | AU20: =VLOOKUP(S6,'Base Torque B1102 Full'!$A$3:$AC$103,20,TRUE) -> -89.140764 | AV20: =VLOOKUP(T6,'Base Torque B1102 Full'!$A$3:$AC$103,21,TRUE) -> -101.76972 | AW20: =VLOOKUP(U6,'Base Torque B1102 Full'!$A$3:$AC$103,22,TRUE) -> -114.39868 | AX20: =VLOOKUP(V6,'Base Torque B1102 Full'!$A$3:$AC$103,23,TRUE) -> -114.39868 | AY20: =VLOOKUP(W6,'Base Torque B1102 Full'!$A$3:$AC$103,24,TRUE) -> -114.39868 | AZ20: =VLOOKUP(X6,'Base Torque B1102 Full'!$A$3:$AC$103,25,TRUE) -> -114.39868 | BA20: =VLOOKUP(Y6,'Base Torque B1102 Full'!$A$3:$AC$103,26,TRUE) -> -114.39868 | BB20: =VLOOKUP(Z6,'Base Torque B1102 Full'!$A$3:$AC$103,27,TRUE) -> -114.39868 | BC20: =VLOOKUP(AA6,'Base Torque B1102 Full'!$A$3:$AC$103,28,TRUE) -> -114.39868
A21: 40 | B21: =AD7-B7 -> -56.90625 | C21: =AE7-C7 -> -40.780828 | D21: =AF7-D7 -> -20.621622 | E21: =AG7-E7 -> -2.423913 | F21: =AH7-F7 -> -2.1120924 | G21: =AI7-G7 -> -1.5315315 | H21: =AJ7-H7 -> -1.0837556 | I21: =AK7-I7 -> -0.79560811 | ... AA21: =BC7-AA7 -> 0.32942708 | AC21: 40 | AD21: =VLOOKUP(B7,'Base Torque B1102 Full'!$A$3:$AC$103,2,TRUE) -> 0 | AE21: =VLOOKUP(C7,'Base Torque B1102 Full'!$A$3:$AC$103,3,TRUE) -> 92.010981 | AF21: =VLOOKUP(D7,'Base Torque B1102 Full'!$A$3:$AC$103,4,TRUE) -> 149.98938 | AG21: =VLOOKUP(E7,'Base Torque B1102 Full'!$A$3:$AC$103,5,TRUE) -> 203.78546 | AH21: =VLOOKUP(F7,'Base Torque B1102 Full'!$A$3:$AC$103,6,TRUE) -> 193.37067 | AI21: =VLOOKUP(G7,'Base Torque B1102 Full'!$A$3:$AC$103,7,TRUE) -> 180.08566 | AJ21: =VLOOKUP(H7,'Base Torque B1102 Full'!$A$3:$AC$103,8,TRUE) -> 153.92568 | AK21: =VLOOKUP(I7,'Base Torque B1102 Full'!$A$3:$AC$103,9,TRUE) -> 139.41058 | AL21: =VLOOKUP(J7,'Base Torque B1102 Full'!$A$3:$AC$103,10,TRUE) -> 122.76331 | AM21: =VLOOKUP(K7,'Base Torque B1102 Full'!$A$3:$AC$103,11,TRUE) -> 113.98865 | AN21: =VLOOKUP(L7,'Base Torque B1102 Full'!$A$3:$AC$103,12,TRUE) -> 89.960826 | AO21: =VLOOKUP(M7,'Base Torque B1102 Full'!$A$3:$AC$103,13,TRUE) -> 61.750685 | AP21: =VLOOKUP(N7,'Base Torque B1102 Full'!$A$3:$AC$103,14,TRUE) -> 45.759472 | AQ21: =VLOOKUP(O7,'Base Torque B1102 Full'!$A$3:$AC$103,15,TRUE) -> 36.9028 | AR21: =VLOOKUP(P7,'Base Torque B1102 Full'!$A$3:$AC$103,16,TRUE) -> 18.697419 | AS21: =VLOOKUP(Q7,'Base Torque B1102 Full'!$A$3:$AC$103,17,TRUE) -> -13.531027 | AT21: =VLOOKUP(R7,'Base Torque B1102 Full'!$A$3:$AC$103,18,TRUE) -> -37.025809 | AU21: =VLOOKUP(S7,'Base Torque B1102 Full'!$A$3:$AC$103,20,TRUE) -> -57.568368 | AV21: =VLOOKUP(T7,'Base Torque B1102 Full'!$A$3:$AC$103,21,TRUE) -> -89.140764 | AW21: =VLOOKUP(U7,'Base Torque B1102 Full'!$A$3:$AC$103,22,TRUE) -> -114.39868 | AX21: =VLOOKUP(V7,'Base Torque B1102 Full'!$A$3:$AC$103,23,TRUE) -> -114.39868 | AY21: =VLOOKUP(W7,'Base Torque B1102 Full'!$A$3:$AC$103,24,TRUE) -> -114.39868 | AZ21: =VLOOKUP(X7,'Base Torque B1102 Full'!$A$3:$AC$103,25,TRUE) -> -114.39868 | BA21: =VLOOKUP(Y7,'Base Torque B1102 Full'!$A$3:$AC$103,26,TRUE) -> -114.39868 | BB21: =VLOOKUP(Z7,'Base Torque B1102 Full'!$A$3:$AC$103,27,TRUE) -> -114.39868 | BC21: =VLOOKUP(AA7,'Base Torque B1102 Full'!$A$3:$AC$103,28,TRUE) -> -114.39868
A22: 50 | B22: =AD8-B8 -> -85 | C22: =AE8-C8 -> -75.05231 | D22: =AF8-D8 -> -29.570652 | E22: =AG8-E8 -> -2.014606 | F22: =AH8-F8 -> -2.3561481 | G22: =AI8-G8 -> -2.0346467 | H22: =AJ8-H8 -> -1.6480978 | I22: =AK8-I8 -> -1.7595109 | ... AA22: =BC8-AA8 -> 0.32942708 | AC22: 50 | AD22: =VLOOKUP(B8,'Base Torque B1102 Full'!$A$3:$AC$103,2,TRUE) -> 0 | AE22: =VLOOKUP(C8,'Base Torque B1102 Full'!$A$3:$AC$103,3,TRUE) -> 201.32528 | AF22: =VLOOKUP(D8,'Base Torque B1102 Full'!$A$3:$AC$103,4,TRUE) -> 186.81017 | AG22: =VLOOKUP(E8,'Base Torque B1102 Full'!$A$3:$AC$103,5,TRUE) -> 268.8984 | AH22: =VLOOKUP(F8,'Base Torque B1102 Full'!$A$3:$AC$103,6,TRUE) -> 256.51546 | AI22: =VLOOKUP(G8,'Base Torque B1102 Full'!$A$3:$AC$103,7,TRUE) -> 259.05766 | AJ22: =VLOOKUP(H8,'Base Torque B1102 Full'!$A$3:$AC$103,8,TRUE) -> 239.13014 | AK22: =VLOOKUP(I8,'Base Torque B1102 Full'!$A$3:$AC$103,9,TRUE) -> 221.74482 | AL22: =VLOOKUP(J8,'Base Torque B1102 Full'!$A$3:$AC$103,10,TRUE) -> 218.71059 | AM22: =VLOOKUP(K8,'Base Torque B1102 Full'!$A$3:$AC$103,11,TRUE) -> 212.80615 | AN22: =VLOOKUP(L8,'Base Torque B1102 Full'!$A$3:$AC$103,12,TRUE) -> 209.03386 | AO22: =VLOOKUP(M8,'Base Torque B1102 Full'!$A$3:$AC$103,13,TRUE) -> 185.49807 | AP22: =VLOOKUP(N8,'Base Torque B1102 Full'!$A$3:$AC$103,14,TRUE) -> 197.14296 | AQ22: =VLOOKUP(O8,'Base Torque B1102 Full'!$A$3:$AC$103,15,TRUE) -> 179.34761 | AR22: =VLOOKUP(P8,'Base Torque B1102 Full'!$A$3:$AC$103,16,TRUE) -> 150.48142 | AS22: =VLOOKUP(Q8,'Base Torque B1102 Full'!$A$3:$AC$103,17,TRUE) -> 83.072303 | AT22: =VLOOKUP(R8,'Base Torque B1102 Full'!$A$3:$AC$103,18,TRUE) -> 12.874977 | AU22: =VLOOKUP(S8,'Base Torque B1102 Full'!$A$3:$AC$103,20,TRUE) -> -26.077979 | AV22: =VLOOKUP(T8,'Base Torque B1102 Full'!$A$3:$AC$103,21,TRUE) -> -63.882847 | AW22: =VLOOKUP(U8,'Base Torque B1102 Full'!$A$3:$AC$103,22,TRUE) -> -114.39868 | AX22: =VLOOKUP(V8,'Base Torque B1102 Full'!$A$3:$AC$103,23,TRUE) -> -114.39868 | AY22: =VLOOKUP(W8,'Base Torque B1102 Full'!$A$3:$AC$103,24,TRUE) -> -114.39868 | AZ22: =VLOOKUP(X8,'Base Torque B1102 Full'!$A$3:$AC$103,25,TRUE) -> -114.39868 | BA22: =VLOOKUP(Y8,'Base Torque B1102 Full'!$A$3:$AC$103,26,TRUE) -> -114.39868 | BB22: =VLOOKUP(Z8,'Base Torque B1102 Full'!$A$3:$AC$103,27,TRUE) -> -114.39868 | BC22: =VLOOKUP(AA8,'Base Torque B1102 Full'!$A$3:$AC$103,28,TRUE) -> -114.39868
A23: 60 | B23: =AD9-B9 -> -85 | C23: =AE9-C9 -> -75.05231 | D23: =AF9-D9 -> -35.383152 | E23: =AG9-E9 -> -2.9313859 | F23: =AH9-F9 -> 0.46399457 | G23: =AI9-G9 -> -1.2770041 | H23: =AJ9-H9 -> 0.36277174 | I23: =AK9-I9 -> 1.2588315 | ... AA23: =BC9-AA9 -> 0.32942708 | AC23: 60 | AD23: =VLOOKUP(B9,'Base Torque B1102 Full'!$A$3:$AC$103,2,TRUE) -> 0 | AE23: =VLOOKUP(C9,'Base Torque B1102 Full'!$A$3:$AC$103,3,TRUE) -> 201.32528 | AF23: =VLOOKUP(D9,'Base Torque B1102 Full'!$A$3:$AC$103,4,TRUE) -> 209.6079 | AG23: =VLOOKUP(E9,'Base Torque B1102 Full'!$A$3:$AC$103,5,TRUE) -> 301.61889 | AH23: =VLOOKUP(F9,'Base Torque B1102 Full'!$A$3:$AC$103,6,TRUE) -> 319.41424 | AI23: =VLOOKUP(G9,'Base Torque B1102 Full'!$A$3:$AC$103,7,TRUE) -> 324.33461 | AJ23: =VLOOKUP(H9,'Base Torque B1102 Full'!$A$3:$AC$103,8,TRUE) -> 329.17298 | AK23: =VLOOKUP(I9,'Base Torque B1102 Full'!$A$3:$AC$103,9,TRUE) -> 333.60131 | AL23: =VLOOKUP(J9,'Base Torque B1102 Full'!$A$3:$AC$103,10,TRUE) -> 325.5647 | AM23: =VLOOKUP(K9,'Base Torque B1102 Full'!$A$3:$AC$103,11,TRUE) -> 317.93812 | AN23: =VLOOKUP(L9,'Base Torque B1102 Full'!$A$3:$AC$103,12,TRUE) -> 300.06077 | AO23: =VLOOKUP(M9,'Base Torque B1102 Full'!$A$3:$AC$103,13,TRUE) -> 271.27658 | AP23: =VLOOKUP(N9,'Base Torque B1102 Full'!$A$3:$AC$103,14,TRUE) -> 277.75507 | AQ23: =VLOOKUP(O9,'Base Torque B1102 Full'!$A$3:$AC$103,15,TRUE) -> 262.74794 | AR23: =VLOOKUP(P9,'Base Torque B1102 Full'!$A$3:$AC$103,16,TRUE) -> 237.65403 | AS23: =VLOOKUP(Q9,'Base Torque B1102 Full'!$A$3:$AC$103,17,TRUE) -> 171.72103 | AT23: =VLOOKUP(R9,'Base Torque B1102 Full'!$A$3:$AC$103,18,TRUE) -> 105.62401 | AU23: =VLOOKUP(S9,'Base Torque B1102 Full'!$A$3:$AC$103,20,TRUE) -> -10.332784 | AV23: =VLOOKUP(T9,'Base Torque B1102 Full'!$A$3:$AC$103,21,TRUE) -> -57.568368 | AW23: =VLOOKUP(U9,'Base Torque B1102 Full'!$A$3:$AC$103,22,TRUE) -> -114.39868 | AX23: =VLOOKUP(V9,'Base Torque B1102 Full'!$A$3:$AC$103,23,TRUE) -> -114.39868 | AY23: =VLOOKUP(W9,'Base Torque B1102 Full'!$A$3:$AC$103,24,TRUE) -> -114.39868 | AZ23: =VLOOKUP(X9,'Base Torque B1102 Full'!$A$3:$AC$103,25,TRUE) -> -114.39868 | BA23: =VLOOKUP(Y9,'Base Torque B1102 Full'!$A$3:$AC$103,26,TRUE) -> -114.39868 | BB23: =VLOOKUP(Z9,'Base Torque B1102 Full'!$A$3:$AC$103,27,TRUE) -> -114.39868 | BC23: =VLOOKUP(AA9,'Base Torque B1102 Full'!$A$3:$AC$103,28,TRUE) -> -114.39868
A24: 70 | B24: =AD10-B10 -> -85 | C24: =AE10-C10 -> -75.05231 | D24: =AF10-D10 -> -38.128397 | E24: =AG10-E10 -> -1.6630435 | F24: =AH10-F10 -> -0.94769022 | G24: =AI10-G10 -> -1.896909 | H24: =AJ10-H10 -> -2.2252038 | I24: =AK10-I10 -> -2.1071671 | ... AA24: =BC10-AA10 -> 0.32942708 | AC24: 70 | AD24: =VLOOKUP(B10,'Base Torque B1102 Full'!$A$3:$AC$103,2,TRUE) -> 0 | AE24: =VLOOKUP(C10,'Base Torque B1102 Full'!$A$3:$AC$103,3,TRUE) -> 201.32528 | AF24: =VLOOKUP(D10,'Base Torque B1102 Full'!$A$3:$AC$103,4,TRUE) -> 218.46458 | AG24: =VLOOKUP(E10,'Base Torque B1102 Full'!$A$3:$AC$103,5,TRUE) -> 327.69686 | AH24: =VLOOKUP(F10,'Base Torque B1102 Full'!$A$3:$AC$103,6,TRUE) -> 344.67215 | AI24: =VLOOKUP(G10,'Base Torque B1102 Full'!$A$3:$AC$103,7,TRUE) -> 362.3855 | AJ24: =VLOOKUP(H10,'Base Torque B1102 Full'!$A$3:$AC$103,8,TRUE) -> 370.50411 | AK24: =VLOOKUP(I10,'Base Torque B1102 Full'!$A$3:$AC$103,9,TRUE) -> 378.62273 | AL24: =VLOOKUP(J10,'Base Torque B1102 Full'!$A$3:$AC$103,10,TRUE) -> 399.2883 | AM24: =VLOOKUP(K10,'Base Torque B1102 Full'!$A$3:$AC$103,11,TRUE) -> 395.02397 | AN24: =VLOOKUP(L10,'Base Torque B1102 Full'!$A$3:$AC$103,12,TRUE) -> 391.00567 | AO24: =VLOOKUP(M10,'Base Torque B1102 Full'!$A$3:$AC$103,13,TRUE) -> 377.14662 | AP24: =VLOOKUP(N10,'Base Torque B1102 Full'!$A$3:$AC$103,14,TRUE) -> 349.42851 | AQ24: =VLOOKUP(O10,'Base Torque B1102 Full'!$A$3:$AC$103,15,TRUE) -> 327.20483 | AR24: =VLOOKUP(P10,'Base Torque B1102 Full'!$A$3:$AC$103,16,TRUE) -> 301.45487 | AS24: =VLOOKUP(Q10,'Base Torque B1102 Full'!$A$3:$AC$103,17,TRUE) -> 271.60461 | AT24: =VLOOKUP(R10,'Base Torque B1102 Full'!$A$3:$AC$103,18,TRUE) -> 217.35749 | AU24: =VLOOKUP(S10,'Base Torque B1102 Full'!$A$3:$AC$103,20,TRUE) -> 97.013361 | AV24: =VLOOKUP(T10,'Base Torque B1102 Full'!$A$3:$AC$103,21,TRUE) -> -47.071572 | AW24: =VLOOKUP(U10,'Base Torque B1102 Full'!$A$3:$AC$103,22,TRUE) -> -114.39868 | AX24: =VLOOKUP(V10,'Base Torque B1102 Full'!$A$3:$AC$103,23,TRUE) -> -114.39868 | AY24: =VLOOKUP(W10,'Base Torque B1102 Full'!$A$3:$AC$103,24,TRUE) -> -114.39868 | AZ24: =VLOOKUP(X10,'Base Torque B1102 Full'!$A$3:$AC$103,25,TRUE) -> -114.39868 | BA24: =VLOOKUP(Y10,'Base Torque B1102 Full'!$A$3:$AC$103,26,TRUE) -> -114.39868 | BB24: =VLOOKUP(Z10,'Base Torque B1102 Full'!$A$3:$AC$103,27,TRUE) -> -114.39868 | BC24: =VLOOKUP(AA10,'Base Torque B1102 Full'!$A$3:$AC$103,28,TRUE) -> -114.39868
A25: 80 | B25: =AD11-B11 -> -85 | C25: =AE11-C11 -> -75.05231 | D25: =AF11-D11 -> -38.128397 | E25: =AG11-E11 -> -1.6630435 | F25: =AH11-F11 -> -0.94769022 | G25: =AI11-G11 -> -1.896909 | H25: =AJ11-H11 -> -2.0275136 | I25: =AK11-I11 -> -0.89130435 | ... AA25: =BC11-AA11 -> 0.32942708 | AC25: 80 | AD25: =VLOOKUP(B11,'Base Torque B1102 Full'!$A$3:$AC$103,2,TRUE) -> 0 | AE25: =VLOOKUP(C11,'Base Torque B1102 Full'!$A$3:$AC$103,3,TRUE) -> 201.32528 | AF25: =VLOOKUP(D11,'Base Torque B1102 Full'!$A$3:$AC$103,4,TRUE) -> 218.46458 | AG25: =VLOOKUP(E11,'Base Torque B1102 Full'!$A$3:$AC$103,5,TRUE) -> 327.69686 | AH25: =VLOOKUP(F11,'Base Torque B1102 Full'!$A$3:$AC$103,6,TRUE) -> 344.67215 | AI25: =VLOOKUP(G11,'Base Torque B1102 Full'!$A$3:$AC$103,7,TRUE) -> 362.3855 | AJ25: =VLOOKUP(H11,'Base Torque B1102 Full'!$A$3:$AC$103,8,TRUE) -> 412.16327 | AK25: =VLOOKUP(I11,'Base Torque B1102 Full'!$A$3:$AC$103,9,TRUE) -> 437.33918 | AL25: =VLOOKUP(J11,'Base Torque B1102 Full'!$A$3:$AC$103,10,TRUE) -> 453.90444 | AM25: =VLOOKUP(K11,'Base Torque B1102 Full'!$A$3:$AC$103,11,TRUE) -> 465.71334 | AN25: =VLOOKUP(L11,'Base Torque B1102 Full'!$A$3:$AC$103,12,TRUE) -> 469.56763 | AO25: =VLOOKUP(M11,'Base Torque B1102 Full'!$A$3:$AC$103,13,TRUE) -> 458.74281 | AP25: =VLOOKUP(N11,'Base Torque B1102 Full'!$A$3:$AC$103,14,TRUE) -> 427.33442 | AQ25: =VLOOKUP(O11,'Base Torque B1102 Full'!$A$3:$AC$103,15,TRUE) -> 401.66648 | AR25: =VLOOKUP(P11,'Base Torque B1102 Full'!$A$3:$AC$103,16,TRUE) -> 362.3855 | AS25: =VLOOKUP(Q11,'Base Torque B1102 Full'!$A$3:$AC$103,17,TRUE) -> 329.17298 | AT25: =VLOOKUP(R11,'Base Torque B1102 Full'!$A$3:$AC$103,18,TRUE) -> 290.79406 | AU25: =VLOOKUP(S11,'Base Torque B1102 Full'!$A$3:$AC$103,20,TRUE) -> 221.33479 | AV25: =VLOOKUP(T11,'Base Torque B1102 Full'!$A$3:$AC$103,21,TRUE) -> -26.077979 | AW25: =VLOOKUP(U11,'Base Torque B1102 Full'!$A$3:$AC$103,22,TRUE) -> -114.39868 | AX25: =VLOOKUP(V11,'Base Torque B1102 Full'!$A$3:$AC$103,23,TRUE) -> -114.39868 | AY25: =VLOOKUP(W11,'Base Torque B1102 Full'!$A$3:$AC$103,24,TRUE) -> -114.39868 | AZ25: =VLOOKUP(X11,'Base Torque B1102 Full'!$A$3:$AC$103,25,TRUE) -> -114.39868 | BA25: =VLOOKUP(Y11,'Base Torque B1102 Full'!$A$3:$AC$103,26,TRUE) -> -114.39868 | BB25: =VLOOKUP(Z11,'Base Torque B1102 Full'!$A$3:$AC$103,27,TRUE) -> -114.39868 | BC25: =VLOOKUP(AA11,'Base Torque B1102 Full'!$A$3:$AC$103,28,TRUE) -> -114.39868
A26: 90 | B26: =AD12-B12 -> -85 | C26: =AE12-C12 -> -75.05231 | D26: =AF12-D12 -> -38.128397 | E26: =AG12-E12 -> -1.6630435 | F26: =AH12-F12 -> -0.94769022 | G26: =AI12-G12 -> -1.896909 | H26: =AJ12-H12 -> -1.9945652 | I26: =AK12-I12 -> -1.6888441 | ... AA26: =BC12-AA12 -> 0.32942708 | AC26: 90 | AD26: =VLOOKUP(B12,'Base Torque B1102 Full'!$A$3:$AC$103,2,TRUE) -> 0 | AE26: =VLOOKUP(C12,'Base Torque B1102 Full'!$A$3:$AC$103,3,TRUE) -> 201.32528 | AF26: =VLOOKUP(D12,'Base Torque B1102 Full'!$A$3:$AC$103,4,TRUE) -> 218.46458 | AG26: =VLOOKUP(E12,'Base Torque B1102 Full'!$A$3:$AC$103,5,TRUE) -> 327.69686 | AH26: =VLOOKUP(F12,'Base Torque B1102 Full'!$A$3:$AC$103,6,TRUE) -> 344.67215 | AI26: =VLOOKUP(G12,'Base Torque B1102 Full'!$A$3:$AC$103,7,TRUE) -> 362.3855 | AJ26: =VLOOKUP(H12,'Base Torque B1102 Full'!$A$3:$AC$103,8,TRUE) -> 419.87186 | AK26: =VLOOKUP(I12,'Base Torque B1102 Full'!$A$3:$AC$103,9,TRUE) -> 478.67032 | AL26: =VLOOKUP(J12,'Base Torque B1102 Full'!$A$3:$AC$103,10,TRUE) -> 504.8303 | AM26: =VLOOKUP(K12,'Base Torque B1102 Full'!$A$3:$AC$103,11,TRUE) -> 520.32948 | AN26: =VLOOKUP(L12,'Base Torque B1102 Full'!$A$3:$AC$103,12,TRUE) -> 529.35016 | AO26: =VLOOKUP(M12,'Base Torque B1102 Full'!$A$3:$AC$103,13,TRUE) -> 531.40032 | AP26: =VLOOKUP(N12,'Base Torque B1102 Full'!$A$3:$AC$103,14,TRUE) -> 507.53651 | AQ26: =VLOOKUP(O12,'Base Torque B1102 Full'!$A$3:$AC$103,15,TRUE) -> 469.07559 | AR26: =VLOOKUP(P12,'Base Torque B1102 Full'!$A$3:$AC$103,16,TRUE) -> 430.04063 | AS26: =VLOOKUP(Q12,'Base Torque B1102 Full'!$A$3:$AC$103,17,TRUE) -> 401.58447 | AT26: =VLOOKUP(R12,'Base Torque B1102 Full'!$A$3:$AC$103,18,TRUE) -> 376.61358 | AU26: =VLOOKUP(S12,'Base Torque B1102 Full'!$A$3:$AC$103,20,TRUE) -> 315.14991 | AV26: =VLOOKUP(T12,'Base Torque B1102 Full'!$A$3:$AC$103,21,TRUE) -> -10.332784 | AW26: =VLOOKUP(U12,'Base Torque B1102 Full'!$A$3:$AC$103,22,TRUE) -> -114.39868 | AX26: =VLOOKUP(V12,'Base Torque B1102 Full'!$A$3:$AC$103,23,TRUE) -> -114.39868 | AY26: =VLOOKUP(W12,'Base Torque B1102 Full'!$A$3:$AC$103,24,TRUE) -> -114.39868 | AZ26: =VLOOKUP(X12,'Base Torque B1102 Full'!$A$3:$AC$103,25,TRUE) -> -114.39868 | BA26: =VLOOKUP(Y12,'Base Torque B1102 Full'!$A$3:$AC$103,26,TRUE) -> -114.39868 | BB26: =VLOOKUP(Z12,'Base Torque B1102 Full'!$A$3:$AC$103,27,TRUE) -> -114.39868 | BC26: =VLOOKUP(AA12,'Base Torque B1102 Full'!$A$3:$AC$103,28,TRUE) -> -114.39868
A27: 100 | B27: =AD13-B13 -> -85 | C27: =AE13-C13 -> -75.05231 | D27: =AF13-D13 -> -38.128397 | E27: =AG13-E13 -> -1.6630435 | F27: =AH13-F13 -> -0.94769022 | G27: =AI13-G13 -> -1.896909 | H27: =AJ13-H13 -> -1.9945652 | I27: =AK13-I13 -> -1.6888441 | ... AA27: =BC13-AA13 -> 0.32942708 | AC27: 100 | AD27: =VLOOKUP(B13,'Base Torque B1102 Full'!$A$3:$AC$103,2,TRUE) -> 0 | AE27: =VLOOKUP(C13,'Base Torque B1102 Full'!$A$3:$AC$103,3,TRUE) -> 201.32528 | AF27: =VLOOKUP(D13,'Base Torque B1102 Full'!$A$3:$AC$103,4,TRUE) -> 218.46458 | AG27: =VLOOKUP(E13,'Base Torque B1102 Full'!$A$3:$AC$103,5,TRUE) -> 327.69686 | AH27: =VLOOKUP(F13,'Base Torque B1102 Full'!$A$3:$AC$103,6,TRUE) -> 344.67215 | AI27: =VLOOKUP(G13,'Base Torque B1102 Full'!$A$3:$AC$103,7,TRUE) -> 362.3855 | AJ27: =VLOOKUP(H13,'Base Torque B1102 Full'!$A$3:$AC$103,8,TRUE) -> 419.87186 | AK27: =VLOOKUP(I13,'Base Torque B1102 Full'!$A$3:$AC$103,9,TRUE) -> 478.67032 | AL27: =VLOOKUP(J13,'Base Torque B1102 Full'!$A$3:$AC$103,10,TRUE) -> 504.8303 | AM27: =VLOOKUP(K13,'Base Torque B1102 Full'!$A$3:$AC$103,11,TRUE) -> 520.32948 | AN27: =VLOOKUP(L13,'Base Torque B1102 Full'!$A$3:$AC$103,12,TRUE) -> 529.35016 | AO27: =VLOOKUP(M13,'Base Torque B1102 Full'!$A$3:$AC$103,13,TRUE) -> 531.40032 | AP27: =VLOOKUP(N13,'Base Torque B1102 Full'!$A$3:$AC$103,14,TRUE) -> 531.40032 | AQ27: =VLOOKUP(O13,'Base Torque B1102 Full'!$A$3:$AC$103,15,TRUE) -> 527.46402 | AR27: =VLOOKUP(P13,'Base Torque B1102 Full'!$A$3:$AC$103,16,TRUE) -> 547.63755 | AS27: =VLOOKUP(Q13,'Base Torque B1102 Full'!$A$3:$AC$103,17,TRUE) -> 549.85172 | AT27: =VLOOKUP(R13,'Base Torque B1102 Full'!$A$3:$AC$103,18,TRUE) -> 506.71645 | AU27: =VLOOKUP(S13,'Base Torque B1102 Full'!$A$3:$AC$103,20,TRUE) -> 456.69265 | AV27: =VLOOKUP(T13,'Base Torque B1102 Full'!$A$3:$AC$103,21,TRUE) -> -10.332784 | AW27: =VLOOKUP(U13,'Base Torque B1102 Full'!$A$3:$AC$103,22,TRUE) -> -114.39868 | AX27: =VLOOKUP(V13,'Base Torque B1102 Full'!$A$3:$AC$103,23,TRUE) -> -114.39868 | AY27: =VLOOKUP(W13,'Base Torque B1102 Full'!$A$3:$AC$103,24,TRUE) -> -114.39868 | AZ27: =VLOOKUP(X13,'Base Torque B1102 Full'!$A$3:$AC$103,25,TRUE) -> -114.39868 | BA27: =VLOOKUP(Y13,'Base Torque B1102 Full'!$A$3:$AC$103,26,TRUE) -> -114.39868 | BB27: =VLOOKUP(Z13,'Base Torque B1102 Full'!$A$3:$AC$103,27,TRUE) -> -114.39868 | BC27: =VLOOKUP(AA13,'Base Torque B1102 Full'!$A$3:$AC$103,28,TRUE) -> -114.39868
B28: see the diferance between TBIQ & TLIQ. Try to make these as close to "0" as posible by adjusting Base Torque and TLIQ (below) | AK28: ^FORMULAS - Don’t mess with^
B30: RPM
A31: mm3 | B31: 0 | C31: 200 | D31: 400 | E31: 600 | F31: 800 | G31: 1000 | H31: 1200 | I31: 1400 | J31: 1600 | K31: 1800 | L31: 2000 | M31: 2200 | N31: 2400 | O31: 2600 | P31: 2800 | Q31: 3000 | R31: 3200 | S31: 3400 | T31: 3600 | U31: 3800 | V31: 4000 | W31: 4200 | X31: 4400 | Y31: 4600 | Z31: 4800 | AA31: 5000
A32: 0 | B32: 0 | C32: -14.023064 | D32: -28.784184 | E32: -42.807248 | F32: -42.807248 | G32: -44.28336 | H32: -45.759472 | I32: -50.187808 | J32: -55.3542 | K32: -59.04448 | L32: -63.472816 | M32: -70.11532 | N32: -76.757824 | O32: -83.400328 | P32: -95.209224 | Q32: -107.01812 | R32: -114.39868 | S32: -114.39868 | T32: -114.39868 | U32: -114.39868 | V32: -114.39868 | W32: -114.39868 | X32: -114.39868 | Y32: -114.39868 | Z32: -114.39868 | AA32: -114.39868
A33: 10 | B33: 0 | C33: 16.975288 | D33: 33.950576 | E33: 51.66392 | F33: 39.855024 | G33: 27.308072 | H33: 26.570016 | I33: 27.308072 | J33: 37.640856 | K33: 18.4514 | L33: -0.738056 | M33: -12.546952 | N33: -20.665568 | O33: -22.879736 | P33: -38.378912 | Q33: -50.925864 | R33: -57.568368 | S33: -57.568368 | T33: -57.568368 | U33: -57.568368 | V33: -57.568368 | W33: -57.568368 | X33: -57.568368 | Y33: -57.568368 | Z33: -57.568368 | AA33: -57.568368
A34: 20 | B34: 0 | C34: 40.59308 | D34: 81.18616 | E34: 121.77924 | F34: 108.49423 | G34: 92.995056 | H34: 98.161448 | I34: 90.042832 | J34: 79.710048 | K34: 72.329488 | L34: 65.686984 | M34: 48.711696 | N34: 45.759472 | O34: 36.9028 | P34: 25.83196 | Q34: 5.166392 | R34: -10.332784 | S34: -10.332784 | T34: -10.332784 | U34: -10.332784 | V34: -10.332784 | W34: -10.332784 | X34: -10.332784 | Y34: -10.332784 | Z34: -10.332784 | AA34: -10.332784
A35: 30 | B35: 0 | C35: 63.472816 | D35: 126.20758 | E35: 189.68039 | F35: 193.37067 | G35: 180.08566 | H35: 160.89621 | I35: 153.51565 | J35: 157.20593 | K35: 166.0626 | L35: 174.91927 | M35: 166.0626 | N35: 180.08566 | O35: 179.34761 | P35: 166.0626 | Q35: 145.39703 | R35: 127.68369 | S35: 127.68369 | T35: 127.68369 | U35: 127.68369 | V35: 127.68369 | W35: 127.68369 | X35: 127.68369 | Y35: 127.68369 | Z35: 127.68369 | AA35: 127.68369
A36: 40 | B36: 0 | C36: 84.138384 | D36: 169.01482 | E36: 253.15321 | F36: 240.60626 | G36: 259.05766 | H36: 239.13014 | I36: 230.27347 | J36: 249.46293 | K36: 250.20098 | L36: 251.6771 | M36: 224.36902 | N36: 256.84349 | O36: 257.58154 | P36: 237.65403 | Q36: 224.36902 | R36: 210.34596 | S36: 210.34596 | T36: 210.34596 | U36: 210.34596 | V36: 210.34596 | W36: 210.34596 | X36: 210.34596 | Y36: 210.34596 | Z36: 210.34596 | AA36: 210.34596
A37: 50 | B37: 0 | C37: 95.94728 | D37: 191.89456 | E37: 288.5799 | F37: 312.19769 | G37: 319.57825 | H37: 329.17298 | I37: 333.60131 | J37: 335.07742 | K37: 337.29159 | L37: 338.7677 | M37: 329.91103 | N37: 319.57825 | O37: 304.07907 | P37: 287.84184 | Q37: 271.60461 | R37: 259.79571 | S37: 259.79571 | T37: 259.79571 | U37: 259.79571 | V37: 259.79571 | W37: 259.79571 | X37: 259.79571 | Y37: 259.79571 | Z37: 259.79571 | AA37: 259.79571
A38: 60 | B38: 0 | C38: 109.23229 | D38: 218.46458 | E38: 327.69686 | F38: 344.67215 | G38: 362.3855 | H38: 370.50411 | I38: 378.62273 | J38: 399.2883 | K38: 402.24052 | L38: 405.9308 | M38: 400.76441 | N38: 386.74134 | O38: 373.45634 | P38: 349.10049 | Q38: 329.17298 | R38: 315.14991 | S38: 315.14991 | T38: 315.14991 | U38: 315.14991 | V38: 315.14991 | W38: 315.14991 | X38: 315.14991 | Y38: 315.14991 | Z38: 315.14991 | AA38: 315.14991
A39: 70 | B39: 0 | C39: 136.54036 | D39: 247.24876 | E39: 357.95716 | F39: 376.40856 | G39: 394.85996 | H39: 404.45469 | I39: 433.23887 | J39: 453.90444 | K39: 465.71334 | L39: 477.52223 | M39: 475.30806 | N39: 459.80889 | O39: 436.92915 | P39: 408.88302 | Q39: 390.43162 | R39: 376.40856 | S39: 376.40856 | T39: 376.40856 | U39: 376.40856 | V39: 376.40856 | W39: 376.40856 | X39: 376.40856 | Y39: 376.40856 | Z39: 376.40856 | AA39: 376.40856
A40: 80 | B40: 0 | C40: 180.82372 | D40: 291.53212 | E40: 402.24052 | F40: 417.00164 | G40: 431.76276 | H40: 439.14332 | I40: 470.14167 | J40: 504.8303 | K40: 520.32948 | L40: 535.82866 | M40: 531.40032 | N40: 531.40032 | O40: 509.25864 | P40: 472.35584 | Q40: 440.61943 | R40: 442.8336 | S40: 442.8336 | T40: 442.8336 | U40: 442.8336 | V40: 442.8336 | W40: 442.8336 | X40: 442.8336 | Y40: 442.8336 | Z40: 442.8336 | AA40: 442.8336
A41: 90 | B41: 0 | C41: 217.72652 | D41: 328.43492 | E41: 439.14332 | F41: 453.90444 | G41: 468.66556 | H41: 476.04612 | I41: 508.52058 | J41: 542.47116 | K41: 557.23228 | L41: 571.9934 | M41: 568.30312 | N41: 568.30312 | O41: 563.87478 | P41: 547.63755 | Q41: 549.85172 | R41: 567.56506 | S41: 567.56506 | T41: 567.56506 | U41: 567.56506 | V41: 567.56506 | W41: 567.56506 | X41: 567.56506 | Y41: 567.56506 | Z41: 567.56506 | AA41: 567.56506
A42: 100 | B42: 0 | C42: 217.72652 | D42: 328.43492 | E42: 439.14332 | F42: 453.90444 | G42: 468.66556 | H42: 476.04612 | I42: 508.52058 | J42: 542.47116 | K42: 557.23228 | L42: 571.9934 | M42: 568.30312 | N42: 568.30312 | O42: 563.87478 | P42: 547.63755 | Q42: 549.85172 | R42: 567.56506 | S42: 567.56506 | T42: 567.56506 | U42: 567.56506 | V42: 567.56506 | W42: 567.56506 | X42: 567.56506 | Y42: 567.56506 | Z42: 567.56506 | AA42: 567.56506
A43: 110 | B43: 0 | C43: 217.72652 | D43: 328.43492 | E43: 439.14332 | F43: 453.90444 | G43: 468.66556 | H43: 476.04612 | I43: 508.52058 | J43: 516.6392 | K43: 524.01976 | L43: 538.78088 | M43: 546.16144 | N43: 549.85172 | O43: 563.87478 | P43: 547.63755 | Q43: 549.85172 | R43: 567.56506 | S43: 567.56506 | T43: 567.56506 | U43: 567.56506 | V43: 567.56506 | W43: 567.56506 | X43: 567.56506 | Y43: 567.56506 | Z43: 567.56506 | AA43: 567.56506
A44: 120 | B44: 0 | C44: 217.72652 | D44: 328.43492 | E44: 439.14332 | F44: 453.90444 | G44: 468.66556 | H44: 476.04612 | I44: 508.52058 | J44: 516.6392 | K44: 524.01976 | L44: 538.78088 | M44: 546.16144 | N44: 549.85172 | O44: 563.87478 | P44: 547.63755 | Q44: 549.85172 | R44: 567.56506 | S44: 567.56506 | T44: 567.56506 | U44: 567.56506 | V44: 567.56506 | W44: 567.56506 | X44: 567.56506 | Y44: 567.56506 | Z44: 567.56506 | AA44: 567.56506
B45: copy and past your Base Torque into here. When done copy back to your tune [B1102]
B47: RPM
A48: Ft-Lbs | B48: 0 | C48: 200 | D48: 400 | E48: 600 | F48: 800 | G48: 1000 | H48: 1200 | I48: 1400 | J48: 1600 | K48: 1800 | L48: 2000 | M48: 2200 | N48: 2400 | O48: 2600 | P48: 2800 | Q48: 3000 | R48: 3200 | S48: 3400 | T48: 3600 | U48: 3800 | V48: 4000 | W48: 4200 | X48: 4400 | Y48: 4600 | Z48: 4800 | AA48: 5000
A49: -207 | B49: 0 | C49: 0 | D49: 0 | E49: 0 | F49: 0 | G49: 0 | H49: 0 | I49: 0 | J49: 0 | K49: 0 | L49: 0 | M49: 0 | N49: 0 | O49: 0 | P49: 0 | Q49: 0 | R49: 0 | S49: 0 | T49: 0 | U49: 0 | V49: 0 | W49: 0 | X49: 0 | Y49: 0 | Z49: 0 | AA49: 0
A50: -111 | B50: 0 | C50: 0 | D50: 0 | E50: 0 | F50: 0 | G50: 0 | H50: 0 | I50: 0 | J50: 0 | K50: 0 | L50: 0 | M50: 0 | N50: 0 | O50: 0 | P50: 0 | Q50: 0 | R50: 0.34375 | S50: 0.34375 | T50: 0.34375 | U50: 0.34375 | V50: 0.34375 | W50: 0.34375 | X50: 0.34375 | Y50: 0.34375 | Z50: 0.34375 | AA50: 0.34375
A51: -18 | B51: 0 | C51: 0.890625 | D51: 1.78125 | E51: 2.6875 | F51: 3.03125 | G51: 3.6875 | H51: 3.875 | I51: 4.21875 | J51: 4.03125 | K51: 5.359375 | L51: 7.328125 | M51: 9.078125 | N51: 10.40625 | O51: 10.96875 | P51: 13.65625 | Q51: 16.78125 | R51: 18.4375 | S51: 18.4375 | T51: 18.4375 | U51: 18.4375 | V51: 18.4375 | W51: 18.4375 | X51: 18.4375 | Y51: 18.4375 | Z51: 18.4375 | AA51: 18.4375
A52: 74 | B52: 0 | C52: 4.484375 | D52: 8.96875 | E52: 13.578125 | F52: 15.328125 | G52: 17.53125 | H52: 17.015625 | I52: 17.84375 | J52: 19.34375 | K52: 20.453125 | L52: 21.03125 | M52: 22.40625 | N52: 22.3125 | O52: 22.796875 | P52: 23.625 | Q52: 25.109375 | R52: 26.3125 | S52: 26.3125 | T52: 26.3125 | U52: 26.3125 | V52: 26.3125 | W52: 26.3125 | X52: 26.3125 | Y52: 26.3125 | Z52: 26.3125 | AA52: 26.3125
A53: 185 | B53: 0 | C53: 9.015625 | D53: 18.015625 | E53: 27.296875 | F53: 27.390625 | G53: 28.984375 | H53: 31.34375 | I53: 32.28125 | J53: 31.546875 | K53: 30.546875 | L53: 29.640625 | M53: 30.84375 | N53: 29.359375 | O53: 29.4375 | P53: 30.71875 | Q53: 33.265625 | R53: 35.265625 | S53: 35.265625 | T53: 35.265625 | U53: 35.265625 | V53: 35.265625 | W53: 35.265625 | X53: 35.265625 | Y53: 35.265625 | Z53: 35.265625 | AA53: 35.265625
A54: 277 | B54: 0 | C54: 14.375 | D54: 28.765625 | E54: 43.578125 | F54: 43.53125 | G54: 41.140625 | H54: 42.9375 | I54: 43.4375 | J54: 41.921875 | K54: 41.765625 | L54: 41.625 | M54: 43.9375 | N54: 41.390625 | O54: 41.75 | P54: 45.59375 | Q54: 48.75 | R54: 51.125 | S54: 51.125 | T54: 51.125 | U54: 51.125 | V54: 51.125 | W54: 51.125 | X54: 51.125 | Y54: 51.125 | Z54: 51.125 | AA54: 51.125
A55: 369 | B55: 0 | C55: 23.34375 | D55: 46.6875 | E55: 70.734375 | F55: 64.84375 | G55: 59.5 | H55: 57.484375 | I55: 55.953125 | J55: 53.9375 | K55: 53.546875 | L55: 52.40625 | M55: 54.25 | N55: 56.03125 | O55: 58.0625 | P55: 61.859375 | Q55: 65.0625 | R55: 67.328125 | S55: 67.328125 | T55: 67.328125 | U55: 67.328125 | V55: 67.328125 | W55: 67.328125 | X55: 67.328125 | Y55: 67.328125 | Z55: 67.328125 | AA55: 67.328125
A56: 461 | B56: 0 | C56: 31.09375 | D56: 62.171875 | E56: 94.203125 | F56: 90.203125 | G56: 86.203125 | H56: 84.203125 | I56: 75.78125 | J56: 70.140625 | K56: 68.28125 | L56: 66.84375 | M56: 67.234375 | N56: 69.296875 | O56: 72.4375 | P56: 77.234375 | Q56: 81.296875 | R56: 80.9375 | S56: 80.9375 | T56: 80.9375 | U56: 80.9375 | V56: 80.9375 | W56: 80.9375 | X56: 80.9375 | Y56: 80.9375 | Z56: 80.9375 | AA56: 80.9375
A57: 554 | B57: 0 | C57: 31.09375 | D57: 62.171875 | E57: 94.203125 | F57: 90.203125 | G57: 86.203125 | H57: 84.203125 | I57: 100.5625 | J57: 90.5 | K57: 87 | L57: 84 | M57: 83.0625 | N57: 82.46875 | O57: 87.296875 | P57: 90.203125 | Q57: 89.9375 | R57: 88.5 | S57: 88.5 | T57: 88.5 | U57: 88.5 | V57: 88.5 | W57: 88.5 | X57: 88.5 | Y57: 88.5 | Z57: 88.5 | AA57: 88.5
A58: 646 | B58: 0 | C58: 31.09375 | D58: 62.171875 | E58: 94.203125 | F58: 90.203125 | G58: 86.203125 | H58: 84.203125 | I58: 100.5625 | J58: 90.5 | K58: 87 | L58: 84 | M58: 83.0625 | N58: 82.46875 | O58: 87.296875 | P58: 90.203125 | Q58: 89.9375 | R58: 88.5 | S58: 88.5 | T58: 88.5 | U58: 88.5 | V58: 88.5 | W58: 88.5 | X58: 88.5 | Y58: 88.5 | Z58: 88.5 | AA58: 88.5
A59: 738 | B59: 0 | C59: 31.09375 | D59: 62.171875 | E59: 94.203125 | F59: 90.203125 | G59: 86.203125 | H59: 84.203125 | I59: 100.5625 | J59: 90.5 | K59: 87 | L59: 84 | M59: 83.0625 | N59: 82.46875 | O59: 87.296875 | P59: 90.203125 | Q59: 89.9375 | R59: 88.5 | S59: 88.5 | T59: 88.5 | U59: 88.5 | V59: 88.5 | W59: 88.5 | X59: 88.5 | Y59: 88.5 | Z59: 88.5 | AA59: 88.5
B60: copy and past your TLIQ into here. When done copy back to your tune [B0741]

Sheet TBIQ B0727 Full
A1: TBIQ | B1: RPM
A2: TPS | B2: 0 | C2: 200 | D2: 400 | E2: 600 | F2: 800 | G2: 1000 | H2: 1200 | I2: 1400 | J2: 1600 | K2: 1800 | L2: 2000 | M2: 2200 | N2: 2400 | O2: 2600 | P2: 2800 | Q2: 3000 | R2: 3100 | S2: 3200 | T2: 3250 | U2: 3400 | V2: 3600 | W2: 3800 | X2: 4000 | Y2: 4200 | Z2: 4400 | AA2: 4600 | AB2: 4800
A3: 0 | B3: =SUM(Math!B3) -> 0 | C3: =SUM(Math!C3) -> 0 | D3: =SUM(Math!D3) -> 0 | E3: =SUM(Math!E3) -> 0 | F3: =SUM(Math!F3) -> 0 | G3: =SUM(Math!G3) -> 0 | H3: =SUM(Math!H3) -> 0 | I3: =SUM(Math!I3) -> 0 | ... R3: =SUM(Math!R3) -> 0 | S3: =SUM(T3-R3)/2+R3 -> 0 | T3: =SUM(Math!S3) -> 0 | U3: =SUM(Math!T3) -> 0 | V3: =SUM(Math!U3) -> 0 | W3: =SUM(Math!V3) -> 0 | X3: =SUM(Math!W3) -> 0 | Y3: =SUM(Math!X3) -> 0 | Z3: =SUM(Math!Y3) -> 0 | AA3: =SUM(Math!Z3) -> 0 | AB3: =SUM(Math!AA3) -> 0 | AC3: < these are the fugures you can see (dark gray)
A4: 1 | B4: =SUM(B$13-B$3)/9+B3 -> 2.1892361 | C4: =SUM(C$13-C$3)/9+C3 -> 1.6996528 | D4: =SUM(D$13-D$3)/9+D3 -> 1.2447917 | E4: =SUM(E$13-E$3)/9+E3 -> 1.1111111 | F4: =SUM(F$13-F$3)/9+F3 -> 1.0225694 | G4: =SUM(G$13-G$3)/9+G3 -> 0.93402778 | H4: =SUM(H$13-H$3)/9+H3 -> 0.80034722 | I4: =SUM(I$13-I$3)/9+I3 -> 0.64409722 | ... R4: =SUM(R$13-R$3)/9+R3 -> 0 | S4: =SUM(T4-R4)/2+R4 -> 0 | T4: =SUM(T$13-T$3)/9+T3 -> 0 | U4: =SUM(U$13-U$3)/9+U3 -> 0 | V4: =SUM(V$13-V$3)/9+V3 -> 0 | W4: =SUM(W$13-W$3)/9+W3 -> 0 | X4: =SUM(X$13-X$3)/9+X3 -> 0 | Y4: =SUM(Y$13-Y$3)/9+Y3 -> 0 | Z4: =SUM(Z$13-Z$3)/9+Z3 -> 0 | AA4: =SUM(AA$13-AA$3)/9+AA3 -> 0 | AB4: =SUM(AB$13-AB$3)/9+AB3 -> 0
A5: 2 | B5: =SUM(B$13-B$3)/9+B4 -> 4.3784722 | C5: =SUM(C$13-C$3)/9+C4 -> 3.3993056 | D5: =SUM(D$13-D$3)/9+D4 -> 2.4895833 | E5: =SUM(E$13-E$3)/9+E4 -> 2.2222222 | F5: =SUM(F$13-F$3)/9+F4 -> 2.0451389 | G5: =SUM(G$13-G$3)/9+G4 -> 1.8680556 | H5: =SUM(H$13-H$3)/9+H4 -> 1.6006944 | I5: =SUM(I$13-I$3)/9+I4 -> 1.2881944 | ... R5: =SUM(R$13-R$3)/9+R4 -> 0 | S5: =SUM(T5-R5)/2+R5 -> 0 | T5: =SUM(T$13-T$3)/9+T4 -> 0 | U5: =SUM(U$13-U$3)/9+U4 -> 0 | V5: =SUM(V$13-V$3)/9+V4 -> 0 | W5: =SUM(W$13-W$3)/9+W4 -> 0 | X5: =SUM(X$13-X$3)/9+X4 -> 0 | Y5: =SUM(Y$13-Y$3)/9+Y4 -> 0 | Z5: =SUM(Z$13-Z$3)/9+Z4 -> 0 | AA5: =SUM(AA$13-AA$3)/9+AA4 -> 0 | AB5: =SUM(AB$13-AB$3)/9+AB4 -> 0
A6: 3 | B6: =SUM(B$13-B$3)/9+B5 -> 6.5677083 | C6: =SUM(C$13-C$3)/9+C5 -> 5.0989583 | D6: =SUM(D$13-D$3)/9+D5 -> 3.734375 | E6: =SUM(E$13-E$3)/9+E5 -> 3.3333333 | F6: =SUM(F$13-F$3)/9+F5 -> 3.0677083 | G6: =SUM(G$13-G$3)/9+G5 -> 2.8020833 | H6: =SUM(H$13-H$3)/9+H5 -> 2.4010417 | I6: =SUM(I$13-I$3)/9+I5 -> 1.9322917 | ... R6: =SUM(R$13-R$3)/9+R5 -> 0 | S6: =SUM(T6-R6)/2+R6 -> 0 | T6: =SUM(T$13-T$3)/9+T5 -> 0 | U6: =SUM(U$13-U$3)/9+U5 -> 0 | V6: =SUM(V$13-V$3)/9+V5 -> 0 | W6: =SUM(W$13-W$3)/9+W5 -> 0 | X6: =SUM(X$13-X$3)/9+X5 -> 0 | Y6: =SUM(Y$13-Y$3)/9+Y5 -> 0 | Z6: =SUM(Z$13-Z$3)/9+Z5 -> 0 | AA6: =SUM(AA$13-AA$3)/9+AA5 -> 0 | AB6: =SUM(AB$13-AB$3)/9+AB5 -> 0
A7: 4 | B7: =SUM(B$13-B$3)/9+B6 -> 8.7569444 | C7: =SUM(C$13-C$3)/9+C6 -> 6.7986111 | D7: =SUM(D$13-D$3)/9+D6 -> 4.9791667 | E7: =SUM(E$13-E$3)/9+E6 -> 4.4444444 | F7: =SUM(F$13-F$3)/9+F6 -> 4.0902778 | G7: =SUM(G$13-G$3)/9+G6 -> 3.7361111 | H7: =SUM(H$13-H$3)/9+H6 -> 3.2013889 | I7: =SUM(I$13-I$3)/9+I6 -> 2.5763889 | ... R7: =SUM(R$13-R$3)/9+R6 -> 0 | S7: =SUM(T7-R7)/2+R7 -> 0 | T7: =SUM(T$13-T$3)/9+T6 -> 0 | U7: =SUM(U$13-U$3)/9+U6 -> 0 | V7: =SUM(V$13-V$3)/9+V6 -> 0 | W7: =SUM(W$13-W$3)/9+W6 -> 0 | X7: =SUM(X$13-X$3)/9+X6 -> 0 | Y7: =SUM(Y$13-Y$3)/9+Y6 -> 0 | Z7: =SUM(Z$13-Z$3)/9+Z6 -> 0 | AA7: =SUM(AA$13-AA$3)/9+AA6 -> 0 | AB7: =SUM(AB$13-AB$3)/9+AB6 -> 0 | AC7: <these are the fugures not visible but still calclated by the ECM
A8: 5 | B8: =SUM(B$13-B$3)/9+B7 -> 10.946181 | C8: =SUM(C$13-C$3)/9+C7 -> 8.4982639 | D8: =SUM(D$13-D$3)/9+D7 -> 6.2239583 | E8: =SUM(E$13-E$3)/9+E7 -> 5.5555556 | F8: =SUM(F$13-F$3)/9+F7 -> 5.1128472 | G8: =SUM(G$13-G$3)/9+G7 -> 4.6701389 | H8: =SUM(H$13-H$3)/9+H7 -> 4.0017361 | I8: =SUM(I$13-I$3)/9+I7 -> 3.2204861 | ... R8: =SUM(R$13-R$3)/9+R7 -> 0 | S8: =SUM(T8-R8)/2+R8 -> 0 | T8: =SUM(T$13-T$3)/9+T7 -> 0 | U8: =SUM(U$13-U$3)/9+U7 -> 0 | V8: =SUM(V$13-V$3)/9+V7 -> 0 | W8: =SUM(W$13-W$3)/9+W7 -> 0 | X8: =SUM(X$13-X$3)/9+X7 -> 0 | Y8: =SUM(Y$13-Y$3)/9+Y7 -> 0 | Z8: =SUM(Z$13-Z$3)/9+Z7 -> 0 | AA8: =SUM(AA$13-AA$3)/9+AA7 -> 0 | AB8: =SUM(AB$13-AB$3)/9+AB7 -> 0
A9: 6 | B9: =SUM(B$13-B$3)/9+B8 -> 13.135417 | C9: =SUM(C$13-C$3)/9+C8 -> 10.197917 | D9: =SUM(D$13-D$3)/9+D8 -> 7.46875 | E9: =SUM(E$13-E$3)/9+E8 -> 6.6666667 | F9: =SUM(F$13-F$3)/9+F8 -> 6.1354167 | G9: =SUM(G$13-G$3)/9+G8 -> 5.6041667 | H9: =SUM(H$13-H$3)/9+H8 -> 4.8020833 | I9: =SUM(I$13-I$3)/9+I8 -> 3.8645833 | ... R9: =SUM(R$13-R$3)/9+R8 -> 0 | S9: =SUM(T9-R9)/2+R9 -> 0 | T9: =SUM(T$13-T$3)/9+T8 -> 0 | U9: =SUM(U$13-U$3)/9+U8 -> 0 | V9: =SUM(V$13-V$3)/9+V8 -> 0 | W9: =SUM(W$13-W$3)/9+W8 -> 0 | X9: =SUM(X$13-X$3)/9+X8 -> 0 | Y9: =SUM(Y$13-Y$3)/9+Y8 -> 0 | Z9: =SUM(Z$13-Z$3)/9+Z8 -> 0 | AA9: =SUM(AA$13-AA$3)/9+AA8 -> 0 | AB9: =SUM(AB$13-AB$3)/9+AB8 -> 0
A10: 7 | B10: =SUM(B$13-B$3)/9+B9 -> 15.324653 | C10: =SUM(C$13-C$3)/9+C9 -> 11.897569 | D10: =SUM(D$13-D$3)/9+D9 -> 8.7135417 | E10: =SUM(E$13-E$3)/9+E9 -> 7.7777778 | F10: =SUM(F$13-F$3)/9+F9 -> 7.1579861 | G10: =SUM(G$13-G$3)/9+G9 -> 6.5381944 | H10: =SUM(H$13-H$3)/9+H9 -> 5.6024306 | I10: =SUM(I$13-I$3)/9+I9 -> 4.5086806 | ... R10: =SUM(R$13-R$3)/9+R9 -> 0 | S10: =SUM(T10-R10)/2+R10 -> 0 | T10: =SUM(T$13-T$3)/9+T9 -> 0 | U10: =SUM(U$13-U$3)/9+U9 -> 0 | V10: =SUM(V$13-V$3)/9+V9 -> 0 | W10: =SUM(W$13-W$3)/9+W9 -> 0 | X10: =SUM(X$13-X$3)/9+X9 -> 0 | Y10: =SUM(Y$13-Y$3)/9+Y9 -> 0 | Z10: =SUM(Z$13-Z$3)/9+Z9 -> 0 | AA10: =SUM(AA$13-AA$3)/9+AA9 -> 0 | AB10: =SUM(AB$13-AB$3)/9+AB9 -> 0
A11: 8 | B11: =SUM(B$13-B$3)/9+B10 -> 17.513889 | C11: =SUM(C$13-C$3)/9+C10 -> 13.597222 | D11: =SUM(D$13-D$3)/9+D10 -> 9.9583333 | E11: =SUM(E$13-E$3)/9+E10 -> 8.8888889 | F11: =SUM(F$13-F$3)/9+F10 -> 8.1805556 | G11: =SUM(G$13-G$3)/9+G10 -> 7.4722222 | H11: =SUM(H$13-H$3)/9+H10 -> 6.4027778 | I11: =SUM(I$13-I$3)/9+I10 -> 5.1527778 | ... R11: =SUM(R$13-R$3)/9+R10 -> 0 | S11: =SUM(T11-R11)/2+R11 -> 0 | T11: =SUM(T$13-T$3)/9+T10 -> 0 | U11: =SUM(U$13-U$3)/9+U10 -> 0 | V11: =SUM(V$13-V$3)/9+V10 -> 0 | W11: =SUM(W$13-W$3)/9+W10 -> 0 | X11: =SUM(X$13-X$3)/9+X10 -> 0 | Y11: =SUM(Y$13-Y$3)/9+Y10 -> 0 | Z11: =SUM(Z$13-Z$3)/9+Z10 -> 0 | AA11: =SUM(AA$13-AA$3)/9+AA10 -> 0 | AB11: =SUM(AB$13-AB$3)/9+AB10 -> 0
A12: 9 | B12: =SUM(B$13-B$3)/9+B11 -> 19.703125 | C12: =SUM(C$13-C$3)/9+C11 -> 15.296875 | D12: =SUM(D$13-D$3)/9+D11 -> 11.203125 | E12: =SUM(E$13-E$3)/9+E11 -> 10 | F12: =SUM(F$13-F$3)/9+F11 -> 9.203125 | G12: =SUM(G$13-G$3)/9+G11 -> 8.40625 | H12: =SUM(H$13-H$3)/9+H11 -> 7.203125 | I12: =SUM(I$13-I$3)/9+I11 -> 5.796875 | ... R12: =SUM(R$13-R$3)/9+R11 -> 0 | S12: =SUM(T12-R12)/2+R12 -> 0 | T12: =SUM(T$13-T$3)/9+T11 -> 0 | U12: =SUM(U$13-U$3)/9+U11 -> 0 | V12: =SUM(V$13-V$3)/9+V11 -> 0 | W12: =SUM(W$13-W$3)/9+W11 -> 0 | X12: =SUM(X$13-X$3)/9+X11 -> 0 | Y12: =SUM(Y$13-Y$3)/9+Y11 -> 0 | Z12: =SUM(Z$13-Z$3)/9+Z11 -> 0 | AA12: =SUM(AA$13-AA$3)/9+AA11 -> 0 | AB12: =SUM(AB$13-AB$3)/9+AB11 -> 0
A13: 10 | B13: =SUM(Math!B4) -> 19.703125 | C13: =SUM(Math!C4) -> 15.296875 | D13: =SUM(Math!D4) -> 11.203125 | E13: =SUM(Math!E4) -> 10 | F13: =SUM(Math!F4) -> 9.203125 | G13: =SUM(Math!G4) -> 8.40625 | H13: =SUM(Math!H4) -> 7.203125 | I13: =SUM(Math!I4) -> 5.796875 | ... R13: =SUM(Math!R4) -> 0 | S13: =SUM(T13-R13)/2+R13 -> 0 | T13: =SUM(Math!S4) -> 0 | U13: =SUM(Math!T4) -> 0 | V13: =SUM(Math!U4) -> 0 | W13: =SUM(Math!V4) -> 0 | X13: =SUM(Math!W4) -> 0 | Y13: =SUM(Math!X4) -> 0 | Z13: =SUM(Math!Y4) -> 0 | AA13: =SUM(Math!Z4) -> 0 | AB13: =SUM(Math!AA4) -> 0
A14: 11 | B14: =SUM(B$23-B$13)/9+B13 -> 20.736111 | C14: =SUM(C$23-C$13)/9+C13 -> 16.064236 | D14: =SUM(D$23-D$13)/9+D13 -> 12.102431 | E14: =SUM(E$23-E$13)/9+E13 -> 10.855903 | F14: =SUM(F$23-F$13)/9+F13 -> 9.9913194 | G14: =SUM(G$23-G$13)/9+G13 -> 9.1059028 | H14: =SUM(H$23-H$13)/9+H13 -> 7.8802083 | I14: =SUM(I$23-I$13)/9+I13 -> 6.4635417 | ... R14: =SUM(R$23-R$13)/9+R13 -> 0 | S14: =SUM(T14-R14)/2+R14 -> 0 | T14: =SUM(T$23-T$13)/9+T13 -> 0 | U14: =SUM(U$23-U$13)/9+U13 -> 0 | V14: =SUM(V$23-V$13)/9+V13 -> 0 | W14: =SUM(W$23-W$13)/9+W13 -> 0 | X14: =SUM(X$23-X$13)/9+X13 -> 0 | Y14: =SUM(Y$23-Y$13)/9+Y13 -> 0 | Z14: =SUM(Z$23-Z$13)/9+Z13 -> 0 | AA14: =SUM(AA$23-AA$13)/9+AA13 -> 0 | AB14: =SUM(AB$23-AB$13)/9+AB13 -> 0
A15: 12 | B15: =SUM(B$23-B$13)/9+B14 -> 21.769097 | C15: =SUM(C$23-C$13)/9+C14 -> 16.831597 | D15: =SUM(D$23-D$13)/9+D14 -> 13.001736 | E15: =SUM(E$23-E$13)/9+E14 -> 11.711806 | F15: =SUM(F$23-F$13)/9+F14 -> 10.779514 | G15: =SUM(G$23-G$13)/9+G14 -> 9.8055556 | H15: =SUM(H$23-H$13)/9+H14 -> 8.5572917 | I15: =SUM(I$23-I$13)/9+I14 -> 7.1302083 | ... R15: =SUM(R$23-R$13)/9+R14 -> 0 | S15: =SUM(T15-R15)/2+R15 -> 0 | T15: =SUM(T$23-T$13)/9+T14 -> 0 | U15: =SUM(U$23-U$13)/9+U14 -> 0 | V15: =SUM(V$23-V$13)/9+V14 -> 0 | W15: =SUM(W$23-W$13)/9+W14 -> 0 | X15: =SUM(X$23-X$13)/9+X14 -> 0 | Y15: =SUM(Y$23-Y$13)/9+Y14 -> 0 | Z15: =SUM(Z$23-Z$13)/9+Z14 -> 0 | AA15: =SUM(AA$23-AA$13)/9+AA14 -> 0 | AB15: =SUM(AB$23-AB$13)/9+AB14 -> 0
A16: 13 | B16: =SUM(B$23-B$13)/9+B15 -> 22.802083 | C16: =SUM(C$23-C$13)/9+C15 -> 17.598958 | D16: =SUM(D$23-D$13)/9+D15 -> 13.901042 | E16: =SUM(E$23-E$13)/9+E15 -> 12.567708 | F16: =SUM(F$23-F$13)/9+F15 -> 11.567708 | G16: =SUM(G$23-G$13)/9+G15 -> 10.505208 | H16: =SUM(H$23-H$13)/9+H15 -> 9.234375 | I16: =SUM(I$23-I$13)/9+I15 -> 7.796875 | ... R16: =SUM(R$23-R$13)/9+R15 -> 0 | S16: =SUM(T16-R16)/2+R16 -> 0 | T16: =SUM(T$23-T$13)/9+T15 -> 0 | U16: =SUM(U$23-U$13)/9+U15 -> 0 | V16: =SUM(V$23-V$13)/9+V15 -> 0 | W16: =SUM(W$23-W$13)/9+W15 -> 0 | X16: =SUM(X$23-X$13)/9+X15 -> 0 | Y16: =SUM(Y$23-Y$13)/9+Y15 -> 0 | Z16: =SUM(Z$23-Z$13)/9+Z15 -> 0 | AA16: =SUM(AA$23-AA$13)/9+AA15 -> 0 | AB16: =SUM(AB$23-AB$13)/9+AB15 -> 0
A17: 14 | B17: =SUM(B$23-B$13)/9+B16 -> 23.835069 | C17: =SUM(C$23-C$13)/9+C16 -> 18.366319 | D17: =SUM(D$23-D$13)/9+D16 -> 14.800347 | E17: =SUM(E$23-E$13)/9+E16 -> 13.423611 | F17: =SUM(F$23-F$13)/9+F16 -> 12.355903 | G17: =SUM(G$23-G$13)/9+G16 -> 11.204861 | H17: =SUM(H$23-H$13)/9+H16 -> 9.9114583 | I17: =SUM(I$23-I$13)/9+I16 -> 8.4635417 | ... R17: =SUM(R$23-R$13)/9+R16 -> 0 | S17: =SUM(T17-R17)/2+R17 -> 0 | T17: =SUM(T$23-T$13)/9+T16 -> 0 | U17: =SUM(U$23-U$13)/9+U16 -> 0 | V17: =SUM(V$23-V$13)/9+V16 -> 0 | W17: =SUM(W$23-W$13)/9+W16 -> 0 | X17: =SUM(X$23-X$13)/9+X16 -> 0 | Y17: =SUM(Y$23-Y$13)/9+Y16 -> 0 | Z17: =SUM(Z$23-Z$13)/9+Z16 -> 0 | AA17: =SUM(AA$23-AA$13)/9+AA16 -> 0 | AB17: =SUM(AB$23-AB$13)/9+AB16 -> 0
A18: 15 | B18: =SUM(B$23-B$13)/9+B17 -> 24.868056 | C18: =SUM(C$23-C$13)/9+C17 -> 19.133681 | D18: =SUM(D$23-D$13)/9+D17 -> 15.699653 | E18: =SUM(E$23-E$13)/9+E17 -> 14.279514 | F18: =SUM(F$23-F$13)/9+F17 -> 13.144097 | G18: =SUM(G$23-G$13)/9+G17 -> 11.904514 | H18: =SUM(H$23-H$13)/9+H17 -> 10.588542 | I18: =SUM(I$23-I$13)/9+I17 -> 9.1302083 | ... R18: =SUM(R$23-R$13)/9+R17 -> 0 | S18: =SUM(T18-R18)/2+R18 -> 0 | T18: =SUM(T$23-T$13)/9+T17 -> 0 | U18: =SUM(U$23-U$13)/9+U17 -> 0 | V18: =SUM(V$23-V$13)/9+V17 -> 0 | W18: =SUM(W$23-W$13)/9+W17 -> 0 | X18: =SUM(X$23-X$13)/9+X17 -> 0 | Y18: =SUM(Y$23-Y$13)/9+Y17 -> 0 | Z18: =SUM(Z$23-Z$13)/9+Z17 -> 0 | AA18: =SUM(AA$23-AA$13)/9+AA17 -> 0 | AB18: =SUM(AB$23-AB$13)/9+AB17 -> 0
A19: 16 | B19: =SUM(B$23-B$13)/9+B18 -> 25.901042 | C19: =SUM(C$23-C$13)/9+C18 -> 19.901042 | D19: =SUM(D$23-D$13)/9+D18 -> 16.598958 | E19: =SUM(E$23-E$13)/9+E18 -> 15.135417 | F19: =SUM(F$23-F$13)/9+F18 -> 13.932292 | G19: =SUM(G$23-G$13)/9+G18 -> 12.604167 | H19: =SUM(H$23-H$13)/9+H18 -> 11.265625 | I19: =SUM(I$23-I$13)/9+I18 -> 9.796875 | ... R19: =SUM(R$23-R$13)/9+R18 -> 0 | S19: =SUM(T19-R19)/2+R19 -> 0 | T19: =SUM(T$23-T$13)/9+T18 -> 0 | U19: =SUM(U$23-U$13)/9+U18 -> 0 | V19: =SUM(V$23-V$13)/9+V18 -> 0 | W19: =SUM(W$23-W$13)/9+W18 -> 0 | X19: =SUM(X$23-X$13)/9+X18 -> 0 | Y19: =SUM(Y$23-Y$13)/9+Y18 -> 0 | Z19: =SUM(Z$23-Z$13)/9+Z18 -> 0 | AA19: =SUM(AA$23-AA$13)/9+AA18 -> 0 | AB19: =SUM(AB$23-AB$13)/9+AB18 -> 0
A20: 17 | B20: =SUM(B$23-B$13)/9+B19 -> 26.934028 | C20: =SUM(C$23-C$13)/9+C19 -> 20.668403 | D20: =SUM(D$23-D$13)/9+D19 -> 17.498264 | E20: =SUM(E$23-E$13)/9+E19 -> 15.991319 | F20: =SUM(F$23-F$13)/9+F19 -> 14.720486 | G20: =SUM(G$23-G$13)/9+G19 -> 13.303819 | H20: =SUM(H$23-H$13)/9+H19 -> 11.942708 | I20: =SUM(I$23-I$13)/9+I19 -> 10.463542 | ... R20: =SUM(R$23-R$13)/9+R19 -> 0 | S20: =SUM(T20-R20)/2+R20 -> 0 | T20: =SUM(T$23-T$13)/9+T19 -> 0 | U20: =SUM(U$23-U$13)/9+U19 -> 0 | V20: =SUM(V$23-V$13)/9+V19 -> 0 | W20: =SUM(W$23-W$13)/9+W19 -> 0 | X20: =SUM(X$23-X$13)/9+X19 -> 0 | Y20: =SUM(Y$23-Y$13)/9+Y19 -> 0 | Z20: =SUM(Z$23-Z$13)/9+Z19 -> 0 | AA20: =SUM(AA$23-AA$13)/9+AA19 -> 0 | AB20: =SUM(AB$23-AB$13)/9+AB19 -> 0
A21: 18 | B21: =SUM(B$23-B$13)/9+B20 -> 27.967014 | C21: =SUM(C$23-C$13)/9+C20 -> 21.435764 | D21: =SUM(D$23-D$13)/9+D20 -> 18.397569 | E21: =SUM(E$23-E$13)/9+E20 -> 16.847222 | F21: =SUM(F$23-F$13)/9+F20 -> 15.508681 | G21: =SUM(G$23-G$13)/9+G20 -> 14.003472 | H21: =SUM(H$23-H$13)/9+H20 -> 12.619792 | I21: =SUM(I$23-I$13)/9+I20 -> 11.130208 | ... R21: =SUM(R$23-R$13)/9+R20 -> 0 | S21: =SUM(T21-R21)/2+R21 -> 0 | T21: =SUM(T$23-T$13)/9+T20 -> 0 | U21: =SUM(U$23-U$13)/9+U20 -> 0 | V21: =SUM(V$23-V$13)/9+V20 -> 0 | W21: =SUM(W$23-W$13)/9+W20 -> 0 | X21: =SUM(X$23-X$13)/9+X20 -> 0 | Y21: =SUM(Y$23-Y$13)/9+Y20 -> 0 | Z21: =SUM(Z$23-Z$13)/9+Z20 -> 0 | AA21: =SUM(AA$23-AA$13)/9+AA20 -> 0 | AB21: =SUM(AB$23-AB$13)/9+AB20 -> 0
A22: 19 | B22: =SUM(B$23-B$13)/9+B21 -> 29 | C22: =SUM(C$23-C$13)/9+C21 -> 22.203125 | D22: =SUM(D$23-D$13)/9+D21 -> 19.296875 | E22: =SUM(E$23-E$13)/9+E21 -> 17.703125 | F22: =SUM(F$23-F$13)/9+F21 -> 16.296875 | G22: =SUM(G$23-G$13)/9+G21 -> 14.703125 | H22: =SUM(H$23-H$13)/9+H21 -> 13.296875 | I22: =SUM(I$23-I$13)/9+I21 -> 11.796875 | ... R22: =SUM(R$23-R$13)/9+R21 -> 0 | S22: =SUM(T22-R22)/2+R22 -> 0 | T22: =SUM(T$23-T$13)/9+T21 -> 0 | U22: =SUM(U$23-U$13)/9+U21 -> 0 | V22: =SUM(V$23-V$13)/9+V21 -> 0 | W22: =SUM(W$23-W$13)/9+W21 -> 0 | X22: =SUM(X$23-X$13)/9+X21 -> 0 | Y22: =SUM(Y$23-Y$13)/9+Y21 -> 0 | Z22: =SUM(Z$23-Z$13)/9+Z21 -> 0 | AA22: =SUM(AA$23-AA$13)/9+AA21 -> 0 | AB22: =SUM(AB$23-AB$13)/9+AB21 -> 0
A23: 20 | B23: =SUM(Math!B5) -> 29 | C23: =SUM(Math!C5) -> 22.203125 | D23: =SUM(Math!D5) -> 19.296875 | E23: =SUM(Math!E5) -> 17.703125 | F23: =SUM(Math!F5) -> 16.296875 | G23: =SUM(Math!G5) -> 14.703125 | H23: =SUM(Math!H5) -> 13.296875 | I23: =SUM(Math!I5) -> 11.796875 | ... R23: =SUM(Math!R5) -> 0 | S23: =SUM(T23-R23)/2+R23 -> 0 | T23: =SUM(Math!S5) -> 0 | U23: =SUM(Math!T5) -> 0 | V23: =SUM(Math!U5) -> 0 | W23: =SUM(Math!V5) -> 0 | X23: =SUM(Math!W5) -> 0 | Y23: =SUM(Math!X5) -> 0 | Z23: =SUM(Math!Y5) -> 0 | AA23: =SUM(Math!Z5) -> 0 | AB23: =SUM(Math!AA5) -> 0
A24: 21 | B24: =SUM(B$33-B$23)/9+B23 -> 30.222222 | C24: =SUM(C$33-C$23)/9+C23 -> 23.357639 | D24: =SUM(D$33-D$23)/9+D23 -> 20.119792 | E24: =SUM(E$33-E$23)/9+E23 -> 18.435764 | F24: =SUM(F$33-F$23)/9+F23 -> 17.008681 | G24: =SUM(G$33-G$23)/9+G23 -> 15.435764 | H24: =SUM(H$33-H$23)/9+H23 -> 14.041667 | I24: =SUM(I$33-I$23)/9+I23 -> 12.586806 | ... R24: =SUM(R$33-R$23)/9+R23 -> 0.77777778 | S24: =SUM(T24-R24)/2+R24 -> 0.65538194 | T24: =SUM(T$33-T$23)/9+T23 -> 0.53298611 | U24: =SUM(U$33-U$23)/9+U23 -> 0.22222222 | V24: =SUM(V$33-V$23)/9+V23 -> 0 | W24: =SUM(W$33-W$23)/9+W23 -> 0 | X24: =SUM(X$33-X$23)/9+X23 -> 0 | Y24: =SUM(Y$33-Y$23)/9+Y23 -> 0 | Z24: =SUM(Z$33-Z$23)/9+Z23 -> 0 | AA24: =SUM(AA$33-AA$23)/9+AA23 -> 0 | AB24: =SUM(AB$33-AB$23)/9+AB23 -> 0
A25: 22 | B25: =SUM(B$33-B$23)/9+B24 -> 31.444444 | C25: =SUM(C$33-C$23)/9+C24 -> 24.512153 | D25: =SUM(D$33-D$23)/9+D24 -> 20.942708 | E25: =SUM(E$33-E$23)/9+E24 -> 19.168403 | F25: =SUM(F$33-F$23)/9+F24 -> 17.720486 | G25: =SUM(G$33-G$23)/9+G24 -> 16.168403 | H25: =SUM(H$33-H$23)/9+H24 -> 14.786458 | I25: =SUM(I$33-I$23)/9+I24 -> 13.376736 | ... R25: =SUM(R$33-R$23)/9+R24 -> 1.5555556 | S25: =SUM(T25-R25)/2+R25 -> 1.3107639 | T25: =SUM(T$33-T$23)/9+T24 -> 1.0659722 | U25: =SUM(U$33-U$23)/9+U24 -> 0.44444444 | V25: =SUM(V$33-V$23)/9+V24 -> 0 | W25: =SUM(W$33-W$23)/9+W24 -> 0 | X25: =SUM(X$33-X$23)/9+X24 -> 0 | Y25: =SUM(Y$33-Y$23)/9+Y24 -> 0 | Z25: =SUM(Z$33-Z$23)/9+Z24 -> 0 | AA25: =SUM(AA$33-AA$23)/9+AA24 -> 0 | AB25: =SUM(AB$33-AB$23)/9+AB24 -> 0
A26: 23 | B26: =SUM(B$33-B$23)/9+B25 -> 32.666667 | C26: =SUM(C$33-C$23)/9+C25 -> 25.666667 | D26: =SUM(D$33-D$23)/9+D25 -> 21.765625 | E26: =SUM(E$33-E$23)/9+E25 -> 19.901042 | F26: =SUM(F$33-F$23)/9+F25 -> 18.432292 | G26: =SUM(G$33-G$23)/9+G25 -> 16.901042 | H26: =SUM(H$33-H$23)/9+H25 -> 15.53125 | I26: =SUM(I$33-I$23)/9+I25 -> 14.166667 | ... R26: =SUM(R$33-R$23)/9+R25 -> 2.3333333 | S26: =SUM(T26-R26)/2+R26 -> 1.9661458 | T26: =SUM(T$33-T$23)/9+T25 -> 1.5989583 | U26: =SUM(U$33-U$23)/9+U25 -> 0.66666667 | V26: =SUM(V$33-V$23)/9+V25 -> 0 | W26: =SUM(W$33-W$23)/9+W25 -> 0 | X26: =SUM(X$33-X$23)/9+X25 -> 0 | Y26: =SUM(Y$33-Y$23)/9+Y25 -> 0 | Z26: =SUM(Z$33-Z$23)/9+Z25 -> 0 | AA26: =SUM(AA$33-AA$23)/9+AA25 -> 0 | AB26: =SUM(AB$33-AB$23)/9+AB25 -> 0
A27: 24 | B27: =SUM(B$33-B$23)/9+B26 -> 33.888889 | C27: =SUM(C$33-C$23)/9+C26 -> 26.821181 | D27: =SUM(D$33-D$23)/9+D26 -> 22.588542 | E27: =SUM(E$33-E$23)/9+E26 -> 20.633681 | F27: =SUM(F$33-F$23)/9+F26 -> 19.144097 | G27: =SUM(G$33-G$23)/9+G26 -> 17.633681 | H27: =SUM(H$33-H$23)/9+H26 -> 16.276042 | I27: =SUM(I$33-I$23)/9+I26 -> 14.956597 | ... R27: =SUM(R$33-R$23)/9+R26 -> 3.1111111 | S27: =SUM(T27-R27)/2+R27 -> 2.6215278 | T27: =SUM(T$33-T$23)/9+T26 -> 2.1319444 | U27: =SUM(U$33-U$23)/9+U26 -> 0.88888889 | V27: =SUM(V$33-V$23)/9+V26 -> 0 | W27: =SUM(W$33-W$23)/9+W26 -> 0 | X27: =SUM(X$33-X$23)/9+X26 -> 0 | Y27: =SUM(Y$33-Y$23)/9+Y26 -> 0 | Z27: =SUM(Z$33-Z$23)/9+Z26 -> 0 | AA27: =SUM(AA$33-AA$23)/9+AA26 -> 0 | AB27: =SUM(AB$33-AB$23)/9+AB26 -> 0
A28: 25 | B28: =SUM(B$33-B$23)/9+B27 -> 35.111111 | C28: =SUM(C$33-C$23)/9+C27 -> 27.975694 | D28: =SUM(D$33-D$23)/9+D27 -> 23.411458 | E28: =SUM(E$33-E$23)/9+E27 -> 21.366319 | F28: =SUM(F$33-F$23)/9+F27 -> 19.855903 | G28: =SUM(G$33-G$23)/9+G27 -> 18.366319 | H28: =SUM(H$33-H$23)/9+H27 -> 17.020833 | I28: =SUM(I$33-I$23)/9+I27 -> 15.746528 | ... R28: =SUM(R$33-R$23)/9+R27 -> 3.8888889 | S28: =SUM(T28-R28)/2+R28 -> 3.2769097 | T28: =SUM(T$33-T$23)/9+T27 -> 2.6649306 | U28: =SUM(U$33-U$23)/9+U27 -> 1.1111111 | V28: =SUM(V$33-V$23)/9+V27 -> 0 | W28: =SUM(W$33-W$23)/9+W27 -> 0 | X28: =SUM(X$33-X$23)/9+X27 -> 0 | Y28: =SUM(Y$33-Y$23)/9+Y27 -> 0 | Z28: =SUM(Z$33-Z$23)/9+Z27 -> 0 | AA28: =SUM(AA$33-AA$23)/9+AA27 -> 0 | AB28: =SUM(AB$33-AB$23)/9+AB27 -> 0
A29: 26 | B29: =SUM(B$33-B$23)/9+B28 -> 36.333333 | C29: =SUM(C$33-C$23)/9+C28 -> 29.130208 | D29: =SUM(D$33-D$23)/9+D28 -> 24.234375 | E29: =SUM(E$33-E$23)/9+E28 -> 22.098958 | F29: =SUM(F$33-F$23)/9+F28 -> 20.567708 | G29: =SUM(G$33-G$23)/9+G28 -> 19.098958 | H29: =SUM(H$33-H$23)/9+H28 -> 17.765625 | I29: =SUM(I$33-I$23)/9+I28 -> 16.536458 | ... R29: =SUM(R$33-R$23)/9+R28 -> 4.6666667 | S29: =SUM(T29-R29)/2+R29 -> 3.9322917 | T29: =SUM(T$33-T$23)/9+T28 -> 3.1979167 | U29: =SUM(U$33-U$23)/9+U28 -> 1.3333333 | V29: =SUM(V$33-V$23)/9+V28 -> 0 | W29: =SUM(W$33-W$23)/9+W28 -> 0 | X29: =SUM(X$33-X$23)/9+X28 -> 0 | Y29: =SUM(Y$33-Y$23)/9+Y28 -> 0 | Z29: =SUM(Z$33-Z$23)/9+Z28 -> 0 | AA29: =SUM(AA$33-AA$23)/9+AA28 -> 0 | AB29: =SUM(AB$33-AB$23)/9+AB28 -> 0
A30: 27 | B30: =SUM(B$33-B$23)/9+B29 -> 37.555556 | C30: =SUM(C$33-C$23)/9+C29 -> 30.284722 | D30: =SUM(D$33-D$23)/9+D29 -> 25.057292 | E30: =SUM(E$33-E$23)/9+E29 -> 22.831597 | F30: =SUM(F$33-F$23)/9+F29 -> 21.279514 | G30: =SUM(G$33-G$23)/9+G29 -> 19.831597 | H30: =SUM(H$33-H$23)/9+H29 -> 18.510417 | I30: =SUM(I$33-I$23)/9+I29 -> 17.326389 | ... R30: =SUM(R$33-R$23)/9+R29 -> 5.4444444 | S30: =SUM(T30-R30)/2+R30 -> 4.5876736 | T30: =SUM(T$33-T$23)/9+T29 -> 3.7309028 | U30: =SUM(U$33-U$23)/9+U29 -> 1.5555556 | V30: =SUM(V$33-V$23)/9+V29 -> 0 | W30: =SUM(W$33-W$23)/9+W29 -> 0 | X30: =SUM(X$33-X$23)/9+X29 -> 0 | Y30: =SUM(Y$33-Y$23)/9+Y29 -> 0 | Z30: =SUM(Z$33-Z$23)/9+Z29 -> 0 | AA30: =SUM(AA$33-AA$23)/9+AA29 -> 0 | AB30: =SUM(AB$33-AB$23)/9+AB29 -> 0
A31: 28 | B31: =SUM(B$33-B$23)/9+B30 -> 38.777778 | C31: =SUM(C$33-C$23)/9+C30 -> 31.439236 | D31: =SUM(D$33-D$23)/9+D30 -> 25.880208 | E31: =SUM(E$33-E$23)/9+E30 -> 23.564236 | F31: =SUM(F$33-F$23)/9+F30 -> 21.991319 | G31: =SUM(G$33-G$23)/9+G30 -> 20.564236 | H31: =SUM(H$33-H$23)/9+H30 -> 19.255208 | I31: =SUM(I$33-I$23)/9+I30 -> 18.116319 | ... R31: =SUM(R$33-R$23)/9+R30 -> 6.2222222 | S31: =SUM(T31-R31)/2+R31 -> 5.2430556 | T31: =SUM(T$33-T$23)/9+T30 -> 4.2638889 | U31: =SUM(U$33-U$23)/9+U30 -> 1.7777778 | V31: =SUM(V$33-V$23)/9+V30 -> 0 | W31: =SUM(W$33-W$23)/9+W30 -> 0 | X31: =SUM(X$33-X$23)/9+X30 -> 0 | Y31: =SUM(Y$33-Y$23)/9+Y30 -> 0 | Z31: =SUM(Z$33-Z$23)/9+Z30 -> 0 | AA31: =SUM(AA$33-AA$23)/9+AA30 -> 0 | AB31: =SUM(AB$33-AB$23)/9+AB30 -> 0
A32: 29 | B32: =SUM(B$33-B$23)/9+B31 -> 40 | C32: =SUM(C$33-C$23)/9+C31 -> 32.59375 | D32: =SUM(D$33-D$23)/9+D31 -> 26.703125 | E32: =SUM(E$33-E$23)/9+E31 -> 24.296875 | F32: =SUM(F$33-F$23)/9+F31 -> 22.703125 | G32: =SUM(G$33-G$23)/9+G31 -> 21.296875 | H32: =SUM(H$33-H$23)/9+H31 -> 20 | I32: =SUM(I$33-I$23)/9+I31 -> 18.90625 | ... R32: =SUM(R$33-R$23)/9+R31 -> 7 | S32: =SUM(T32-R32)/2+R32 -> 5.8984375 | T32: =SUM(T$33-T$23)/9+T31 -> 4.796875 | U32: =SUM(U$33-U$23)/9+U31 -> 2 | V32: =SUM(V$33-V$23)/9+V31 -> 0 | W32: =SUM(W$33-W$23)/9+W31 -> 0 | X32: =SUM(X$33-X$23)/9+X31 -> 0 | Y32: =SUM(Y$33-Y$23)/9+Y31 -> 0 | Z32: =SUM(Z$33-Z$23)/9+Z31 -> 0 | AA32: =SUM(AA$33-AA$23)/9+AA31 -> 0 | AB32: =SUM(AB$33-AB$23)/9+AB31 -> 0
A33: 30 | B33: =SUM(Math!B6) -> 40 | C33: =SUM(Math!C6) -> 32.59375 | D33: =SUM(Math!D6) -> 26.703125 | E33: =SUM(Math!E6) -> 24.296875 | F33: =SUM(Math!F6) -> 22.703125 | G33: =SUM(Math!G6) -> 21.296875 | H33: =SUM(Math!H6) -> 20 | I33: =SUM(Math!I6) -> 18.90625 | ... R33: =SUM(Math!R6) -> 7 | S33: =SUM(T33-R33)/2+R33 -> 5.8984375 | T33: =SUM(Math!S6) -> 4.796875 | U33: =SUM(Math!T6) -> 2 | V33: =SUM(Math!U6) -> 0 | W33: =SUM(Math!V6) -> 0 | X33: =SUM(Math!W6) -> 0 | Y33: =SUM(Math!X6) -> 0 | Z33: =SUM(Math!Y6) -> 0 | AA33: =SUM(Math!Z6) -> 0 | AB33: =SUM(Math!AA6) -> 0
A34: 31 | B34: =SUM(B$43-B$33)/9+B33 -> 41.878472 | C34: =SUM(C$43-C$33)/9+C33 -> 34.083333 | D34: =SUM(D$43-D$33)/9+D33 -> 27.703125 | E34: =SUM(E$43-E$33)/9+E33 -> 25.253472 | F34: =SUM(F$43-F$33)/9+F33 -> 23.614583 | G34: =SUM(G$43-G$33)/9+G33 -> 22.263889 | H34: =SUM(H$43-H$33)/9+H33 -> 20.921875 | I34: =SUM(I$43-I$33)/9+I33 -> 19.815972 | ... R34: =SUM(R$43-R$33)/9+R33 -> 7.7673611 | S34: =SUM(T34-R34)/2+R34 -> 6.5321181 | T34: =SUM(T$43-T$33)/9+T33 -> 5.296875 | U34: =SUM(U$43-U$33)/9+U33 -> 2.2222222 | V34: =SUM(V$43-V$33)/9+V33 -> 0 | W34: =SUM(W$43-W$33)/9+W33 -> 0 | X34: =SUM(X$43-X$33)/9+X33 -> 0 | Y34: =SUM(Y$43-Y$33)/9+Y33 -> 0 | Z34: =SUM(Z$43-Z$33)/9+Z33 -> 0 | AA34: =SUM(AA$43-AA$33)/9+AA33 -> 0 | AB34: =SUM(AB$43-AB$33)/9+AB33 -> 0
A35: 32 | B35: =SUM(B$43-B$33)/9+B34 -> 43.756944 | C35: =SUM(C$43-C$33)/9+C34 -> 35.572917 | D35: =SUM(D$43-D$33)/9+D34 -> 28.703125 | E35: =SUM(E$43-E$33)/9+E34 -> 26.210069 | F35: =SUM(F$43-F$33)/9+F34 -> 24.526042 | G35: =SUM(G$43-G$33)/9+G34 -> 23.230903 | H35: =SUM(H$43-H$33)/9+H34 -> 21.84375 | I35: =SUM(I$43-I$33)/9+I34 -> 20.725694 | ... R35: =SUM(R$43-R$33)/9+R34 -> 8.5347222 | S35: =SUM(T35-R35)/2+R35 -> 7.1657986 | T35: =SUM(T$43-T$33)/9+T34 -> 5.796875 | U35: =SUM(U$43-U$33)/9+U34 -> 2.4444444 | V35: =SUM(V$43-V$33)/9+V34 -> 0 | W35: =SUM(W$43-W$33)/9+W34 -> 0 | X35: =SUM(X$43-X$33)/9+X34 -> 0 | Y35: =SUM(Y$43-Y$33)/9+Y34 -> 0 | Z35: =SUM(Z$43-Z$33)/9+Z34 -> 0 | AA35: =SUM(AA$43-AA$33)/9+AA34 -> 0 | AB35: =SUM(AB$43-AB$33)/9+AB34 -> 0
A36: 33 | B36: =SUM(B$43-B$33)/9+B35 -> 45.635417 | C36: =SUM(C$43-C$33)/9+C35 -> 37.0625 | D36: =SUM(D$43-D$33)/9+D35 -> 29.703125 | E36: =SUM(E$43-E$33)/9+E35 -> 27.166667 | F36: =SUM(F$43-F$33)/9+F35 -> 25.4375 | G36: =SUM(G$43-G$33)/9+G35 -> 24.197917 | H36: =SUM(H$43-H$33)/9+H35 -> 22.765625 | I36: =SUM(I$43-I$33)/9+I35 -> 21.635417 | ... R36: =SUM(R$43-R$33)/9+R35 -> 9.3020833 | S36: =SUM(T36-R36)/2+R36 -> 7.7994792 | T36: =SUM(T$43-T$33)/9+T35 -> 6.296875 | U36: =SUM(U$43-U$33)/9+U35 -> 2.6666667 | V36: =SUM(V$43-V$33)/9+V35 -> 0 | W36: =SUM(W$43-W$33)/9+W35 -> 0 | X36: =SUM(X$43-X$33)/9+X35 -> 0 | Y36: =SUM(Y$43-Y$33)/9+Y35 -> 0 | Z36: =SUM(Z$43-Z$33)/9+Z35 -> 0 | AA36: =SUM(AA$43-AA$33)/9+AA35 -> 0 | AB36: =SUM(AB$43-AB$33)/9+AB35 -> 0
A37: 34 | B37: =SUM(B$43-B$33)/9+B36 -> 47.513889 | C37: =SUM(C$43-C$33)/9+C36 -> 38.552083 | D37: =SUM(D$43-D$33)/9+D36 -> 30.703125 | E37: =SUM(E$43-E$33)/9+E36 -> 28.123264 | F37: =SUM(F$43-F$33)/9+F36 -> 26.348958 | G37: =SUM(G$43-G$33)/9+G36 -> 25.164931 | H37: =SUM(H$43-H$33)/9+H36 -> 23.6875 | I37: =SUM(I$43-I$33)/9+I36 -> 22.545139 | ... R37: =SUM(R$43-R$33)/9+R36 -> 10.069444 | S37: =SUM(T37-R37)/2+R37 -> 8.4331597 | T37: =SUM(T$43-T$33)/9+T36 -> 6.796875 | U37: =SUM(U$43-U$33)/9+U36 -> 2.8888889 | V37: =SUM(V$43-V$33)/9+V36 -> 0 | W37: =SUM(W$43-W$33)/9+W36 -> 0 | X37: =SUM(X$43-X$33)/9+X36 -> 0 | Y37: =SUM(Y$43-Y$33)/9+Y36 -> 0 | Z37: =SUM(Z$43-Z$33)/9+Z36 -> 0 | AA37: =SUM(AA$43-AA$33)/9+AA36 -> 0 | AB37: =SUM(AB$43-AB$33)/9+AB36 -> 0
A38: 35 | B38: =SUM(B$43-B$33)/9+B37 -> 49.392361 | C38: =SUM(C$43-C$33)/9+C37 -> 40.041667 | D38: =SUM(D$43-D$33)/9+D37 -> 31.703125 | E38: =SUM(E$43-E$33)/9+E37 -> 29.079861 | F38: =SUM(F$43-F$33)/9+F37 -> 27.260417 | G38: =SUM(G$43-G$33)/9+G37 -> 26.131944 | H38: =SUM(H$43-H$33)/9+H37 -> 24.609375 | I38: =SUM(I$43-I$33)/9+I37 -> 23.454861 | ... R38: =SUM(R$43-R$33)/9+R37 -> 10.836806 | S38: =SUM(T38-R38)/2+R38 -> 9.0668403 | T38: =SUM(T$43-T$33)/9+T37 -> 7.296875 | U38: =SUM(U$43-U$33)/9+U37 -> 3.1111111 | V38: =SUM(V$43-V$33)/9+V37 -> 0 | W38: =SUM(W$43-W$33)/9+W37 -> 0 | X38: =SUM(X$43-X$33)/9+X37 -> 0 | Y38: =SUM(Y$43-Y$33)/9+Y37 -> 0 | Z38: =SUM(Z$43-Z$33)/9+Z37 -> 0 | AA38: =SUM(AA$43-AA$33)/9+AA37 -> 0 | AB38: =SUM(AB$43-AB$33)/9+AB37 -> 0
A39: 36 | B39: =SUM(B$43-B$33)/9+B38 -> 51.270833 | C39: =SUM(C$43-C$33)/9+C38 -> 41.53125 | D39: =SUM(D$43-D$33)/9+D38 -> 32.703125 | E39: =SUM(E$43-E$33)/9+E38 -> 30.036458 | F39: =SUM(F$43-F$33)/9+F38 -> 28.171875 | G39: =SUM(G$43-G$33)/9+G38 -> 27.098958 | H39: =SUM(H$43-H$33)/9+H38 -> 25.53125 | I39: =SUM(I$43-I$33)/9+I38 -> 24.364583 | ... R39: =SUM(R$43-R$33)/9+R38 -> 11.604167 | S39: =SUM(T39-R39)/2+R39 -> 9.7005208 | T39: =SUM(T$43-T$33)/9+T38 -> 7.796875 | U39: =SUM(U$43-U$33)/9+U38 -> 3.3333333 | V39: =SUM(V$43-V$33)/9+V38 -> 0 | W39: =SUM(W$43-W$33)/9+W38 -> 0 | X39: =SUM(X$43-X$33)/9+X38 -> 0 | Y39: =SUM(Y$43-Y$33)/9+Y38 -> 0 | Z39: =SUM(Z$43-Z$33)/9+Z38 -> 0 | AA39: =SUM(AA$43-AA$33)/9+AA38 -> 0 | AB39: =SUM(AB$43-AB$33)/9+AB38 -> 0
A40: 37 | B40: =SUM(B$43-B$33)/9+B39 -> 53.149306 | C40: =SUM(C$43-C$33)/9+C39 -> 43.020833 | D40: =SUM(D$43-D$33)/9+D39 -> 33.703125 | E40: =SUM(E$43-E$33)/9+E39 -> 30.993056 | F40: =SUM(F$43-F$33)/9+F39 -> 29.083333 | G40: =SUM(G$43-G$33)/9+G39 -> 28.065972 | H40: =SUM(H$43-H$33)/9+H39 -> 26.453125 | I40: =SUM(I$43-I$33)/9+I39 -> 25.274306 | ... R40: =SUM(R$43-R$33)/9+R39 -> 12.371528 | S40: =SUM(T40-R40)/2+R40 -> 10.334201 | T40: =SUM(T$43-T$33)/9+T39 -> 8.296875 | U40: =SUM(U$43-U$33)/9+U39 -> 3.5555556 | V40: =SUM(V$43-V$33)/9+V39 -> 0 | W40: =SUM(W$43-W$33)/9+W39 -> 0 | X40: =SUM(X$43-X$33)/9+X39 -> 0 | Y40: =SUM(Y$43-Y$33)/9+Y39 -> 0 | Z40: =SUM(Z$43-Z$33)/9+Z39 -> 0 | AA40: =SUM(AA$43-AA$33)/9+AA39 -> 0 | AB40: =SUM(AB$43-AB$33)/9+AB39 -> 0
A41: 38 | B41: =SUM(B$43-B$33)/9+B40 -> 55.027778 | C41: =SUM(C$43-C$33)/9+C40 -> 44.510417 | D41: =SUM(D$43-D$33)/9+D40 -> 34.703125 | E41: =SUM(E$43-E$33)/9+E40 -> 31.949653 | F41: =SUM(F$43-F$33)/9+F40 -> 29.994792 | G41: =SUM(G$43-G$33)/9+G40 -> 29.032986 | H41: =SUM(H$43-H$33)/9+H40 -> 27.375 | I41: =SUM(I$43-I$33)/9+I40 -> 26.184028 | ... R41: =SUM(R$43-R$33)/9+R40 -> 13.138889 | S41: =SUM(T41-R41)/2+R41 -> 10.967882 | T41: =SUM(T$43-T$33)/9+T40 -> 8.796875 | U41: =SUM(U$43-U$33)/9+U40 -> 3.7777778 | V41: =SUM(V$43-V$33)/9+V40 -> 0 | W41: =SUM(W$43-W$33)/9+W40 -> 0 | X41: =SUM(X$43-X$33)/9+X40 -> 0 | Y41: =SUM(Y$43-Y$33)/9+Y40 -> 0 | Z41: =SUM(Z$43-Z$33)/9+Z40 -> 0 | AA41: =SUM(AA$43-AA$33)/9+AA40 -> 0 | AB41: =SUM(AB$43-AB$33)/9+AB40 -> 0
A42: 39 | B42: =SUM(B$43-B$33)/9+B41 -> 56.90625 | C42: =SUM(C$43-C$33)/9+C41 -> 46 | D42: =SUM(D$43-D$33)/9+D41 -> 35.703125 | E42: =SUM(E$43-E$33)/9+E41 -> 32.90625 | F42: =SUM(F$43-F$33)/9+F41 -> 30.90625 | G42: =SUM(G$43-G$33)/9+G41 -> 30 | H42: =SUM(H$43-H$33)/9+H41 -> 28.296875 | I42: =SUM(I$43-I$33)/9+I41 -> 27.09375 | ... R42: =SUM(R$43-R$33)/9+R41 -> 13.90625 | S42: =SUM(T42-R42)/2+R42 -> 11.601562 | T42: =SUM(T$43-T$33)/9+T41 -> 9.296875 | U42: =SUM(U$43-U$33)/9+U41 -> 4 | V42: =SUM(V$43-V$33)/9+V41 -> 0 | W42: =SUM(W$43-W$33)/9+W41 -> 0 | X42: =SUM(X$43-X$33)/9+X41 -> 0 | Y42: =SUM(Y$43-Y$33)/9+Y41 -> 0 | Z42: =SUM(Z$43-Z$33)/9+Z41 -> 0 | AA42: =SUM(AA$43-AA$33)/9+AA41 -> 0 | AB42: =SUM(AB$43-AB$33)/9+AB41 -> 0
A43: 40 | B43: =SUM(Math!B7) -> 56.90625 | C43: =SUM(Math!C7) -> 46 | D43: =SUM(Math!D7) -> 35.703125 | E43: =SUM(Math!E7) -> 32.90625 | F43: =SUM(Math!F7) -> 30.90625 | G43: =SUM(Math!G7) -> 30 | H43: =SUM(Math!H7) -> 28.296875 | I43: =SUM(Math!I7) -> 27.09375 | ... R43: =SUM(Math!R7) -> 13.90625 | S43: =SUM(T43-R43)/2+R43 -> 11.601562 | T43: =SUM(Math!S7) -> 9.296875 | U43: =SUM(Math!T7) -> 4 | V43: =SUM(Math!U7) -> 0 | W43: =SUM(Math!V7) -> 0 | X43: =SUM(Math!W7) -> 0 | Y43: =SUM(Math!X7) -> 0 | Z43: =SUM(Math!Y7) -> 0 | AA43: =SUM(Math!Z7) -> 0 | AB43: =SUM(Math!AA7) -> 0
A44: 41 | B44: =SUM(B$53-B$43)/9+B43 -> 60.027778 | C44: =SUM(C$53-C$43)/9+C43 -> 50.333333 | D44: =SUM(D$53-D$43)/9+D43 -> 37.036458 | E44: =SUM(E$53-E$43)/9+E43 -> 34.138889 | F44: =SUM(F$53-F$43)/9+F43 -> 32.161458 | G44: =SUM(G$53-G$43)/9+G43 -> 31.199653 | H44: =SUM(H$53-H$43)/9+H43 -> 29.574653 | I44: =SUM(I$53-I$43)/9+I43 -> 28.350694 | ... R44: =SUM(R$53-R$43)/9+R43 -> 14.772569 | S44: =SUM(T44-R44)/2+R44 -> 12.423611 | T44: =SUM(T$53-T$43)/9+T43 -> 10.074653 | U44: =SUM(U$53-U$43)/9+U43 -> 4.4444444 | V44: =SUM(V$53-V$43)/9+V43 -> 0 | W44: =SUM(W$53-W$43)/9+W43 -> 0 | X44: =SUM(X$53-X$43)/9+X43 -> 0 | Y44: =SUM(Y$53-Y$43)/9+Y43 -> 0 | Z44: =SUM(Z$53-Z$43)/9+Z43 -> 0 | AA44: =SUM(AA$53-AA$43)/9+AA43 -> 0 | AB44: =SUM(AB$53-AB$43)/9+AB43 -> 0
A45: 42 | B45: =SUM(B$53-B$43)/9+B44 -> 63.149306 | C45: =SUM(C$53-C$43)/9+C44 -> 54.666667 | D45: =SUM(D$53-D$43)/9+D44 -> 38.369792 | E45: =SUM(E$53-E$43)/9+E44 -> 35.371528 | F45: =SUM(F$53-F$43)/9+F44 -> 33.416667 | G45: =SUM(G$53-G$43)/9+G44 -> 32.399306 | H45: =SUM(H$53-H$43)/9+H44 -> 30.852431 | I45: =SUM(I$53-I$43)/9+I44 -> 29.607639 | ... R45: =SUM(R$53-R$43)/9+R44 -> 15.638889 | S45: =SUM(T45-R45)/2+R45 -> 13.24566 | T45: =SUM(T$53-T$43)/9+T44 -> 10.852431 | U45: =SUM(U$53-U$43)/9+U44 -> 4.8888889 | V45: =SUM(V$53-V$43)/9+V44 -> 0 | W45: =SUM(W$53-W$43)/9+W44 -> 0 | X45: =SUM(X$53-X$43)/9+X44 -> 0 | Y45: =SUM(Y$53-Y$43)/9+Y44 -> 0 | Z45: =SUM(Z$53-Z$43)/9+Z44 -> 0 | AA45: =SUM(AA$53-AA$43)/9+AA44 -> 0 | AB45: =SUM(AB$53-AB$43)/9+AB44 -> 0
A46: 43 | B46: =SUM(B$53-B$43)/9+B45 -> 66.270833 | C46: =SUM(C$53-C$43)/9+C45 -> 59 | D46: =SUM(D$53-D$43)/9+D45 -> 39.703125 | E46: =SUM(E$53-E$43)/9+E45 -> 36.604167 | F46: =SUM(F$53-F$43)/9+F45 -> 34.671875 | G46: =SUM(G$53-G$43)/9+G45 -> 33.598958 | H46: =SUM(H$53-H$43)/9+H45 -> 32.130208 | I46: =SUM(I$53-I$43)/9+I45 -> 30.864583 | ... R46: =SUM(R$53-R$43)/9+R45 -> 16.505208 | S46: =SUM(T46-R46)/2+R46 -> 14.067708 | T46: =SUM(T$53-T$43)/9+T45 -> 11.630208 | U46: =SUM(U$53-U$43)/9+U45 -> 5.3333333 | V46: =SUM(V$53-V$43)/9+V45 -> 0 | W46: =SUM(W$53-W$43)/9+W45 -> 0 | X46: =SUM(X$53-X$43)/9+X45 -> 0 | Y46: =SUM(Y$53-Y$43)/9+Y45 -> 0 | Z46: =SUM(Z$53-Z$43)/9+Z45 -> 0 | AA46: =SUM(AA$53-AA$43)/9+AA45 -> 0 | AB46: =SUM(AB$53-AB$43)/9+AB45 -> 0
A47: 44 | B47: =SUM(B$53-B$43)/9+B46 -> 69.392361 | C47: =SUM(C$53-C$43)/9+C46 -> 63.333333 | D47: =SUM(D$53-D$43)/9+D46 -> 41.036458 | E47: =SUM(E$53-E$43)/9+E46 -> 37.836806 | F47: =SUM(F$53-F$43)/9+F46 -> 35.927083 | G47: =SUM(G$53-G$43)/9+G46 -> 34.798611 | H47: =SUM(H$53-H$43)/9+H46 -> 33.407986 | I47: =SUM(I$53-I$43)/9+I46 -> 32.121528 | ... R47: =SUM(R$53-R$43)/9+R46 -> 17.371528 | S47: =SUM(T47-R47)/2+R47 -> 14.889757 | T47: =SUM(T$53-T$43)/9+T46 -> 12.407986 | U47: =SUM(U$53-U$43)/9+U46 -> 5.7777778 | V47: =SUM(V$53-V$43)/9+V46 -> 0 | W47: =SUM(W$53-W$43)/9+W46 -> 0 | X47: =SUM(X$53-X$43)/9+X46 -> 0 | Y47: =SUM(Y$53-Y$43)/9+Y46 -> 0 | Z47: =SUM(Z$53-Z$43)/9+Z46 -> 0 | AA47: =SUM(AA$53-AA$43)/9+AA46 -> 0 | AB47: =SUM(AB$53-AB$43)/9+AB46 -> 0
A48: 45 | B48: =SUM(B$53-B$43)/9+B47 -> 72.513889 | C48: =SUM(C$53-C$43)/9+C47 -> 67.666667 | D48: =SUM(D$53-D$43)/9+D47 -> 42.369792 | E48: =SUM(E$53-E$43)/9+E47 -> 39.069444 | F48: =SUM(F$53-F$43)/9+F47 -> 37.182292 | G48: =SUM(G$53-G$43)/9+G47 -> 35.998264 | H48: =SUM(H$53-H$43)/9+H47 -> 34.685764 | I48: =SUM(I$53-I$43)/9+I47 -> 33.378472 | ... R48: =SUM(R$53-R$43)/9+R47 -> 18.237847 | S48: =SUM(T48-R48)/2+R48 -> 15.711806 | T48: =SUM(T$53-T$43)/9+T47 -> 13.185764 | U48: =SUM(U$53-U$43)/9+U47 -> 6.2222222 | V48: =SUM(V$53-V$43)/9+V47 -> 0 | W48: =SUM(W$53-W$43)/9+W47 -> 0 | X48: =SUM(X$53-X$43)/9+X47 -> 0 | Y48: =SUM(Y$53-Y$43)/9+Y47 -> 0 | Z48: =SUM(Z$53-Z$43)/9+Z47 -> 0 | AA48: =SUM(AA$53-AA$43)/9+AA47 -> 0 | AB48: =SUM(AB$53-AB$43)/9+AB47 -> 0
A49: 46 | B49: =SUM(B$53-B$43)/9+B48 -> 75.635417 | C49: =SUM(C$53-C$43)/9+C48 -> 72 | D49: =SUM(D$53-D$43)/9+D48 -> 43.703125 | E49: =SUM(E$53-E$43)/9+E48 -> 40.302083 | F49: =SUM(F$53-F$43)/9+F48 -> 38.4375 | G49: =SUM(G$53-G$43)/9+G48 -> 37.197917 | H49: =SUM(H$53-H$43)/9+H48 -> 35.963542 | I49: =SUM(I$53-I$43)/9+I48 -> 34.635417 | ... R49: =SUM(R$53-R$43)/9+R48 -> 19.104167 | S49: =SUM(T49-R49)/2+R49 -> 16.533854 | T49: =SUM(T$53-T$43)/9+T48 -> 13.963542 | U49: =SUM(U$53-U$43)/9+U48 -> 6.6666667 | V49: =SUM(V$53-V$43)/9+V48 -> 0 | W49: =SUM(W$53-W$43)/9+W48 -> 0 | X49: =SUM(X$53-X$43)/9+X48 -> 0 | Y49: =SUM(Y$53-Y$43)/9+Y48 -> 0 | Z49: =SUM(Z$53-Z$43)/9+Z48 -> 0 | AA49: =SUM(AA$53-AA$43)/9+AA48 -> 0 | AB49: =SUM(AB$53-AB$43)/9+AB48 -> 0
A50: 47 | B50: =SUM(B$53-B$43)/9+B49 -> 78.756944 | C50: =SUM(C$53-C$43)/9+C49 -> 76.333333 | D50: =SUM(D$53-D$43)/9+D49 -> 45.036458 | E50: =SUM(E$53-E$43)/9+E49 -> 41.534722 | F50: =SUM(F$53-F$43)/9+F49 -> 39.692708 | G50: =SUM(G$53-G$43)/9+G49 -> 38.397569 | H50: =SUM(H$53-H$43)/9+H49 -> 37.241319 | I50: =SUM(I$53-I$43)/9+I49 -> 35.892361 | ... R50: =SUM(R$53-R$43)/9+R49 -> 19.970486 | S50: =SUM(T50-R50)/2+R50 -> 17.355903 | T50: =SUM(T$53-T$43)/9+T49 -> 14.741319 | U50: =SUM(U$53-U$43)/9+U49 -> 7.1111111 | V50: =SUM(V$53-V$43)/9+V49 -> 0 | W50: =SUM(W$53-W$43)/9+W49 -> 0 | X50: =SUM(X$53-X$43)/9+X49 -> 0 | Y50: =SUM(Y$53-Y$43)/9+Y49 -> 0 | Z50: =SUM(Z$53-Z$43)/9+Z49 -> 0 | AA50: =SUM(AA$53-AA$43)/9+AA49 -> 0 | AB50: =SUM(AB$53-AB$43)/9+AB49 -> 0
A51: 48 | B51: =SUM(B$53-B$43)/9+B50 -> 81.878472 | C51: =SUM(C$53-C$43)/9+C50 -> 80.666667 | D51: =SUM(D$53-D$43)/9+D50 -> 46.369792 | E51: =SUM(E$53-E$43)/9+E50 -> 42.767361 | F51: =SUM(F$53-F$43)/9+F50 -> 40.947917 | G51: =SUM(G$53-G$43)/9+G50 -> 39.597222 | H51: =SUM(H$53-H$43)/9+H50 -> 38.519097 | I51: =SUM(I$53-I$43)/9+I50 -> 37.149306 | ... R51: =SUM(R$53-R$43)/9+R50 -> 20.836806 | S51: =SUM(T51-R51)/2+R51 -> 18.177951 | T51: =SUM(T$53-T$43)/9+T50 -> 15.519097 | U51: =SUM(U$53-U$43)/9+U50 -> 7.5555556 | V51: =SUM(V$53-V$43)/9+V50 -> 0 | W51: =SUM(W$53-W$43)/9+W50 -> 0 | X51: =SUM(X$53-X$43)/9+X50 -> 0 | Y51: =SUM(Y$53-Y$43)/9+Y50 -> 0 | Z51: =SUM(Z$53-Z$43)/9+Z50 -> 0 | AA51: =SUM(AA$53-AA$43)/9+AA50 -> 0 | AB51: =SUM(AB$53-AB$43)/9+AB50 -> 0
A52: 49 | B52: =SUM(B$53-B$43)/9+B51 -> 85 | C52: =SUM(C$53-C$43)/9+C51 -> 85 | D52: =SUM(D$53-D$43)/9+D51 -> 47.703125 | E52: =SUM(E$53-E$43)/9+E51 -> 44 | F52: =SUM(F$53-F$43)/9+F51 -> 42.203125 | G52: =SUM(G$53-G$43)/9+G51 -> 40.796875 | H52: =SUM(H$53-H$43)/9+H51 -> 39.796875 | I52: =SUM(I$53-I$43)/9+I51 -> 38.40625 | ... R52: =SUM(R$53-R$43)/9+R51 -> 21.703125 | S52: =SUM(T52-R52)/2+R52 -> 19 | T52: =SUM(T$53-T$43)/9+T51 -> 16.296875 | U52: =SUM(U$53-U$43)/9+U51 -> 8 | V52: =SUM(V$53-V$43)/9+V51 -> 0 | W52: =SUM(W$53-W$43)/9+W51 -> 0 | X52: =SUM(X$53-X$43)/9+X51 -> 0 | Y52: =SUM(Y$53-Y$43)/9+Y51 -> 0 | Z52: =SUM(Z$53-Z$43)/9+Z51 -> 0 | AA52: =SUM(AA$53-AA$43)/9+AA51 -> 0 | AB52: =SUM(AB$53-AB$43)/9+AB51 -> 0
A53: 50 | B53: =SUM(Math!B8) -> 85 | C53: =SUM(Math!C8) -> 85 | D53: =SUM(Math!D8) -> 47.703125 | E53: =SUM(Math!E8) -> 44 | F53: =SUM(Math!F8) -> 42.203125 | G53: =SUM(Math!G8) -> 40.796875 | H53: =SUM(Math!H8) -> 39.796875 | I53: =SUM(Math!I8) -> 38.40625 | ... R53: =SUM(Math!R8) -> 21.703125 | S53: =SUM(T53-R53)/2+R53 -> 19 | T53: =SUM(Math!S8) -> 16.296875 | U53: =SUM(Math!T8) -> 8 | V53: =SUM(Math!U8) -> 0 | W53: =SUM(Math!V8) -> 0 | X53: =SUM(Math!W8) -> 0 | Y53: =SUM(Math!X8) -> 0 | Z53: =SUM(Math!Y8) -> 0 | AA53: =SUM(Math!Z8) -> 0 | AB53: =SUM(Math!AA8) -> 0
A54: 51 | B54: =SUM(B$63-B$53)/9+B53 -> 85 | C54: =SUM(C$63-C$53)/9+C53 -> 85 | D54: =SUM(D$63-D$53)/9+D53 -> 48.647569 | E54: =SUM(E$63-E$53)/9+E53 -> 45.065972 | F54: =SUM(F$63-F$53)/9+F53 -> 43.380208 | G54: =SUM(G$63-G$53)/9+G53 -> 42.019097 | H54: =SUM(H$63-H$53)/9+H53 -> 41.019097 | I54: =SUM(I$63-I$53)/9+I53 -> 39.671875 | ... R54: =SUM(R$63-R$53)/9+R53 -> 22.302083 | S54: =SUM(T54-R54)/2+R54 -> 19.477431 | T54: =SUM(T$63-T$53)/9+T53 -> 16.652778 | U54: =SUM(U$63-U$53)/9+U53 -> 8.2222222 | V54: =SUM(V$63-V$53)/9+V53 -> 0 | W54: =SUM(W$63-W$53)/9+W53 -> 0 | X54: =SUM(X$63-X$53)/9+X53 -> 0 | Y54: =SUM(Y$63-Y$53)/9+Y53 -> 0 | Z54: =SUM(Z$63-Z$53)/9+Z53 -> 0 | AA54: =SUM(AA$63-AA$53)/9+AA53 -> 0 | AB54: =SUM(AB$63-AB$53)/9+AB53 -> 0
A55: 52 | B55: =SUM(B$63-B$53)/9+B54 -> 85 | C55: =SUM(C$63-C$53)/9+C54 -> 85 | D55: =SUM(D$63-D$53)/9+D54 -> 49.592014 | E55: =SUM(E$63-E$53)/9+E54 -> 46.131944 | F55: =SUM(F$63-F$53)/9+F54 -> 44.557292 | G55: =SUM(G$63-G$53)/9+G54 -> 43.241319 | H55: =SUM(H$63-H$53)/9+H54 -> 42.241319 | I55: =SUM(I$63-I$53)/9+I54 -> 40.9375 | ... R55: =SUM(R$63-R$53)/9+R54 -> 22.901042 | S55: =SUM(T55-R55)/2+R55 -> 19.954861 | T55: =SUM(T$63-T$53)/9+T54 -> 17.008681 | U55: =SUM(U$63-U$53)/9+U54 -> 8.4444444 | V55: =SUM(V$63-V$53)/9+V54 -> 0 | W55: =SUM(W$63-W$53)/9+W54 -> 0 | X55: =SUM(X$63-X$53)/9+X54 -> 0 | Y55: =SUM(Y$63-Y$53)/9+Y54 -> 0 | Z55: =SUM(Z$63-Z$53)/9+Z54 -> 0 | AA55: =SUM(AA$63-AA$53)/9+AA54 -> 0 | AB55: =SUM(AB$63-AB$53)/9+AB54 -> 0
A56: 53 | B56: =SUM(B$63-B$53)/9+B55 -> 85 | C56: =SUM(C$63-C$53)/9+C55 -> 85 | D56: =SUM(D$63-D$53)/9+D55 -> 50.536458 | E56: =SUM(E$63-E$53)/9+E55 -> 47.197917 | F56: =SUM(F$63-F$53)/9+F55 -> 45.734375 | G56: =SUM(G$63-G$53)/9+G55 -> 44.463542 | H56: =SUM(H$63-H$53)/9+H55 -> 43.463542 | I56: =SUM(I$63-I$53)/9+I55 -> 42.203125 | ... R56: =SUM(R$63-R$53)/9+R55 -> 23.5 | S56: =SUM(T56-R56)/2+R56 -> 20.432292 | T56: =SUM(T$63-T$53)/9+T55 -> 17.364583 | U56: =SUM(U$63-U$53)/9+U55 -> 8.6666667 | V56: =SUM(V$63-V$53)/9+V55 -> 0 | W56: =SUM(W$63-W$53)/9+W55 -> 0 | X56: =SUM(X$63-X$53)/9+X55 -> 0 | Y56: =SUM(Y$63-Y$53)/9+Y55 -> 0 | Z56: =SUM(Z$63-Z$53)/9+Z55 -> 0 | AA56: =SUM(AA$63-AA$53)/9+AA55 -> 0 | AB56: =SUM(AB$63-AB$53)/9+AB55 -> 0
A57: 54 | B57: =SUM(B$63-B$53)/9+B56 -> 85 | C57: =SUM(C$63-C$53)/9+C56 -> 85 | D57: =SUM(D$63-D$53)/9+D56 -> 51.480903 | E57: =SUM(E$63-E$53)/9+E56 -> 48.263889 | F57: =SUM(F$63-F$53)/9+F56 -> 46.911458 | G57: =SUM(G$63-G$53)/9+G56 -> 45.685764 | H57: =SUM(H$63-H$53)/9+H56 -> 44.685764 | I57: =SUM(I$63-I$53)/9+I56 -> 43.46875 | ... R57: =SUM(R$63-R$53)/9+R56 -> 24.098958 | S57: =SUM(T57-R57)/2+R57 -> 20.909722 | T57: =SUM(T$63-T$53)/9+T56 -> 17.720486 | U57: =SUM(U$63-U$53)/9+U56 -> 8.8888889 | V57: =SUM(V$63-V$53)/9+V56 -> 0 | W57: =SUM(W$63-W$53)/9+W56 -> 0 | X57: =SUM(X$63-X$53)/9+X56 -> 0 | Y57: =SUM(Y$63-Y$53)/9+Y56 -> 0 | Z57: =SUM(Z$63-Z$53)/9+Z56 -> 0 | AA57: =SUM(AA$63-AA$53)/9+AA56 -> 0 | AB57: =SUM(AB$63-AB$53)/9+AB56 -> 0
A58: 55 | B58: =SUM(B$63-B$53)/9+B57 -> 85 | C58: =SUM(C$63-C$53)/9+C57 -> 85 | D58: =SUM(D$63-D$53)/9+D57 -> 52.425347 | E58: =SUM(E$63-E$53)/9+E57 -> 49.329861 | F58: =SUM(F$63-F$53)/9+F57 -> 48.088542 | G58: =SUM(G$63-G$53)/9+G57 -> 46.907986 | H58: =SUM(H$63-H$53)/9+H57 -> 45.907986 | I58: =SUM(I$63-I$53)/9+I57 -> 44.734375 | ... R58: =SUM(R$63-R$53)/9+R57 -> 24.697917 | S58: =SUM(T58-R58)/2+R58 -> 21.387153 | T58: =SUM(T$63-T$53)/9+T57 -> 18.076389 | U58: =SUM(U$63-U$53)/9+U57 -> 9.1111111 | V58: =SUM(V$63-V$53)/9+V57 -> 0 | W58: =SUM(W$63-W$53)/9+W57 -> 0 | X58: =SUM(X$63-X$53)/9+X57 -> 0 | Y58: =SUM(Y$63-Y$53)/9+Y57 -> 0 | Z58: =SUM(Z$63-Z$53)/9+Z57 -> 0 | AA58: =SUM(AA$63-AA$53)/9+AA57 -> 0 | AB58: =SUM(AB$63-AB$53)/9+AB57 -> 0
A59: 56 | B59: =SUM(B$63-B$53)/9+B58 -> 85 | C59: =SUM(C$63-C$53)/9+C58 -> 85 | D59: =SUM(D$63-D$53)/9+D58 -> 53.369792 | E59: =SUM(E$63-E$53)/9+E58 -> 50.395833 | F59: =SUM(F$63-F$53)/9+F58 -> 49.265625 | G59: =SUM(G$63-G$53)/9+G58 -> 48.130208 | H59: =SUM(H$63-H$53)/9+H58 -> 47.130208 | I59: =SUM(I$63-I$53)/9+I58 -> 46 | ... R59: =SUM(R$63-R$53)/9+R58 -> 25.296875 | S59: =SUM(T59-R59)/2+R59 -> 21.864583 | T59: =SUM(T$63-T$53)/9+T58 -> 18.432292 | U59: =SUM(U$63-U$53)/9+U58 -> 9.3333333 | V59: =SUM(V$63-V$53)/9+V58 -> 0 | W59: =SUM(W$63-W$53)/9+W58 -> 0 | X59: =SUM(X$63-X$53)/9+X58 -> 0 | Y59: =SUM(Y$63-Y$53)/9+Y58 -> 0 | Z59: =SUM(Z$63-Z$53)/9+Z58 -> 0 | AA59: =SUM(AA$63-AA$53)/9+AA58 -> 0 | AB59: =SUM(AB$63-AB$53)/9+AB58 -> 0
A60: 57 | B60: =SUM(B$63-B$53)/9+B59 -> 85 | C60: =SUM(C$63-C$53)/9+C59 -> 85 | D60: =SUM(D$63-D$53)/9+D59 -> 54.314236 | E60: =SUM(E$63-E$53)/9+E59 -> 51.461806 | F60: =SUM(F$63-F$53)/9+F59 -> 50.442708 | G60: =SUM(G$63-G$53)/9+G59 -> 49.352431 | H60: =SUM(H$63-H$53)/9+H59 -> 48.352431 | I60: =SUM(I$63-I$53)/9+I59 -> 47.265625 | ... R60: =SUM(R$63-R$53)/9+R59 -> 25.895833 | S60: =SUM(T60-R60)/2+R60 -> 22.342014 | T60: =SUM(T$63-T$53)/9+T59 -> 18.788194 | U60: =SUM(U$63-U$53)/9+U59 -> 9.5555556 | V60: =SUM(V$63-V$53)/9+V59 -> 0 | W60: =SUM(W$63-W$53)/9+W59 -> 0 | X60: =SUM(X$63-X$53)/9+X59 -> 0 | Y60: =SUM(Y$63-Y$53)/9+Y59 -> 0 | Z60: =SUM(Z$63-Z$53)/9+Z59 -> 0 | AA60: =SUM(AA$63-AA$53)/9+AA59 -> 0 | AB60: =SUM(AB$63-AB$53)/9+AB59 -> 0
A61: 58 | B61: =SUM(B$63-B$53)/9+B60 -> 85 | C61: =SUM(C$63-C$53)/9+C60 -> 85 | D61: =SUM(D$63-D$53)/9+D60 -> 55.258681 | E61: =SUM(E$63-E$53)/9+E60 -> 52.527778 | F61: =SUM(F$63-F$53)/9+F60 -> 51.619792 | G61: =SUM(G$63-G$53)/9+G60 -> 50.574653 | H61: =SUM(H$63-H$53)/9+H60 -> 49.574653 | I61: =SUM(I$63-I$53)/9+I60 -> 48.53125 | ... R61: =SUM(R$63-R$53)/9+R60 -> 26.494792 | S61: =SUM(T61-R61)/2+R61 -> 22.819444 | T61: =SUM(T$63-T$53)/9+T60 -> 19.144097 | U61: =SUM(U$63-U$53)/9+U60 -> 9.7777778 | V61: =SUM(V$63-V$53)/9+V60 -> 0 | W61: =SUM(W$63-W$53)/9+W60 -> 0 | X61: =SUM(X$63-X$53)/9+X60 -> 0 | Y61: =SUM(Y$63-Y$53)/9+Y60 -> 0 | Z61: =SUM(Z$63-Z$53)/9+Z60 -> 0 | AA61: =SUM(AA$63-AA$53)/9+AA60 -> 0 | AB61: =SUM(AB$63-AB$53)/9+AB60 -> 0
A62: 59 | B62: =SUM(B$63-B$53)/9+B61 -> 85 | C62: =SUM(C$63-C$53)/9+C61 -> 85 | D62: =SUM(D$63-D$53)/9+D61 -> 56.203125 | E62: =SUM(E$63-E$53)/9+E61 -> 53.59375 | F62: =SUM(F$63-F$53)/9+F61 -> 52.796875 | G62: =SUM(G$63-G$53)/9+G61 -> 51.796875 | H62: =SUM(H$63-H$53)/9+H61 -> 50.796875 | I62: =SUM(I$63-I$53)/9+I61 -> 49.796875 | ... R62: =SUM(R$63-R$53)/9+R61 -> 27.09375 | S62: =SUM(T62-R62)/2+R62 -> 23.296875 | T62: =SUM(T$63-T$53)/9+T61 -> 19.5 | U62: =SUM(U$63-U$53)/9+U61 -> 10 | V62: =SUM(V$63-V$53)/9+V61 -> 0 | W62: =SUM(W$63-W$53)/9+W61 -> 0 | X62: =SUM(X$63-X$53)/9+X61 -> 0 | Y62: =SUM(Y$63-Y$53)/9+Y61 -> 0 | Z62: =SUM(Z$63-Z$53)/9+Z61 -> 0 | AA62: =SUM(AA$63-AA$53)/9+AA61 -> 0 | AB62: =SUM(AB$63-AB$53)/9+AB61 -> 0
A63: 60 | B63: =SUM(Math!B9) -> 85 | C63: =SUM(Math!C9) -> 85 | D63: =SUM(Math!D9) -> 56.203125 | E63: =SUM(Math!E9) -> 53.59375 | F63: =SUM(Math!F9) -> 52.796875 | G63: =SUM(Math!G9) -> 51.796875 | H63: =SUM(Math!H9) -> 50.796875 | I63: =SUM(Math!I9) -> 49.796875 | ... R63: =SUM(Math!R9) -> 27.09375 | S63: =SUM(T63-R63)/2+R63 -> 23.296875 | T63: =SUM(Math!S9) -> 19.5 | U63: =SUM(Math!T9) -> 10 | V63: =SUM(Math!U9) -> 0 | W63: =SUM(Math!V9) -> 0 | X63: =SUM(Math!W9) -> 0 | Y63: =SUM(Math!X9) -> 0 | Z63: =SUM(Math!Y9) -> 0 | AA63: =SUM(Math!Z9) -> 0 | AB63: =SUM(Math!AA9) -> 0
A64: 61 | B64: =SUM(B$73-B$63)/9+B63 -> 85 | C64: =SUM(C$73-C$63)/9+C63 -> 85 | D64: =SUM(D$73-D$63)/9+D63 -> 56.625 | E64: =SUM(E$73-E$63)/9+E63 -> 54.305556 | F64: =SUM(F$73-F$63)/9+F63 -> 53.597222 | G64: =SUM(G$73-G$63)/9+G63 -> 52.708333 | H64: =SUM(H$73-H$63)/9+H63 -> 51.819444 | I64: =SUM(I$73-I$63)/9+I63 -> 50.930556 | ... R64: =SUM(R$73-R$63)/9+R63 -> 28.550347 | S64: =SUM(T64-R64)/2+R64 -> 24.447049 | T64: =SUM(T$73-T$63)/9+T63 -> 20.34375 | U64: =SUM(U$73-U$63)/9+U63 -> 10.222222 | V64: =SUM(V$73-V$63)/9+V63 -> 0 | W64: =SUM(W$73-W$63)/9+W63 -> 0 | X64: =SUM(X$73-X$63)/9+X63 -> 0 | Y64: =SUM(Y$73-Y$63)/9+Y63 -> 0 | Z64: =SUM(Z$73-Z$63)/9+Z63 -> 0 | AA64: =SUM(AA$73-AA$63)/9+AA63 -> 0 | AB64: =SUM(AB$73-AB$63)/9+AB63 -> 0
A65: 62 | B65: =SUM(B$73-B$63)/9+B64 -> 85 | C65: =SUM(C$73-C$63)/9+C64 -> 85 | D65: =SUM(D$73-D$63)/9+D64 -> 57.046875 | E65: =SUM(E$73-E$63)/9+E64 -> 55.017361 | F65: =SUM(F$73-F$63)/9+F64 -> 54.397569 | G65: =SUM(G$73-G$63)/9+G64 -> 53.619792 | H65: =SUM(H$73-H$63)/9+H64 -> 52.842014 | I65: =SUM(I$73-I$63)/9+I64 -> 52.064236 | ... R65: =SUM(R$73-R$63)/9+R64 -> 30.006944 | S65: =SUM(T65-R65)/2+R65 -> 25.597222 | T65: =SUM(T$73-T$63)/9+T64 -> 21.1875 | U65: =SUM(U$73-U$63)/9+U64 -> 10.444444 | V65: =SUM(V$73-V$63)/9+V64 -> 0 | W65: =SUM(W$73-W$63)/9+W64 -> 0 | X65: =SUM(X$73-X$63)/9+X64 -> 0 | Y65: =SUM(Y$73-Y$63)/9+Y64 -> 0 | Z65: =SUM(Z$73-Z$63)/9+Z64 -> 0 | AA65: =SUM(AA$73-AA$63)/9+AA64 -> 0 | AB65: =SUM(AB$73-AB$63)/9+AB64 -> 0
A66: 63 | B66: =SUM(B$73-B$63)/9+B65 -> 85 | C66: =SUM(C$73-C$63)/9+C65 -> 85 | D66: =SUM(D$73-D$63)/9+D65 -> 57.46875 | E66: =SUM(E$73-E$63)/9+E65 -> 55.729167 | F66: =SUM(F$73-F$63)/9+F65 -> 55.197917 | G66: =SUM(G$73-G$63)/9+G65 -> 54.53125 | H66: =SUM(H$73-H$63)/9+H65 -> 53.864583 | I66: =SUM(I$73-I$63)/9+I65 -> 53.197917 | ... R66: =SUM(R$73-R$63)/9+R65 -> 31.463542 | S66: =SUM(T66-R66)/2+R66 -> 26.747396 | T66: =SUM(T$73-T$63)/9+T65 -> 22.03125 | U66: =SUM(U$73-U$63)/9+U65 -> 10.666667 | V66: =SUM(V$73-V$63)/9+V65 -> 0 | W66: =SUM(W$73-W$63)/9+W65 -> 0 | X66: =SUM(X$73-X$63)/9+X65 -> 0 | Y66: =SUM(Y$73-Y$63)/9+Y65 -> 0 | Z66: =SUM(Z$73-Z$63)/9+Z65 -> 0 | AA66: =SUM(AA$73-AA$63)/9+AA65 -> 0 | AB66: =SUM(AB$73-AB$63)/9+AB65 -> 0
A67: 64 | B67: =SUM(B$73-B$63)/9+B66 -> 85 | C67: =SUM(C$73-C$63)/9+C66 -> 85 | D67: =SUM(D$73-D$63)/9+D66 -> 57.890625 | E67: =SUM(E$73-E$63)/9+E66 -> 56.440972 | F67: =SUM(F$73-F$63)/9+F66 -> 55.998264 | G67: =SUM(G$73-G$63)/9+G66 -> 55.442708 | H67: =SUM(H$73-H$63)/9+H66 -> 54.887153 | I67: =SUM(I$73-I$63)/9+I66 -> 54.331597 | ... R67: =SUM(R$73-R$63)/9+R66 -> 32.920139 | S67: =SUM(T67-R67)/2+R67 -> 27.897569 | T67: =SUM(T$73-T$63)/9+T66 -> 22.875 | U67: =SUM(U$73-U$63)/9+U66 -> 10.888889 | V67: =SUM(V$73-V$63)/9+V66 -> 0 | W67: =SUM(W$73-W$63)/9+W66 -> 0 | X67: =SUM(X$73-X$63)/9+X66 -> 0 | Y67: =SUM(Y$73-Y$63)/9+Y66 -> 0 | Z67: =SUM(Z$73-Z$63)/9+Z66 -> 0 | AA67: =SUM(AA$73-AA$63)/9+AA66 -> 0 | AB67: =SUM(AB$73-AB$63)/9+AB66 -> 0
A68: 65 | B68: =SUM(B$73-B$63)/9+B67 -> 85 | C68: =SUM(C$73-C$63)/9+C67 -> 85 | D68: =SUM(D$73-D$63)/9+D67 -> 58.3125 | E68: =SUM(E$73-E$63)/9+E67 -> 57.152778 | F68: =SUM(F$73-F$63)/9+F67 -> 56.798611 | G68: =SUM(G$73-G$63)/9+G67 -> 56.354167 | H68: =SUM(H$73-H$63)/9+H67 -> 55.909722 | I68: =SUM(I$73-I$63)/9+I67 -> 55.465278 | ... R68: =SUM(R$73-R$63)/9+R67 -> 34.376736 | S68: =SUM(T68-R68)/2+R68 -> 29.047743 | T68: =SUM(T$73-T$63)/9+T67 -> 23.71875 | U68: =SUM(U$73-U$63)/9+U67 -> 11.111111 | V68: =SUM(V$73-V$63)/9+V67 -> 0 | W68: =SUM(W$73-W$63)/9+W67 -> 0 | X68: =SUM(X$73-X$63)/9+X67 -> 0 | Y68: =SUM(Y$73-Y$63)/9+Y67 -> 0 | Z68: =SUM(Z$73-Z$63)/9+Z67 -> 0 | AA68: =SUM(AA$73-AA$63)/9+AA67 -> 0 | AB68: =SUM(AB$73-AB$63)/9+AB67 -> 0
A69: 66 | B69: =SUM(B$73-B$63)/9+B68 -> 85 | C69: =SUM(C$73-C$63)/9+C68 -> 85 | D69: =SUM(D$73-D$63)/9+D68 -> 58.734375 | E69: =SUM(E$73-E$63)/9+E68 -> 57.864583 | F69: =SUM(F$73-F$63)/9+F68 -> 57.598958 | G69: =SUM(G$73-G$63)/9+G68 -> 57.265625 | H69: =SUM(H$73-H$63)/9+H68 -> 56.932292 | I69: =SUM(I$73-I$63)/9+I68 -> 56.598958 | ... R69: =SUM(R$73-R$63)/9+R68 -> 35.833333 | S69: =SUM(T69-R69)/2+R69 -> 30.197917 | T69: =SUM(T$73-T$63)/9+T68 -> 24.5625 | U69: =SUM(U$73-U$63)/9+U68 -> 11.333333 | V69: =SUM(V$73-V$63)/9+V68 -> 0 | W69: =SUM(W$73-W$63)/9+W68 -> 0 | X69: =SUM(X$73-X$63)/9+X68 -> 0 | Y69: =SUM(Y$73-Y$63)/9+Y68 -> 0 | Z69: =SUM(Z$73-Z$63)/9+Z68 -> 0 | AA69: =SUM(AA$73-AA$63)/9+AA68 -> 0 | AB69: =SUM(AB$73-AB$63)/9+AB68 -> 0
A70: 67 | B70: =SUM(B$73-B$63)/9+B69 -> 85 | C70: =SUM(C$73-C$63)/9+C69 -> 85 | D70: =SUM(D$73-D$63)/9+D69 -> 59.15625 | E70: =SUM(E$73-E$63)/9+E69 -> 58.576389 | F70: =SUM(F$73-F$63)/9+F69 -> 58.399306 | G70: =SUM(G$73-G$63)/9+G69 -> 58.177083 | H70: =SUM(H$73-H$63)/9+H69 -> 57.954861 | I70: =SUM(I$73-I$63)/9+I69 -> 57.732639 | ... R70: =SUM(R$73-R$63)/9+R69 -> 37.289931 | S70: =SUM(T70-R70)/2+R70 -> 31.34809 | T70: =SUM(T$73-T$63)/9+T69 -> 25.40625 | U70: =SUM(U$73-U$63)/9+U69 -> 11.555556 | V70: =SUM(V$73-V$63)/9+V69 -> 0 | W70: =SUM(W$73-W$63)/9+W69 -> 0 | X70: =SUM(X$73-X$63)/9+X69 -> 0 | Y70: =SUM(Y$73-Y$63)/9+Y69 -> 0 | Z70: =SUM(Z$73-Z$63)/9+Z69 -> 0 | AA70: =SUM(AA$73-AA$63)/9+AA69 -> 0 | AB70: =SUM(AB$73-AB$63)/9+AB69 -> 0
A71: 68 | B71: =SUM(B$73-B$63)/9+B70 -> 85 | C71: =SUM(C$73-C$63)/9+C70 -> 85 | D71: =SUM(D$73-D$63)/9+D70 -> 59.578125 | E71: =SUM(E$73-E$63)/9+E70 -> 59.288194 | F71: =SUM(F$73-F$63)/9+F70 -> 59.199653 | G71: =SUM(G$73-G$63)/9+G70 -> 59.088542 | H71: =SUM(H$73-H$63)/9+H70 -> 58.977431 | I71: =SUM(I$73-I$63)/9+I70 -> 58.866319 | ... R71: =SUM(R$73-R$63)/9+R70 -> 38.746528 | S71: =SUM(T71-R71)/2+R71 -> 32.498264 | T71: =SUM(T$73-T$63)/9+T70 -> 26.25 | U71: =SUM(U$73-U$63)/9+U70 -> 11.777778 | V71: =SUM(V$73-V$63)/9+V70 -> 0 | W71: =SUM(W$73-W$63)/9+W70 -> 0 | X71: =SUM(X$73-X$63)/9+X70 -> 0 | Y71: =SUM(Y$73-Y$63)/9+Y70 -> 0 | Z71: =SUM(Z$73-Z$63)/9+Z70 -> 0 | AA71: =SUM(AA$73-AA$63)/9+AA70 -> 0 | AB71: =SUM(AB$73-AB$63)/9+AB70 -> 0
A72: 69 | B72: =SUM(B$73-B$63)/9+B71 -> 85 | C72: =SUM(C$73-C$63)/9+C71 -> 85 | D72: =SUM(D$73-D$63)/9+D71 -> 60 | E72: =SUM(E$73-E$63)/9+E71 -> 60 | F72: =SUM(F$73-F$63)/9+F71 -> 60 | G72: =SUM(G$73-G$63)/9+G71 -> 60 | H72: =SUM(H$73-H$63)/9+H71 -> 60 | I72: =SUM(I$73-I$63)/9+I71 -> 60 | ... R72: =SUM(R$73-R$63)/9+R71 -> 40.203125 | S72: =SUM(T72-R72)/2+R72 -> 33.648438 | T72: =SUM(T$73-T$63)/9+T71 -> 27.09375 | U72: =SUM(U$73-U$63)/9+U71 -> 12 | V72: =SUM(V$73-V$63)/9+V71 -> 0 | W72: =SUM(W$73-W$63)/9+W71 -> 0 | X72: =SUM(X$73-X$63)/9+X71 -> 0 | Y72: =SUM(Y$73-Y$63)/9+Y71 -> 0 | Z72: =SUM(Z$73-Z$63)/9+Z71 -> 0 | AA72: =SUM(AA$73-AA$63)/9+AA71 -> 0 | AB72: =SUM(AB$73-AB$63)/9+AB71 -> 0
A73: 70 | B73: =SUM(Math!B10) -> 85 | C73: =SUM(Math!C10) -> 85 | D73: =SUM(Math!D10) -> 60 | E73: =SUM(Math!E10) -> 60 | F73: =SUM(Math!F10) -> 60 | G73: =SUM(Math!G10) -> 60 | H73: =SUM(Math!H10) -> 60 | I73: =SUM(Math!I10) -> 60 | ... R73: =SUM(Math!R10) -> 40.203125 | S73: =SUM(T73-R73)/2+R73 -> 33.648438 | T73: =SUM(Math!S10) -> 27.09375 | U73: =SUM(Math!T10) -> 12 | V73: =SUM(Math!U10) -> 0 | W73: =SUM(Math!V10) -> 0 | X73: =SUM(Math!W10) -> 0 | Y73: =SUM(Math!X10) -> 0 | Z73: =SUM(Math!Y10) -> 0 | AA73: =SUM(Math!Z10) -> 0 | AB73: =SUM(Math!AA10) -> 0
A74: 71 | B74: =SUM(B$83-B$73)/9+B73 -> 85 | C74: =SUM(C$83-C$73)/9+C73 -> 85 | D74: =SUM(D$83-D$73)/9+D73 -> 60 | E74: =SUM(E$83-E$73)/9+E73 -> 60 | F74: =SUM(F$83-F$73)/9+F73 -> 60 | G74: =SUM(G$83-G$73)/9+G73 -> 60 | H74: =SUM(H$83-H$73)/9+H73 -> 61.333333 | I74: =SUM(I$83-I$73)/9+I73 -> 61.277778 | ... R74: =SUM(R$83-R$73)/9+R73 -> 41.814236 | S74: =SUM(T74-R74)/2+R74 -> 35.304688 | T74: =SUM(T$83-T$73)/9+T73 -> 28.795139 | U74: =SUM(U$83-U$73)/9+U73 -> 12.444444 | V74: =SUM(V$83-V$73)/9+V73 -> 0 | W74: =SUM(W$83-W$73)/9+W73 -> 0 | X74: =SUM(X$83-X$73)/9+X73 -> 0 | Y74: =SUM(Y$83-Y$73)/9+Y73 -> 0 | Z74: =SUM(Z$83-Z$73)/9+Z73 -> 0 | AA74: =SUM(AA$83-AA$73)/9+AA73 -> 0 | AB74: =SUM(AB$83-AB$73)/9+AB73 -> 0
A75: 72 | B75: =SUM(B$83-B$73)/9+B74 -> 85 | C75: =SUM(C$83-C$73)/9+C74 -> 85 | D75: =SUM(D$83-D$73)/9+D74 -> 60 | E75: =SUM(E$83-E$73)/9+E74 -> 60 | F75: =SUM(F$83-F$73)/9+F74 -> 60 | G75: =SUM(G$83-G$73)/9+G74 -> 60 | H75: =SUM(H$83-H$73)/9+H74 -> 62.666667 | I75: =SUM(I$83-I$73)/9+I74 -> 62.555556 | ... R75: =SUM(R$83-R$73)/9+R74 -> 43.425347 | S75: =SUM(T75-R75)/2+R75 -> 36.960938 | T75: =SUM(T$83-T$73)/9+T74 -> 30.496528 | U75: =SUM(U$83-U$73)/9+U74 -> 12.888889 | V75: =SUM(V$83-V$73)/9+V74 -> 0 | W75: =SUM(W$83-W$73)/9+W74 -> 0 | X75: =SUM(X$83-X$73)/9+X74 -> 0 | Y75: =SUM(Y$83-Y$73)/9+Y74 -> 0 | Z75: =SUM(Z$83-Z$73)/9+Z74 -> 0 | AA75: =SUM(AA$83-AA$73)/9+AA74 -> 0 | AB75: =SUM(AB$83-AB$73)/9+AB74 -> 0
A76: 73 | B76: =SUM(B$83-B$73)/9+B75 -> 85 | C76: =SUM(C$83-C$73)/9+C75 -> 85 | D76: =SUM(D$83-D$73)/9+D75 -> 60 | E76: =SUM(E$83-E$73)/9+E75 -> 60 | F76: =SUM(F$83-F$73)/9+F75 -> 60 | G76: =SUM(G$83-G$73)/9+G75 -> 60 | H76: =SUM(H$83-H$73)/9+H75 -> 64 | I76: =SUM(I$83-I$73)/9+I75 -> 63.833333 | ... R76: =SUM(R$83-R$73)/9+R75 -> 45.036458 | S76: =SUM(T76-R76)/2+R76 -> 38.617188 | T76: =SUM(T$83-T$73)/9+T75 -> 32.197917 | U76: =SUM(U$83-U$73)/9+U75 -> 13.333333 | V76: =SUM(V$83-V$73)/9+V75 -> 0 | W76: =SUM(W$83-W$73)/9+W75 -> 0 | X76: =SUM(X$83-X$73)/9+X75 -> 0 | Y76: =SUM(Y$83-Y$73)/9+Y75 -> 0 | Z76: =SUM(Z$83-Z$73)/9+Z75 -> 0 | AA76: =SUM(AA$83-AA$73)/9+AA75 -> 0 | AB76: =SUM(AB$83-AB$73)/9+AB75 -> 0
A77: 74 | B77: =SUM(B$83-B$73)/9+B76 -> 85 | C77: =SUM(C$83-C$73)/9+C76 -> 85 | D77: =SUM(D$83-D$73)/9+D76 -> 60 | E77: =SUM(E$83-E$73)/9+E76 -> 60 | F77: =SUM(F$83-F$73)/9+F76 -> 60 | G77: =SUM(G$83-G$73)/9+G76 -> 60 | H77: =SUM(H$83-H$73)/9+H76 -> 65.333333 | I77: =SUM(I$83-I$73)/9+I76 -> 65.111111 | ... R77: =SUM(R$83-R$73)/9+R76 -> 46.647569 | S77: =SUM(T77-R77)/2+R77 -> 40.273438 | T77: =SUM(T$83-T$73)/9+T76 -> 33.899306 | U77: =SUM(U$83-U$73)/9+U76 -> 13.777778 | V77: =SUM(V$83-V$73)/9+V76 -> 0 | W77: =SUM(W$83-W$73)/9+W76 -> 0 | X77: =SUM(X$83-X$73)/9+X76 -> 0 | Y77: =SUM(Y$83-Y$73)/9+Y76 -> 0 | Z77: =SUM(Z$83-Z$73)/9+Z76 -> 0 | AA77: =SUM(AA$83-AA$73)/9+AA76 -> 0 | AB77: =SUM(AB$83-AB$73)/9+AB76 -> 0
A78: 75 | B78: =SUM(B$83-B$73)/9+B77 -> 85 | C78: =SUM(C$83-C$73)/9+C77 -> 85 | D78: =SUM(D$83-D$73)/9+D77 -> 60 | E78: =SUM(E$83-E$73)/9+E77 -> 60 | F78: =SUM(F$83-F$73)/9+F77 -> 60 | G78: =SUM(G$83-G$73)/9+G77 -> 60 | H78: =SUM(H$83-H$73)/9+H77 -> 66.666667 | I78: =SUM(I$83-I$73)/9+I77 -> 66.388889 | ... R78: =SUM(R$83-R$73)/9+R77 -> 48.258681 | S78: =SUM(T78-R78)/2+R78 -> 41.929688 | T78: =SUM(T$83-T$73)/9+T77 -> 35.600694 | U78: =SUM(U$83-U$73)/9+U77 -> 14.222222 | V78: =SUM(V$83-V$73)/9+V77 -> 0 | W78: =SUM(W$83-W$73)/9+W77 -> 0 | X78: =SUM(X$83-X$73)/9+X77 -> 0 | Y78: =SUM(Y$83-Y$73)/9+Y77 -> 0 | Z78: =SUM(Z$83-Z$73)/9+Z77 -> 0 | AA78: =SUM(AA$83-AA$73)/9+AA77 -> 0 | AB78: =SUM(AB$83-AB$73)/9+AB77 -> 0
A79: 76 | B79: =SUM(B$83-B$73)/9+B78 -> 85 | C79: =SUM(C$83-C$73)/9+C78 -> 85 | D79: =SUM(D$83-D$73)/9+D78 -> 60 | E79: =SUM(E$83-E$73)/9+E78 -> 60 | F79: =SUM(F$83-F$73)/9+F78 -> 60 | G79: =SUM(G$83-G$73)/9+G78 -> 60 | H79: =SUM(H$83-H$73)/9+H78 -> 68 | I79: =SUM(I$83-I$73)/9+I78 -> 67.666667 | ... R79: =SUM(R$83-R$73)/9+R78 -> 49.869792 | S79: =SUM(T79-R79)/2+R79 -> 43.585938 | T79: =SUM(T$83-T$73)/9+T78 -> 37.302083 | U79: =SUM(U$83-U$73)/9+U78 -> 14.666667 | V79: =SUM(V$83-V$73)/9+V78 -> 0 | W79: =SUM(W$83-W$73)/9+W78 -> 0 | X79: =SUM(X$83-X$73)/9+X78 -> 0 | Y79: =SUM(Y$83-Y$73)/9+Y78 -> 0 | Z79: =SUM(Z$83-Z$73)/9+Z78 -> 0 | AA79: =SUM(AA$83-AA$73)/9+AA78 -> 0 | AB79: =SUM(AB$83-AB$73)/9+AB78 -> 0
A80: 77 | B80: =SUM(B$83-B$73)/9+B79 -> 85 | C80: =SUM(C$83-C$73)/9+C79 -> 85 | D80: =SUM(D$83-D$73)/9+D79 -> 60 | E80: =SUM(E$83-E$73)/9+E79 -> 60 | F80: =SUM(F$83-F$73)/9+F79 -> 60 | G80: =SUM(G$83-G$73)/9+G79 -> 60 | H80: =SUM(H$83-H$73)/9+H79 -> 69.333333 | I80: =SUM(I$83-I$73)/9+I79 -> 68.944444 | ... R80: =SUM(R$83-R$73)/9+R79 -> 51.480903 | S80: =SUM(T80-R80)/2+R80 -> 45.242188 | T80: =SUM(T$83-T$73)/9+T79 -> 39.003472 | U80: =SUM(U$83-U$73)/9+U79 -> 15.111111 | V80: =SUM(V$83-V$73)/9+V79 -> 0 | W80: =SUM(W$83-W$73)/9+W79 -> 0 | X80: =SUM(X$83-X$73)/9+X79 -> 0 | Y80: =SUM(Y$83-Y$73)/9+Y79 -> 0 | Z80: =SUM(Z$83-Z$73)/9+Z79 -> 0 | AA80: =SUM(AA$83-AA$73)/9+AA79 -> 0 | AB80: =SUM(AB$83-AB$73)/9+AB79 -> 0
A81: 78 | B81: =SUM(B$83-B$73)/9+B80 -> 85 | C81: =SUM(C$83-C$73)/9+C80 -> 85 | D81: =SUM(D$83-D$73)/9+D80 -> 60 | E81: =SUM(E$83-E$73)/9+E80 -> 60 | F81: =SUM(F$83-F$73)/9+F80 -> 60 | G81: =SUM(G$83-G$73)/9+G80 -> 60 | H81: =SUM(H$83-H$73)/9+H80 -> 70.666667 | I81: =SUM(I$83-I$73)/9+I80 -> 70.222222 | ... R81: =SUM(R$83-R$73)/9+R80 -> 53.092014 | S81: =SUM(T81-R81)/2+R81 -> 46.898438 | T81: =SUM(T$83-T$73)/9+T80 -> 40.704861 | U81: =SUM(U$83-U$73)/9+U80 -> 15.555556 | V81: =SUM(V$83-V$73)/9+V80 -> 0 | W81: =SUM(W$83-W$73)/9+W80 -> 0 | X81: =SUM(X$83-X$73)/9+X80 -> 0 | Y81: =SUM(Y$83-Y$73)/9+Y80 -> 0 | Z81: =SUM(Z$83-Z$73)/9+Z80 -> 0 | AA81: =SUM(AA$83-AA$73)/9+AA80 -> 0 | AB81: =SUM(AB$83-AB$73)/9+AB80 -> 0
A82: 79 | B82: =SUM(B$83-B$73)/9+B81 -> 85 | C82: =SUM(C$83-C$73)/9+C81 -> 85 | D82: =SUM(D$83-D$73)/9+D81 -> 60 | E82: =SUM(E$83-E$73)/9+E81 -> 60 | F82: =SUM(F$83-F$73)/9+F81 -> 60 | G82: =SUM(G$83-G$73)/9+G81 -> 60 | H82: =SUM(H$83-H$73)/9+H81 -> 72 | I82: =SUM(I$83-I$73)/9+I81 -> 71.5 | ... R82: =SUM(R$83-R$73)/9+R81 -> 54.703125 | S82: =SUM(T82-R82)/2+R82 -> 48.554688 | T82: =SUM(T$83-T$73)/9+T81 -> 42.40625 | U82: =SUM(U$83-U$73)/9+U81 -> 16 | V82: =SUM(V$83-V$73)/9+V81 -> 0 | W82: =SUM(W$83-W$73)/9+W81 -> 0 | X82: =SUM(X$83-X$73)/9+X81 -> 0 | Y82: =SUM(Y$83-Y$73)/9+Y81 -> 0 | Z82: =SUM(Z$83-Z$73)/9+Z81 -> 0 | AA82: =SUM(AA$83-AA$73)/9+AA81 -> 0 | AB82: =SUM(AB$83-AB$73)/9+AB81 -> 0
A83: 80 | B83: =SUM(Math!B11) -> 85 | C83: =SUM(Math!C11) -> 85 | D83: =SUM(Math!D11) -> 60 | E83: =SUM(Math!E11) -> 60 | F83: =SUM(Math!F11) -> 60 | G83: =SUM(Math!G11) -> 60 | H83: =SUM(Math!H11) -> 72 | I83: =SUM(Math!I11) -> 71.5 | ... R83: =SUM(Math!R11) -> 54.703125 | S83: =SUM(T83-R83)/2+R83 -> 48.554688 | T83: =SUM(Math!S11) -> 42.40625 | U83: =SUM(Math!T11) -> 16 | V83: =SUM(Math!U11) -> 0 | W83: =SUM(Math!V11) -> 0 | X83: =SUM(Math!W11) -> 0 | Y83: =SUM(Math!X11) -> 0 | Z83: =SUM(Math!Y11) -> 0 | AA83: =SUM(Math!Z11) -> 0 | AB83: =SUM(Math!AA11) -> 0
A84: 81 | B84: =SUM(B$93-B$83)/9+B83 -> 85 | C84: =SUM(C$93-C$83)/9+C83 -> 85 | D84: =SUM(D$93-D$83)/9+D83 -> 60 | E84: =SUM(E$93-E$83)/9+E83 -> 60 | F84: =SUM(F$93-F$83)/9+F83 -> 60 | G84: =SUM(G$93-G$83)/9+G83 -> 60 | H84: =SUM(H$93-H$83)/9+H83 -> 72.222222 | I84: =SUM(I$93-I$83)/9+I83 -> 72.666667 | ... R84: =SUM(R$93-R$83)/9+R83 -> 56.28125 | S84: =SUM(T84-R84)/2+R84 -> 50.354167 | T84: =SUM(T$93-T$83)/9+T83 -> 44.427083 | U84: =SUM(U$93-U$83)/9+U83 -> 16.444444 | V84: =SUM(V$93-V$83)/9+V83 -> 0 | W84: =SUM(W$93-W$83)/9+W83 -> 0 | X84: =SUM(X$93-X$83)/9+X83 -> 0 | Y84: =SUM(Y$93-Y$83)/9+Y83 -> 0 | Z84: =SUM(Z$93-Z$83)/9+Z83 -> 0 | AA84: =SUM(AA$93-AA$83)/9+AA83 -> 0 | AB84: =SUM(AB$93-AB$83)/9+AB83 -> 0
A85: 82 | B85: =SUM(B$93-B$83)/9+B84 -> 85 | C85: =SUM(C$93-C$83)/9+C84 -> 85 | D85: =SUM(D$93-D$83)/9+D84 -> 60 | E85: =SUM(E$93-E$83)/9+E84 -> 60 | F85: =SUM(F$93-F$83)/9+F84 -> 60 | G85: =SUM(G$93-G$83)/9+G84 -> 60 | H85: =SUM(H$93-H$83)/9+H84 -> 72.444444 | I85: =SUM(I$93-I$83)/9+I84 -> 73.833333 | ... R85: =SUM(R$93-R$83)/9+R84 -> 57.859375 | S85: =SUM(T85-R85)/2+R85 -> 52.153646 | T85: =SUM(T$93-T$83)/9+T84 -> 46.447917 | U85: =SUM(U$93-U$83)/9+U84 -> 16.888889 | V85: =SUM(V$93-V$83)/9+V84 -> 0 | W85: =SUM(W$93-W$83)/9+W84 -> 0 | X85: =SUM(X$93-X$83)/9+X84 -> 0 | Y85: =SUM(Y$93-Y$83)/9+Y84 -> 0 | Z85: =SUM(Z$93-Z$83)/9+Z84 -> 0 | AA85: =SUM(AA$93-AA$83)/9+AA84 -> 0 | AB85: =SUM(AB$93-AB$83)/9+AB84 -> 0
A86: 83 | B86: =SUM(B$93-B$83)/9+B85 -> 85 | C86: =SUM(C$93-C$83)/9+C85 -> 85 | D86: =SUM(D$93-D$83)/9+D85 -> 60 | E86: =SUM(E$93-E$83)/9+E85 -> 60 | F86: =SUM(F$93-F$83)/9+F85 -> 60 | G86: =SUM(G$93-G$83)/9+G85 -> 60 | H86: =SUM(H$93-H$83)/9+H85 -> 72.666667 | I86: =SUM(I$93-I$83)/9+I85 -> 75 | ... R86: =SUM(R$93-R$83)/9+R85 -> 59.4375 | S86: =SUM(T86-R86)/2+R86 -> 53.953125 | T86: =SUM(T$93-T$83)/9+T85 -> 48.46875 | U86: =SUM(U$93-U$83)/9+U85 -> 17.333333 | V86: =SUM(V$93-V$83)/9+V85 -> 0 | W86: =SUM(W$93-W$83)/9+W85 -> 0 | X86: =SUM(X$93-X$83)/9+X85 -> 0 | Y86: =SUM(Y$93-Y$83)/9+Y85 -> 0 | Z86: =SUM(Z$93-Z$83)/9+Z85 -> 0 | AA86: =SUM(AA$93-AA$83)/9+AA85 -> 0 | AB86: =SUM(AB$93-AB$83)/9+AB85 -> 0
A87: 84 | B87: =SUM(B$93-B$83)/9+B86 -> 85 | C87: =SUM(C$93-C$83)/9+C86 -> 85 | D87: =SUM(D$93-D$83)/9+D86 -> 60 | E87: =SUM(E$93-E$83)/9+E86 -> 60 | F87: =SUM(F$93-F$83)/9+F86 -> 60 | G87: =SUM(G$93-G$83)/9+G86 -> 60 | H87: =SUM(H$93-H$83)/9+H86 -> 72.888889 | I87: =SUM(I$93-I$83)/9+I86 -> 76.166667 | ... R87: =SUM(R$93-R$83)/9+R86 -> 61.015625 | S87: =SUM(T87-R87)/2+R87 -> 55.752604 | T87: =SUM(T$93-T$83)/9+T86 -> 50.489583 | U87: =SUM(U$93-U$83)/9+U86 -> 17.777778 | V87: =SUM(V$93-V$83)/9+V86 -> 0 | W87: =SUM(W$93-W$83)/9+W86 -> 0 | X87: =SUM(X$93-X$83)/9+X86 -> 0 | Y87: =SUM(Y$93-Y$83)/9+Y86 -> 0 | Z87: =SUM(Z$93-Z$83)/9+Z86 -> 0 | AA87: =SUM(AA$93-AA$83)/9+AA86 -> 0 | AB87: =SUM(AB$93-AB$83)/9+AB86 -> 0
A88: 85 | B88: =SUM(B$93-B$83)/9+B87 -> 85 | C88: =SUM(C$93-C$83)/9+C87 -> 85 | D88: =SUM(D$93-D$83)/9+D87 -> 60 | E88: =SUM(E$93-E$83)/9+E87 -> 60 | F88: =SUM(F$93-F$83)/9+F87 -> 60 | G88: =SUM(G$93-G$83)/9+G87 -> 60 | H88: =SUM(H$93-H$83)/9+H87 -> 73.111111 | I88: =SUM(I$93-I$83)/9+I87 -> 77.333333 | ... R88: =SUM(R$93-R$83)/9+R87 -> 62.59375 | S88: =SUM(T88-R88)/2+R88 -> 57.552083 | T88: =SUM(T$93-T$83)/9+T87 -> 52.510417 | U88: =SUM(U$93-U$83)/9+U87 -> 18.222222 | V88: =SUM(V$93-V$83)/9+V87 -> 0 | W88: =SUM(W$93-W$83)/9+W87 -> 0 | X88: =SUM(X$93-X$83)/9+X87 -> 0 | Y88: =SUM(Y$93-Y$83)/9+Y87 -> 0 | Z88: =SUM(Z$93-Z$83)/9+Z87 -> 0 | AA88: =SUM(AA$93-AA$83)/9+AA87 -> 0 | AB88: =SUM(AB$93-AB$83)/9+AB87 -> 0
A89: 86 | B89: =SUM(B$93-B$83)/9+B88 -> 85 | C89: =SUM(C$93-C$83)/9+C88 -> 85 | D89: =SUM(D$93-D$83)/9+D88 -> 60 | E89: =SUM(E$93-E$83)/9+E88 -> 60 | F89: =SUM(F$93-F$83)/9+F88 -> 60 | G89: =SUM(G$93-G$83)/9+G88 -> 60 | H89: =SUM(H$93-H$83)/9+H88 -> 73.333333 | I89: =SUM(I$93-I$83)/9+I88 -> 78.5 | ... R89: =SUM(R$93-R$83)/9+R88 -> 64.171875 | S89: =SUM(T89-R89)/2+R89 -> 59.351563 | T89: =SUM(T$93-T$83)/9+T88 -> 54.53125 | U89: =SUM(U$93-U$83)/9+U88 -> 18.666667 | V89: =SUM(V$93-V$83)/9+V88 -> 0 | W89: =SUM(W$93-W$83)/9+W88 -> 0 | X89: =SUM(X$93-X$83)/9+X88 -> 0 | Y89: =SUM(Y$93-Y$83)/9+Y88 -> 0 | Z89: =SUM(Z$93-Z$83)/9+Z88 -> 0 | AA89: =SUM(AA$93-AA$83)/9+AA88 -> 0 | AB89: =SUM(AB$93-AB$83)/9+AB88 -> 0
A90: 87 | B90: =SUM(B$93-B$83)/9+B89 -> 85 | C90: =SUM(C$93-C$83)/9+C89 -> 85 | D90: =SUM(D$93-D$83)/9+D89 -> 60 | E90: =SUM(E$93-E$83)/9+E89 -> 60 | F90: =SUM(F$93-F$83)/9+F89 -> 60 | G90: =SUM(G$93-G$83)/9+G89 -> 60 | H90: =SUM(H$93-H$83)/9+H89 -> 73.555556 | I90: =SUM(I$93-I$83)/9+I89 -> 79.666667 | ... R90: =SUM(R$93-R$83)/9+R89 -> 65.75 | S90: =SUM(T90-R90)/2+R90 -> 61.151042 | T90: =SUM(T$93-T$83)/9+T89 -> 56.552083 | U90: =SUM(U$93-U$83)/9+U89 -> 19.111111 | V90: =SUM(V$93-V$83)/9+V89 -> 0 | W90: =SUM(W$93-W$83)/9+W89 -> 0 | X90: =SUM(X$93-X$83)/9+X89 -> 0 | Y90: =SUM(Y$93-Y$83)/9+Y89 -> 0 | Z90: =SUM(Z$93-Z$83)/9+Z89 -> 0 | AA90: =SUM(AA$93-AA$83)/9+AA89 -> 0 | AB90: =SUM(AB$93-AB$83)/9+AB89 -> 0
A91: 88 | B91: =SUM(B$93-B$83)/9+B90 -> 85 | C91: =SUM(C$93-C$83)/9+C90 -> 85 | D91: =SUM(D$93-D$83)/9+D90 -> 60 | E91: =SUM(E$93-E$83)/9+E90 -> 60 | F91: =SUM(F$93-F$83)/9+F90 -> 60 | G91: =SUM(G$93-G$83)/9+G90 -> 60 | H91: =SUM(H$93-H$83)/9+H90 -> 73.777778 | I91: =SUM(I$93-I$83)/9+I90 -> 80.833333 | ... R91: =SUM(R$93-R$83)/9+R90 -> 67.328125 | S91: =SUM(T91-R91)/2+R91 -> 62.950521 | T91: =SUM(T$93-T$83)/9+T90 -> 58.572917 | U91: =SUM(U$93-U$83)/9+U90 -> 19.555556 | V91: =SUM(V$93-V$83)/9+V90 -> 0 | W91: =SUM(W$93-W$83)/9+W90 -> 0 | X91: =SUM(X$93-X$83)/9+X90 -> 0 | Y91: =SUM(Y$93-Y$83)/9+Y90 -> 0 | Z91: =SUM(Z$93-Z$83)/9+Z90 -> 0 | AA91: =SUM(AA$93-AA$83)/9+AA90 -> 0 | AB91: =SUM(AB$93-AB$83)/9+AB90 -> 0
A92: 89 | B92: =SUM(B$93-B$83)/9+B91 -> 85 | C92: =SUM(C$93-C$83)/9+C91 -> 85 | D92: =SUM(D$93-D$83)/9+D91 -> 60 | E92: =SUM(E$93-E$83)/9+E91 -> 60 | F92: =SUM(F$93-F$83)/9+F91 -> 60 | G92: =SUM(G$93-G$83)/9+G91 -> 60 | H92: =SUM(H$93-H$83)/9+H91 -> 74 | I92: =SUM(I$93-I$83)/9+I91 -> 82 | ... R92: =SUM(R$93-R$83)/9+R91 -> 68.90625 | S92: =SUM(T92-R92)/2+R92 -> 64.75 | T92: =SUM(T$93-T$83)/9+T91 -> 60.59375 | U92: =SUM(U$93-U$83)/9+U91 -> 20 | V92: =SUM(V$93-V$83)/9+V91 -> 0 | W92: =SUM(W$93-W$83)/9+W91 -> 0 | X92: =SUM(X$93-X$83)/9+X91 -> 0 | Y92: =SUM(Y$93-Y$83)/9+Y91 -> 0 | Z92: =SUM(Z$93-Z$83)/9+Z91 -> 0 | AA92: =SUM(AA$93-AA$83)/9+AA91 -> 0 | AB92: =SUM(AB$93-AB$83)/9+AB91 -> 0
A93: 90 | B93: =SUM(Math!B12) -> 85 | C93: =SUM(Math!C12) -> 85 | D93: =SUM(Math!D12) -> 60 | E93: =SUM(Math!E12) -> 60 | F93: =SUM(Math!F12) -> 60 | G93: =SUM(Math!G12) -> 60 | H93: =SUM(Math!H12) -> 74 | I93: =SUM(Math!I12) -> 82 | ... R93: =SUM(Math!R12) -> 68.90625 | S93: =SUM(T93-R93)/2+R93 -> 64.75 | T93: =SUM(Math!S12) -> 60.59375 | U93: =SUM(Math!T12) -> 20 | V93: =SUM(Math!U12) -> 0 | W93: =SUM(Math!V12) -> 0 | X93: =SUM(Math!W12) -> 0 | Y93: =SUM(Math!X12) -> 0 | Z93: =SUM(Math!Y12) -> 0 | AA93: =SUM(Math!Z12) -> 0 | AB93: =SUM(Math!AA12) -> 0
A94: 91 | B94: =SUM(B$103-B$93)/9+B93 -> 85 | C94: =SUM(C$103-C$93)/9+C93 -> 85 | D94: =SUM(D$103-D$93)/9+D93 -> 60 | E94: =SUM(E$103-E$93)/9+E93 -> 60 | F94: =SUM(F$103-F$93)/9+F93 -> 60 | G94: =SUM(G$103-G$93)/9+G93 -> 60 | H94: =SUM(H$103-H$93)/9+H93 -> 74 | I94: =SUM(I$103-I$93)/9+I93 -> 82 | ... R94: =SUM(R$103-R$93)/9+R93 -> 70.694444 | S94: =SUM(T94-R94)/2+R94 -> 66.777778 | T94: =SUM(T$103-T$93)/9+T93 -> 62.861111 | U94: =SUM(U$103-U$93)/9+U93 -> 20 | V94: =SUM(V$103-V$93)/9+V93 -> 0 | W94: =SUM(W$103-W$93)/9+W93 -> 0 | X94: =SUM(X$103-X$93)/9+X93 -> 0 | Y94: =SUM(Y$103-Y$93)/9+Y93 -> 0 | Z94: =SUM(Z$103-Z$93)/9+Z93 -> 0 | AA94: =SUM(AA$103-AA$93)/9+AA93 -> 0 | AB94: =SUM(AB$103-AB$93)/9+AB93 -> 0
A95: 92 | B95: =SUM(B$103-B$93)/9+B94 -> 85 | C95: =SUM(C$103-C$93)/9+C94 -> 85 | D95: =SUM(D$103-D$93)/9+D94 -> 60 | E95: =SUM(E$103-E$93)/9+E94 -> 60 | F95: =SUM(F$103-F$93)/9+F94 -> 60 | G95: =SUM(G$103-G$93)/9+G94 -> 60 | H95: =SUM(H$103-H$93)/9+H94 -> 74 | I95: =SUM(I$103-I$93)/9+I94 -> 82 | ... R95: =SUM(R$103-R$93)/9+R94 -> 72.482639 | S95: =SUM(T95-R95)/2+R95 -> 68.805556 | T95: =SUM(T$103-T$93)/9+T94 -> 65.128472 | U95: =SUM(U$103-U$93)/9+U94 -> 20 | V95: =SUM(V$103-V$93)/9+V94 -> 0 | W95: =SUM(W$103-W$93)/9+W94 -> 0 | X95: =SUM(X$103-X$93)/9+X94 -> 0 | Y95: =SUM(Y$103-Y$93)/9+Y94 -> 0 | Z95: =SUM(Z$103-Z$93)/9+Z94 -> 0 | AA95: =SUM(AA$103-AA$93)/9+AA94 -> 0 | AB95: =SUM(AB$103-AB$93)/9+AB94 -> 0
A96: 93 | B96: =SUM(B$103-B$93)/9+B95 -> 85 | C96: =SUM(C$103-C$93)/9+C95 -> 85 | D96: =SUM(D$103-D$93)/9+D95 -> 60 | E96: =SUM(E$103-E$93)/9+E95 -> 60 | F96: =SUM(F$103-F$93)/9+F95 -> 60 | G96: =SUM(G$103-G$93)/9+G95 -> 60 | H96: =SUM(H$103-H$93)/9+H95 -> 74 | I96: =SUM(I$103-I$93)/9+I95 -> 82 | ... R96: =SUM(R$103-R$93)/9+R95 -> 74.270833 | S96: =SUM(T96-R96)/2+R96 -> 70.833333 | T96: =SUM(T$103-T$93)/9+T95 -> 67.395833 | U96: =SUM(U$103-U$93)/9+U95 -> 20 | V96: =SUM(V$103-V$93)/9+V95 -> 0 | W96: =SUM(W$103-W$93)/9+W95 -> 0 | X96: =SUM(X$103-X$93)/9+X95 -> 0 | Y96: =SUM(Y$103-Y$93)/9+Y95 -> 0 | Z96: =SUM(Z$103-Z$93)/9+Z95 -> 0 | AA96: =SUM(AA$103-AA$93)/9+AA95 -> 0 | AB96: =SUM(AB$103-AB$93)/9+AB95 -> 0
A97: 94 | B97: =SUM(B$103-B$93)/9+B96 -> 85 | C97: =SUM(C$103-C$93)/9+C96 -> 85 | D97: =SUM(D$103-D$93)/9+D96 -> 60 | E97: =SUM(E$103-E$93)/9+E96 -> 60 | F97: =SUM(F$103-F$93)/9+F96 -> 60 | G97: =SUM(G$103-G$93)/9+G96 -> 60 | H97: =SUM(H$103-H$93)/9+H96 -> 74 | I97: =SUM(I$103-I$93)/9+I96 -> 82 | ... R97: =SUM(R$103-R$93)/9+R96 -> 76.059028 | S97: =SUM(T97-R97)/2+R97 -> 72.861111 | T97: =SUM(T$103-T$93)/9+T96 -> 69.663194 | U97: =SUM(U$103-U$93)/9+U96 -> 20 | V97: =SUM(V$103-V$93)/9+V96 -> 0 | W97: =SUM(W$103-W$93)/9+W96 -> 0 | X97: =SUM(X$103-X$93)/9+X96 -> 0 | Y97: =SUM(Y$103-Y$93)/9+Y96 -> 0 | Z97: =SUM(Z$103-Z$93)/9+Z96 -> 0 | AA97: =SUM(AA$103-AA$93)/9+AA96 -> 0 | AB97: =SUM(AB$103-AB$93)/9+AB96 -> 0
A98: 95 | B98: =SUM(B$103-B$93)/9+B97 -> 85 | C98: =SUM(C$103-C$93)/9+C97 -> 85 | D98: =SUM(D$103-D$93)/9+D97 -> 60 | E98: =SUM(E$103-E$93)/9+E97 -> 60 | F98: =SUM(F$103-F$93)/9+F97 -> 60 | G98: =SUM(G$103-G$93)/9+G97 -> 60 | H98: =SUM(H$103-H$93)/9+H97 -> 74 | I98: =SUM(I$103-I$93)/9+I97 -> 82 | ... R98: =SUM(R$103-R$93)/9+R97 -> 77.847222 | S98: =SUM(T98-R98)/2+R98 -> 74.888889 | T98: =SUM(T$103-T$93)/9+T97 -> 71.930556 | U98: =SUM(U$103-U$93)/9+U97 -> 20 | V98: =SUM(V$103-V$93)/9+V97 -> 0 | W98: =SUM(W$103-W$93)/9+W97 -> 0 | X98: =SUM(X$103-X$93)/9+X97 -> 0 | Y98: =SUM(Y$103-Y$93)/9+Y97 -> 0 | Z98: =SUM(Z$103-Z$93)/9+Z97 -> 0 | AA98: =SUM(AA$103-AA$93)/9+AA97 -> 0 | AB98: =SUM(AB$103-AB$93)/9+AB97 -> 0
A99: 96 | B99: =SUM(B$103-B$93)/9+B98 -> 85 | C99: =SUM(C$103-C$93)/9+C98 -> 85 | D99: =SUM(D$103-D$93)/9+D98 -> 60 | E99: =SUM(E$103-E$93)/9+E98 -> 60 | F99: =SUM(F$103-F$93)/9+F98 -> 60 | G99: =SUM(G$103-G$93)/9+G98 -> 60 | H99: =SUM(H$103-H$93)/9+H98 -> 74 | I99: =SUM(I$103-I$93)/9+I98 -> 82 | ... R99: =SUM(R$103-R$93)/9+R98 -> 79.635417 | S99: =SUM(T99-R99)/2+R99 -> 76.916667 | T99: =SUM(T$103-T$93)/9+T98 -> 74.197917 | U99: =SUM(U$103-U$93)/9+U98 -> 20 | V99: =SUM(V$103-V$93)/9+V98 -> 0 | W99: =SUM(W$103-W$93)/9+W98 -> 0 | X99: =SUM(X$103-X$93)/9+X98 -> 0 | Y99: =SUM(Y$103-Y$93)/9+Y98 -> 0 | Z99: =SUM(Z$103-Z$93)/9+Z98 -> 0 | AA99: =SUM(AA$103-AA$93)/9+AA98 -> 0 | AB99: =SUM(AB$103-AB$93)/9+AB98 -> 0
A100: 97 | B100: =SUM(B$103-B$93)/9+B99 -> 85 | C100: =SUM(C$103-C$93)/9+C99 -> 85 | D100: =SUM(D$103-D$93)/9+D99 -> 60 | E100: =SUM(E$103-E$93)/9+E99 -> 60 | F100: =SUM(F$103-F$93)/9+F99 -> 60 | G100: =SUM(G$103-G$93)/9+G99 -> 60 | H100: =SUM(H$103-H$93)/9+H99 -> 74 | I100: =SUM(I$103-I$93)/9+I99 -> 82 | ... R100: =SUM(R$103-R$93)/9+R99 -> 81.423611 | S100: =SUM(T100-R100)/2+R100 -> 78.944444 | T100: =SUM(T$103-T$93)/9+T99 -> 76.465278 | U100: =SUM(U$103-U$93)/9+U99 -> 20 | V100: =SUM(V$103-V$93)/9+V99 -> 0 | W100: =SUM(W$103-W$93)/9+W99 -> 0 | X100: =SUM(X$103-X$93)/9+X99 -> 0 | Y100: =SUM(Y$103-Y$93)/9+Y99 -> 0 | Z100: =SUM(Z$103-Z$93)/9+Z99 -> 0 | AA100: =SUM(AA$103-AA$93)/9+AA99 -> 0 | AB100: =SUM(AB$103-AB$93)/9+AB99 -> 0
...

Sheet Base Torque B1102 Full
B1: RPM
A2: mm3 | B2: 0 | C2: 200 | D2: 400 | E2: 600 | F2: 800 | G2: 1000 | H2: 1200 | I2: 1400 | J2: 1600 | K2: 1800 | L2: 2000 | M2: 2200 | N2: 2400 | O2: 2600 | P2: 2800 | Q2: 3000 | R2: 3100 | S2: 3200 | T2: 3250 | U2: 3400 | V2: 3600 | W2: 3800 | X2: 4000 | Y2: 4200 | Z2: 4400 | AA2: 4600 | AB2: 4800 | AC2: 5000
A3: 0 | B3: =SUM(Math!B32) -> 0 | C3: =SUM(Math!C32) -> -14.023064 | D3: =SUM(Math!D32) -> -28.784184 | E3: =SUM(Math!E32) -> -42.807248 | F3: =SUM(Math!F32) -> -42.807248 | G3: =SUM(Math!G32) -> -44.28336 | H3: =SUM(Math!H32) -> -45.759472 | I3: =SUM(Math!I32) -> -50.187808 | ... Q3: =SUM(Math!Q32) -> -107.01812 | R3: =SUM(S3-Q3)/2+Q3 -> -110.7084 | S3: =SUM(Math!R32) -> -114.39868 | T3: =SUM(U3-S3)/4+S3 -> -114.39868 | U3: =SUM(Math!S32) -> -114.39868 | V3: =SUM(Math!T32) -> -114.39868 | W3: =SUM(Math!U32) -> -114.39868 | X3: =SUM(Math!V32) -> -114.39868 | Y3: =SUM(Math!W32) -> -114.39868 | Z3: =SUM(Math!X32) -> -114.39868 | AA3: =SUM(Math!Y32) -> -114.39868 | AB3: =SUM(Math!Z32) -> -114.39868 | AC3: =SUM(Math!AA32) -> -114.39868 | AD3: < these are the fugures you can see (dark gray)
A4: 1 | B4: =SUM(B$13-B$3)/9+B3 -> 0 | C4: =SUM(C$13-C$3)/9+C3 -> -10.578803 | D4: =SUM(D$13-D$3)/9+D3 -> -21.813655 | E4: =SUM(E$13-E$3)/9+E3 -> -32.310452 | F4: =SUM(F$13-F$3)/9+F3 -> -33.622551 | G4: =SUM(G$13-G$3)/9+G3 -> -36.328756 | H4: =SUM(H$13-H$3)/9+H3 -> -37.722862 | I4: =SUM(I$13-I$3)/9+I3 -> -41.577155 | ... Q4: =SUM(Q$13-Q$3)/9+Q3 -> -100.78565 | R4: =SUM(S4-Q4)/2+Q4 -> -104.43492 | S4: =SUM(S$13-S$3)/9+S3 -> -108.0842 | T4: =SUM(U4-S4)/4+S4 -> -108.0842 | U4: =SUM(U$13-U$3)/9+U3 -> -108.0842 | V4: =SUM(V$13-V$3)/9+V3 -> -108.0842 | W4: =SUM(W$13-W$3)/9+W3 -> -108.0842 | X4: =SUM(X$13-X$3)/9+X3 -> -108.0842 | Y4: =SUM(Y$13-Y$3)/9+Y3 -> -108.0842 | Z4: =SUM(Z$13-Z$3)/9+Z3 -> -108.0842 | AA4: =SUM(AA$13-AA$3)/9+AA3 -> -108.0842 | AB4: =SUM(AB$13-AB$3)/9+AB3 -> -108.0842 | AC4: =SUM(AC$13-AC$3)/9+AC3 -> -108.0842
A5: 2 | B5: =SUM(B$13-B$3)/9+B4 -> 0 | C5: =SUM(C$13-C$3)/9+C4 -> -7.1345413 | D5: =SUM(D$13-D$3)/9+D4 -> -14.843126 | E5: =SUM(E$13-E$3)/9+E4 -> -21.813655 | F5: =SUM(F$13-F$3)/9+F4 -> -24.437854 | G5: =SUM(G$13-G$3)/9+G4 -> -28.374153 | H5: =SUM(H$13-H$3)/9+H4 -> -29.686252 | I5: =SUM(I$13-I$3)/9+I4 -> -32.966501 | ... Q5: =SUM(Q$13-Q$3)/9+Q4 -> -94.553174 | R5: =SUM(S5-Q5)/2+Q5 -> -98.161448 | S5: =SUM(S$13-S$3)/9+S4 -> -101.76972 | T5: =SUM(U5-S5)/4+S5 -> -101.76972 | U5: =SUM(U$13-U$3)/9+U4 -> -101.76972 | V5: =SUM(V$13-V$3)/9+V4 -> -101.76972 | W5: =SUM(W$13-W$3)/9+W4 -> -101.76972 | X5: =SUM(X$13-X$3)/9+X4 -> -101.76972 | Y5: =SUM(Y$13-Y$3)/9+Y4 -> -101.76972 | Z5: =SUM(Z$13-Z$3)/9+Z4 -> -101.76972 | AA5: =SUM(AA$13-AA$3)/9+AA4 -> -101.76972 | AB5: =SUM(AB$13-AB$3)/9+AB4 -> -101.76972 | AC5: =SUM(AC$13-AC$3)/9+AC4 -> -101.76972
A6: 3 | B6: =SUM(B$13-B$3)/9+B5 -> 0 | C6: =SUM(C$13-C$3)/9+C5 -> -3.69028 | D6: =SUM(D$13-D$3)/9+D5 -> -7.8725973 | E6: =SUM(E$13-E$3)/9+E5 -> -11.316859 | F6: =SUM(F$13-F$3)/9+F5 -> -15.253157 | G6: =SUM(G$13-G$3)/9+G5 -> -20.419549 | H6: =SUM(H$13-H$3)/9+H5 -> -21.649643 | I6: =SUM(I$13-I$3)/9+I5 -> -24.355848 | ... Q6: =SUM(Q$13-Q$3)/9+Q5 -> -88.320701 | R6: =SUM(S6-Q6)/2+Q6 -> -91.887972 | S6: =SUM(S$13-S$3)/9+S5 -> -95.455243 | T6: =SUM(U6-S6)/4+S6 -> -95.455243 | U6: =SUM(U$13-U$3)/9+U5 -> -95.455243 | V6: =SUM(V$13-V$3)/9+V5 -> -95.455243 | W6: =SUM(W$13-W$3)/9+W5 -> -95.455243 | X6: =SUM(X$13-X$3)/9+X5 -> -95.455243 | Y6: =SUM(Y$13-Y$3)/9+Y5 -> -95.455243 | Z6: =SUM(Z$13-Z$3)/9+Z5 -> -95.455243 | AA6: =SUM(AA$13-AA$3)/9+AA5 -> -95.455243 | AB6: =SUM(AB$13-AB$3)/9+AB5 -> -95.455243 | AC6: =SUM(AC$13-AC$3)/9+AC5 -> -95.455243
A7: 4 | B7: =SUM(B$13-B$3)/9+B6 -> 0 | C7: =SUM(C$13-C$3)/9+C6 -> -0.24601867 | D7: =SUM(D$13-D$3)/9+D6 -> -0.90206844 | E7: =SUM(E$13-E$3)/9+E6 -> -0.82006222 | F7: =SUM(F$13-F$3)/9+F6 -> -6.0684604 | G7: =SUM(G$13-G$3)/9+G6 -> -12.464946 | H7: =SUM(H$13-H$3)/9+H6 -> -13.613033 | I7: =SUM(I$13-I$3)/9+I6 -> -15.745195 | ... Q7: =SUM(Q$13-Q$3)/9+Q6 -> -82.088228 | R7: =SUM(S7-Q7)/2+Q7 -> -85.614496 | S7: =SUM(S$13-S$3)/9+S6 -> -89.140764 | T7: =SUM(U7-S7)/4+S7 -> -89.140764 | U7: =SUM(U$13-U$3)/9+U6 -> -89.140764 | V7: =SUM(V$13-V$3)/9+V6 -> -89.140764 | W7: =SUM(W$13-W$3)/9+W6 -> -89.140764 | X7: =SUM(X$13-X$3)/9+X6 -> -89.140764 | Y7: =SUM(Y$13-Y$3)/9+Y6 -> -89.140764 | Z7: =SUM(Z$13-Z$3)/9+Z6 -> -89.140764 | AA7: =SUM(AA$13-AA$3)/9+AA6 -> -89.140764 | AB7: =SUM(AB$13-AB$3)/9+AB6 -> -89.140764 | AC7: =SUM(AC$13-AC$3)/9+AC6 -> -89.140764 | AD7: <these are the fugures not visible but still calclated by the ECM
A8: 5 | B8: =SUM(B$13-B$3)/9+B7 -> 0 | C8: =SUM(C$13-C$3)/9+C7 -> 3.1982427 | D8: =SUM(D$13-D$3)/9+D7 -> 6.0684604 | E8: =SUM(E$13-E$3)/9+E7 -> 9.6767342 | F8: =SUM(F$13-F$3)/9+F7 -> 3.1162364 | G8: =SUM(G$13-G$3)/9+G7 -> -4.5103422 | H8: =SUM(H$13-H$3)/9+H7 -> -5.5764231 | I8: =SUM(I$13-I$3)/9+I7 -> -7.1345413 | ... Q8: =SUM(Q$13-Q$3)/9+Q7 -> -75.855756 | R8: =SUM(S8-Q8)/2+Q8 -> -79.34102 | S8: =SUM(S$13-S$3)/9+S7 -> -82.826284 | T8: =SUM(U8-S8)/4+S8 -> -82.826284 | U8: =SUM(U$13-U$3)/9+U7 -> -82.826284 | V8: =SUM(V$13-V$3)/9+V7 -> -82.826284 | W8: =SUM(W$13-W$3)/9+W7 -> -82.826284 | X8: =SUM(X$13-X$3)/9+X7 -> -82.826284 | Y8: =SUM(Y$13-Y$3)/9+Y7 -> -82.826284 | Z8: =SUM(Z$13-Z$3)/9+Z7 -> -82.826284 | AA8: =SUM(AA$13-AA$3)/9+AA7 -> -82.826284 | AB8: =SUM(AB$13-AB$3)/9+AB7 -> -82.826284 | AC8: =SUM(AC$13-AC$3)/9+AC7 -> -82.826284
A9: 6 | B9: =SUM(B$13-B$3)/9+B8 -> 0 | C9: =SUM(C$13-C$3)/9+C8 -> 6.642504 | D9: =SUM(D$13-D$3)/9+D8 -> 13.038989 | E9: =SUM(E$13-E$3)/9+E8 -> 20.173531 | F9: =SUM(F$13-F$3)/9+F8 -> 12.300933 | G9: =SUM(G$13-G$3)/9+G8 -> 3.4442613 | H9: =SUM(H$13-H$3)/9+H8 -> 2.4601867 | I9: =SUM(I$13-I$3)/9+I8 -> 1.476112 | ... Q9: =SUM(Q$13-Q$3)/9+Q8 -> -69.623283 | R9: =SUM(S9-Q9)/2+Q9 -> -73.067544 | S9: =SUM(S$13-S$3)/9+S8 -> -76.511805 | T9: =SUM(U9-S9)/4+S9 -> -76.511805 | U9: =SUM(U$13-U$3)/9+U8 -> -76.511805 | V9: =SUM(V$13-V$3)/9+V8 -> -76.511805 | W9: =SUM(W$13-W$3)/9+W8 -> -76.511805 | X9: =SUM(X$13-X$3)/9+X8 -> -76.511805 | Y9: =SUM(Y$13-Y$3)/9+Y8 -> -76.511805 | Z9: =SUM(Z$13-Z$3)/9+Z8 -> -76.511805 | AA9: =SUM(AA$13-AA$3)/9+AA8 -> -76.511805 | AB9: =SUM(AB$13-AB$3)/9+AB8 -> -76.511805 | AC9: =SUM(AC$13-AC$3)/9+AC8 -> -76.511805
A10: 7 | B10: =SUM(B$13-B$3)/9+B9 -> 0 | C10: =SUM(C$13-C$3)/9+C9 -> 10.086765 | D10: =SUM(D$13-D$3)/9+D9 -> 20.009518 | E10: =SUM(E$13-E$3)/9+E9 -> 30.670327 | F10: =SUM(F$13-F$3)/9+F9 -> 21.48563 | G10: =SUM(G$13-G$3)/9+G9 -> 11.398865 | H10: =SUM(H$13-H$3)/9+H9 -> 10.496796 | I10: =SUM(I$13-I$3)/9+I9 -> 10.086765 | ... Q10: =SUM(Q$13-Q$3)/9+Q9 -> -63.39081 | R10: =SUM(S10-Q10)/2+Q10 -> -66.794068 | S10: =SUM(S$13-S$3)/9+S9 -> -70.197326 | T10: =SUM(U10-S10)/4+S10 -> -70.197326 | U10: =SUM(U$13-U$3)/9+U9 -> -70.197326 | V10: =SUM(V$13-V$3)/9+V9 -> -70.197326 | W10: =SUM(W$13-W$3)/9+W9 -> -70.197326 | X10: =SUM(X$13-X$3)/9+X9 -> -70.197326 | Y10: =SUM(Y$13-Y$3)/9+Y9 -> -70.197326 | Z10: =SUM(Z$13-Z$3)/9+Z9 -> -70.197326 | AA10: =SUM(AA$13-AA$3)/9+AA9 -> -70.197326 | AB10: =SUM(AB$13-AB$3)/9+AB9 -> -70.197326 | AC10: =SUM(AC$13-AC$3)/9+AC9 -> -70.197326
A11: 8 | B11: =SUM(B$13-B$3)/9+B10 -> 0 | C11: =SUM(C$13-C$3)/9+C10 -> 13.531027 | D11: =SUM(D$13-D$3)/9+D10 -> 26.980047 | E11: =SUM(E$13-E$3)/9+E10 -> 41.167124 | F11: =SUM(F$13-F$3)/9+F10 -> 30.670327 | G11: =SUM(G$13-G$3)/9+G10 -> 19.353468 | H11: =SUM(H$13-H$3)/9+H10 -> 18.533406 | I11: =SUM(I$13-I$3)/9+I10 -> 18.697419 | ... Q11: =SUM(Q$13-Q$3)/9+Q10 -> -57.158337 | R11: =SUM(S11-Q11)/2+Q11 -> -60.520592 | S11: =SUM(S$13-S$3)/9+S10 -> -63.882847 | T11: =SUM(U11-S11)/4+S11 -> -63.882847 | U11: =SUM(U$13-U$3)/9+U10 -> -63.882847 | V11: =SUM(V$13-V$3)/9+V10 -> -63.882847 | W11: =SUM(W$13-W$3)/9+W10 -> -63.882847 | X11: =SUM(X$13-X$3)/9+X10 -> -63.882847 | Y11: =SUM(Y$13-Y$3)/9+Y10 -> -63.882847 | Z11: =SUM(Z$13-Z$3)/9+Z10 -> -63.882847 | AA11: =SUM(AA$13-AA$3)/9+AA10 -> -63.882847 | AB11: =SUM(AB$13-AB$3)/9+AB10 -> -63.882847 | AC11: =SUM(AC$13-AC$3)/9+AC10 -> -63.882847
A12: 9 | B12: =SUM(B$13-B$3)/9+B11 -> 0 | C12: =SUM(C$13-C$3)/9+C11 -> 16.975288 | D12: =SUM(D$13-D$3)/9+D11 -> 33.950576 | E12: =SUM(E$13-E$3)/9+E11 -> 51.66392 | F12: =SUM(F$13-F$3)/9+F11 -> 39.855024 | G12: =SUM(G$13-G$3)/9+G11 -> 27.308072 | H12: =SUM(H$13-H$3)/9+H11 -> 26.570016 | I12: =SUM(I$13-I$3)/9+I11 -> 27.308072 | ... Q12: =SUM(Q$13-Q$3)/9+Q11 -> -50.925864 | R12: =SUM(S12-Q12)/2+Q12 -> -54.247116 | S12: =SUM(S$13-S$3)/9+S11 -> -57.568368 | T12: =SUM(U12-S12)/4+S12 -> -57.568368 | U12: =SUM(U$13-U$3)/9+U11 -> -57.568368 | V12: =SUM(V$13-V$3)/9+V11 -> -57.568368 | W12: =SUM(W$13-W$3)/9+W11 -> -57.568368 | X12: =SUM(X$13-X$3)/9+X11 -> -57.568368 | Y12: =SUM(Y$13-Y$3)/9+Y11 -> -57.568368 | Z12: =SUM(Z$13-Z$3)/9+Z11 -> -57.568368 | AA12: =SUM(AA$13-AA$3)/9+AA11 -> -57.568368 | AB12: =SUM(AB$13-AB$3)/9+AB11 -> -57.568368 | AC12: =SUM(AC$13-AC$3)/9+AC11 -> -57.568368
A13: 10 | B13: =SUM(Math!B33) -> 0 | C13: =SUM(Math!C33) -> 16.975288 | D13: =SUM(Math!D33) -> 33.950576 | E13: =SUM(Math!E33) -> 51.66392 | F13: =SUM(Math!F33) -> 39.855024 | G13: =SUM(Math!G33) -> 27.308072 | H13: =SUM(Math!H33) -> 26.570016 | I13: =SUM(Math!I33) -> 27.308072 | ... Q13: =SUM(Math!Q33) -> -50.925864 | R13: =SUM(S13-Q13)/2+Q13 -> -54.247116 | S13: =SUM(Math!R33) -> -57.568368 | T13: =SUM(U13-S13)/4+S13 -> -57.568368 | U13: =SUM(Math!S33) -> -57.568368 | V13: =SUM(Math!T33) -> -57.568368 | W13: =SUM(Math!U33) -> -57.568368 | X13: =SUM(Math!V33) -> -57.568368 | Y13: =SUM(Math!W33) -> -57.568368 | Z13: =SUM(Math!X33) -> -57.568368 | AA13: =SUM(Math!Y33) -> -57.568368 | AB13: =SUM(Math!Z33) -> -57.568368 | AC13: =SUM(Math!AA33) -> -57.568368
A14: 11 | B14: =SUM(B$23-B$13)/9+B13 -> 0 | C14: =SUM(C$23-C$13)/9+C13 -> 19.599487 | D14: =SUM(D$23-D$13)/9+D13 -> 39.198974 | E14: =SUM(E$23-E$13)/9+E13 -> 59.454511 | F14: =SUM(F$23-F$13)/9+F13 -> 47.481603 | G14: =SUM(G$23-G$13)/9+G13 -> 34.606626 | H14: =SUM(H$23-H$13)/9+H13 -> 34.52462 | I14: =SUM(I$23-I$13)/9+I13 -> 34.278601 | ... Q14: =SUM(Q$23-Q$13)/9+Q13 -> -44.693391 | R14: =SUM(S14-Q14)/2+Q14 -> -48.50668 | S14: =SUM(S$23-S$13)/9+S13 -> -52.31997 | T14: =SUM(U14-S14)/4+S14 -> -52.31997 | U14: =SUM(U$23-U$13)/9+U13 -> -52.31997 | V14: =SUM(V$23-V$13)/9+V13 -> -52.31997 | W14: =SUM(W$23-W$13)/9+W13 -> -52.31997 | X14: =SUM(X$23-X$13)/9+X13 -> -52.31997 | Y14: =SUM(Y$23-Y$13)/9+Y13 -> -52.31997 | Z14: =SUM(Z$23-Z$13)/9+Z13 -> -52.31997 | AA14: =SUM(AA$23-AA$13)/9+AA13 -> -52.31997 | AB14: =SUM(AB$23-AB$13)/9+AB13 -> -52.31997 | AC14: =SUM(AC$23-AC$13)/9+AC13 -> -52.31997
A15: 12 | B15: =SUM(B$23-B$13)/9+B14 -> 0 | C15: =SUM(C$23-C$13)/9+C14 -> 22.223686 | D15: =SUM(D$23-D$13)/9+D14 -> 44.447372 | E15: =SUM(E$23-E$13)/9+E14 -> 67.245102 | F15: =SUM(F$23-F$13)/9+F14 -> 55.108181 | G15: =SUM(G$23-G$13)/9+G14 -> 41.90518 | H15: =SUM(H$23-H$13)/9+H14 -> 42.479223 | I15: =SUM(I$23-I$13)/9+I14 -> 41.24913 | ... Q15: =SUM(Q$23-Q$13)/9+Q14 -> -38.460918 | R15: =SUM(S15-Q15)/2+Q15 -> -42.766245 | S15: =SUM(S$23-S$13)/9+S14 -> -47.071572 | T15: =SUM(U15-S15)/4+S15 -> -47.071572 | U15: =SUM(U$23-U$13)/9+U14 -> -47.071572 | V15: =SUM(V$23-V$13)/9+V14 -> -47.071572 | W15: =SUM(W$23-W$13)/9+W14 -> -47.071572 | X15: =SUM(X$23-X$13)/9+X14 -> -47.071572 | Y15: =SUM(Y$23-Y$13)/9+Y14 -> -47.071572 | Z15: =SUM(Z$23-Z$13)/9+Z14 -> -47.071572 | AA15: =SUM(AA$23-AA$13)/9+AA14 -> -47.071572 | AB15: =SUM(AB$23-AB$13)/9+AB14 -> -47.071572 | AC15: =SUM(AC$23-AC$13)/9+AC14 -> -47.071572
A16: 13 | B16: =SUM(B$23-B$13)/9+B15 -> 0 | C16: =SUM(C$23-C$13)/9+C15 -> 24.847885 | D16: =SUM(D$23-D$13)/9+D15 -> 49.695771 | E16: =SUM(E$23-E$13)/9+E15 -> 75.035693 | F16: =SUM(F$23-F$13)/9+F15 -> 62.73476 | G16: =SUM(G$23-G$13)/9+G15 -> 49.203733 | H16: =SUM(H$23-H$13)/9+H15 -> 50.433827 | I16: =SUM(I$23-I$13)/9+I15 -> 48.219659 | ... Q16: =SUM(Q$23-Q$13)/9+Q15 -> -32.228445 | R16: =SUM(S16-Q16)/2+Q16 -> -37.025809 | S16: =SUM(S$23-S$13)/9+S15 -> -41.823173 | T16: =SUM(U16-S16)/4+S16 -> -41.823173 | U16: =SUM(U$23-U$13)/9+U15 -> -41.823173 | V16: =SUM(V$23-V$13)/9+V15 -> -41.823173 | W16: =SUM(W$23-W$13)/9+W15 -> -41.823173 | X16: =SUM(X$23-X$13)/9+X15 -> -41.823173 | Y16: =SUM(Y$23-Y$13)/9+Y15 -> -41.823173 | Z16: =SUM(Z$23-Z$13)/9+Z15 -> -41.823173 | AA16: =SUM(AA$23-AA$13)/9+AA15 -> -41.823173 | AB16: =SUM(AB$23-AB$13)/9+AB15 -> -41.823173 | AC16: =SUM(AC$23-AC$13)/9+AC15 -> -41.823173
A17: 14 | B17: =SUM(B$23-B$13)/9+B16 -> 0 | C17: =SUM(C$23-C$13)/9+C16 -> 27.472084 | D17: =SUM(D$23-D$13)/9+D16 -> 54.944169 | E17: =SUM(E$23-E$13)/9+E16 -> 82.826284 | F17: =SUM(F$23-F$13)/9+F16 -> 70.361339 | G17: =SUM(G$23-G$13)/9+G16 -> 56.502287 | H17: =SUM(H$23-H$13)/9+H16 -> 58.38843 | I17: =SUM(I$23-I$13)/9+I16 -> 55.190188 | ... Q17: =SUM(Q$23-Q$13)/9+Q16 -> -25.995972 | R17: =SUM(S17-Q17)/2+Q17 -> -31.285374 | S17: =SUM(S$23-S$13)/9+S16 -> -36.574775 | T17: =SUM(U17-S17)/4+S17 -> -36.574775 | U17: =SUM(U$23-U$13)/9+U16 -> -36.574775 | V17: =SUM(V$23-V$13)/9+V16 -> -36.574775 | W17: =SUM(W$23-W$13)/9+W16 -> -36.574775 | X17: =SUM(X$23-X$13)/9+X16 -> -36.574775 | Y17: =SUM(Y$23-Y$13)/9+Y16 -> -36.574775 | Z17: =SUM(Z$23-Z$13)/9+Z16 -> -36.574775 | AA17: =SUM(AA$23-AA$13)/9+AA16 -> -36.574775 | AB17: =SUM(AB$23-AB$13)/9+AB16 -> -36.574775 | AC17: =SUM(AC$23-AC$13)/9+AC16 -> -36.574775
A18: 15 | B18: =SUM(B$23-B$13)/9+B17 -> 0 | C18: =SUM(C$23-C$13)/9+C17 -> 30.096284 | D18: =SUM(D$23-D$13)/9+D17 -> 60.192567 | E18: =SUM(E$23-E$13)/9+E17 -> 90.616876 | F18: =SUM(F$23-F$13)/9+F17 -> 77.987917 | G18: =SUM(G$23-G$13)/9+G17 -> 63.800841 | H18: =SUM(H$23-H$13)/9+H17 -> 66.343034 | I18: =SUM(I$23-I$13)/9+I17 -> 62.160716 | ... Q18: =SUM(Q$23-Q$13)/9+Q17 -> -19.7635 | R18: =SUM(S18-Q18)/2+Q18 -> -25.544938 | S18: =SUM(S$23-S$13)/9+S17 -> -31.326377 | T18: =SUM(U18-S18)/4+S18 -> -31.326377 | U18: =SUM(U$23-U$13)/9+U17 -> -31.326377 | V18: =SUM(V$23-V$13)/9+V17 -> -31.326377 | W18: =SUM(W$23-W$13)/9+W17 -> -31.326377 | X18: =SUM(X$23-X$13)/9+X17 -> -31.326377 | Y18: =SUM(Y$23-Y$13)/9+Y17 -> -31.326377 | Z18: =SUM(Z$23-Z$13)/9+Z17 -> -31.326377 | AA18: =SUM(AA$23-AA$13)/9+AA17 -> -31.326377 | AB18: =SUM(AB$23-AB$13)/9+AB17 -> -31.326377 | AC18: =SUM(AC$23-AC$13)/9+AC17 -> -31.326377
A19: 16 | B19: =SUM(B$23-B$13)/9+B18 -> 0 | C19: =SUM(C$23-C$13)/9+C18 -> 32.720483 | D19: =SUM(D$23-D$13)/9+D18 -> 65.440965 | E19: =SUM(E$23-E$13)/9+E18 -> 98.407467 | F19: =SUM(F$23-F$13)/9+F18 -> 85.614496 | G19: =SUM(G$23-G$13)/9+G18 -> 71.099395 | H19: =SUM(H$23-H$13)/9+H18 -> 74.297637 | I19: =SUM(I$23-I$13)/9+I18 -> 69.131245 | ... Q19: =SUM(Q$23-Q$13)/9+Q18 -> -13.531027 | R19: =SUM(S19-Q19)/2+Q19 -> -19.804503 | S19: =SUM(S$23-S$13)/9+S18 -> -26.077979 | T19: =SUM(U19-S19)/4+S19 -> -26.077979 | U19: =SUM(U$23-U$13)/9+U18 -> -26.077979 | V19: =SUM(V$23-V$13)/9+V18 -> -26.077979 | W19: =SUM(W$23-W$13)/9+W18 -> -26.077979 | X19: =SUM(X$23-X$13)/9+X18 -> -26.077979 | Y19: =SUM(Y$23-Y$13)/9+Y18 -> -26.077979 | Z19: =SUM(Z$23-Z$13)/9+Z18 -> -26.077979 | AA19: =SUM(AA$23-AA$13)/9+AA18 -> -26.077979 | AB19: =SUM(AB$23-AB$13)/9+AB18 -> -26.077979 | AC19: =SUM(AC$23-AC$13)/9+AC18 -> -26.077979
A20: 17 | B20: =SUM(B$23-B$13)/9+B19 -> 0 | C20: =SUM(C$23-C$13)/9+C19 -> 35.344682 | D20: =SUM(D$23-D$13)/9+D19 -> 70.689364 | E20: =SUM(E$23-E$13)/9+E19 -> 106.19806 | F20: =SUM(F$23-F$13)/9+F19 -> 93.241075 | G20: =SUM(G$23-G$13)/9+G19 -> 78.397948 | H20: =SUM(H$23-H$13)/9+H19 -> 82.252241 | I20: =SUM(I$23-I$13)/9+I19 -> 76.101774 | ... Q20: =SUM(Q$23-Q$13)/9+Q19 -> -7.2985538 | R20: =SUM(S20-Q20)/2+Q20 -> -14.064067 | S20: =SUM(S$23-S$13)/9+S19 -> -20.82958 | T20: =SUM(U20-S20)/4+S20 -> -20.82958 | U20: =SUM(U$23-U$13)/9+U19 -> -20.82958 | V20: =SUM(V$23-V$13)/9+V19 -> -20.82958 | W20: =SUM(W$23-W$13)/9+W19 -> -20.82958 | X20: =SUM(X$23-X$13)/9+X19 -> -20.82958 | Y20: =SUM(Y$23-Y$13)/9+Y19 -> -20.82958 | Z20: =SUM(Z$23-Z$13)/9+Z19 -> -20.82958 | AA20: =SUM(AA$23-AA$13)/9+AA19 -> -20.82958 | AB20: =SUM(AB$23-AB$13)/9+AB19 -> -20.82958 | AC20: =SUM(AC$23-AC$13)/9+AC19 -> -20.82958
A21: 18 | B21: =SUM(B$23-B$13)/9+B20 -> 0 | C21: =SUM(C$23-C$13)/9+C20 -> 37.968881 | D21: =SUM(D$23-D$13)/9+D20 -> 75.937762 | E21: =SUM(E$23-E$13)/9+E20 -> 113.98865 | F21: =SUM(F$23-F$13)/9+F20 -> 100.86765 | G21: =SUM(G$23-G$13)/9+G20 -> 85.696502 | H21: =SUM(H$23-H$13)/9+H20 -> 90.206844 | I21: =SUM(I$23-I$13)/9+I20 -> 83.072303 | ... Q21: =SUM(Q$23-Q$13)/9+Q20 -> -1.0660809 | R21: =SUM(S21-Q21)/2+Q21 -> -8.3236316 | S21: =SUM(S$23-S$13)/9+S20 -> -15.581182 | T21: =SUM(U21-S21)/4+S21 -> -15.581182 | U21: =SUM(U$23-U$13)/9+U20 -> -15.581182 | V21: =SUM(V$23-V$13)/9+V20 -> -15.581182 | W21: =SUM(W$23-W$13)/9+W20 -> -15.581182 | X21: =SUM(X$23-X$13)/9+X20 -> -15.581182 | Y21: =SUM(Y$23-Y$13)/9+Y20 -> -15.581182 | Z21: =SUM(Z$23-Z$13)/9+Z20 -> -15.581182 | AA21: =SUM(AA$23-AA$13)/9+AA20 -> -15.581182 | AB21: =SUM(AB$23-AB$13)/9+AB20 -> -15.581182 | AC21: =SUM(AC$23-AC$13)/9+AC20 -> -15.581182
A22: 19 | B22: =SUM(B$23-B$13)/9+B21 -> 0 | C22: =SUM(C$23-C$13)/9+C21 -> 40.59308 | D22: =SUM(D$23-D$13)/9+D21 -> 81.18616 | E22: =SUM(E$23-E$13)/9+E21 -> 121.77924 | F22: =SUM(F$23-F$13)/9+F21 -> 108.49423 | G22: =SUM(G$23-G$13)/9+G21 -> 92.995056 | H22: =SUM(H$23-H$13)/9+H21 -> 98.161448 | I22: =SUM(I$23-I$13)/9+I21 -> 90.042832 | ... Q22: =SUM(Q$23-Q$13)/9+Q21 -> 5.166392 | R22: =SUM(S22-Q22)/2+Q22 -> -2.583196 | S22: =SUM(S$23-S$13)/9+S21 -> -10.332784 | T22: =SUM(U22-S22)/4+S22 -> -10.332784 | U22: =SUM(U$23-U$13)/9+U21 -> -10.332784 | V22: =SUM(V$23-V$13)/9+V21 -> -10.332784 | W22: =SUM(W$23-W$13)/9+W21 -> -10.332784 | X22: =SUM(X$23-X$13)/9+X21 -> -10.332784 | Y22: =SUM(Y$23-Y$13)/9+Y21 -> -10.332784 | Z22: =SUM(Z$23-Z$13)/9+Z21 -> -10.332784 | AA22: =SUM(AA$23-AA$13)/9+AA21 -> -10.332784 | AB22: =SUM(AB$23-AB$13)/9+AB21 -> -10.332784 | AC22: =SUM(AC$23-AC$13)/9+AC21 -> -10.332784
A23: 20 | B23: =SUM(Math!B34) -> 0 | C23: =SUM(Math!C34) -> 40.59308 | D23: =SUM(Math!D34) -> 81.18616 | E23: =SUM(Math!E34) -> 121.77924 | F23: =SUM(Math!F34) -> 108.49423 | G23: =SUM(Math!G34) -> 92.995056 | H23: =SUM(Math!H34) -> 98.161448 | I23: =SUM(Math!I34) -> 90.042832 | ... Q23: =SUM(Math!Q34) -> 5.166392 | R23: =SUM(S23-Q23)/2+Q23 -> -2.583196 | S23: =SUM(Math!R34) -> -10.332784 | T23: =SUM(U23-S23)/4+S23 -> -10.332784 | U23: =SUM(Math!S34) -> -10.332784 | V23: =SUM(Math!T34) -> -10.332784 | W23: =SUM(Math!U34) -> -10.332784 | X23: =SUM(Math!V34) -> -10.332784 | Y23: =SUM(Math!W34) -> -10.332784 | Z23: =SUM(Math!X34) -> -10.332784 | AA23: =SUM(Math!Y34) -> -10.332784 | AB23: =SUM(Math!Z34) -> -10.332784 | AC23: =SUM(Math!AA34) -> -10.332784
A24: 21 | B24: =SUM(B$33-B$23)/9+B23 -> 0 | C24: =SUM(C$33-C$23)/9+C23 -> 43.135273 | D24: =SUM(D$33-D$23)/9+D23 -> 86.18854 | E24: =SUM(E$33-E$23)/9+E23 -> 129.32381 | F24: =SUM(F$33-F$23)/9+F23 -> 117.92495 | G24: =SUM(G$33-G$23)/9+G23 -> 102.67179 | H24: =SUM(H$33-H$23)/9+H23 -> 105.13198 | I24: =SUM(I$33-I$23)/9+I23 -> 97.095367 | ... Q24: =SUM(Q$33-Q$23)/9+Q23 -> 20.747574 | R24: =SUM(S24-Q24)/2+Q24 -> 12.874977 | S24: =SUM(S$33-S$23)/9+S23 -> 5.0023796 | T24: =SUM(U24-S24)/4+S24 -> 5.0023796 | U24: =SUM(U$33-U$23)/9+U23 -> 5.0023796 | V24: =SUM(V$33-V$23)/9+V23 -> 5.0023796 | W24: =SUM(W$33-W$23)/9+W23 -> 5.0023796 | X24: =SUM(X$33-X$23)/9+X23 -> 5.0023796 | Y24: =SUM(Y$33-Y$23)/9+Y23 -> 5.0023796 | Z24: =SUM(Z$33-Z$23)/9+Z23 -> 5.0023796 | AA24: =SUM(AA$33-AA$23)/9+AA23 -> 5.0023796 | AB24: =SUM(AB$33-AB$23)/9+AB23 -> 5.0023796 | AC24: =SUM(AC$33-AC$23)/9+AC23 -> 5.0023796
A25: 22 | B25: =SUM(B$33-B$23)/9+B24 -> 0 | C25: =SUM(C$33-C$23)/9+C24 -> 45.677466 | D25: =SUM(D$33-D$23)/9+D24 -> 91.190919 | E25: =SUM(E$33-E$23)/9+E24 -> 136.86838 | F25: =SUM(F$33-F$23)/9+F24 -> 127.35566 | G25: =SUM(G$33-G$23)/9+G24 -> 112.34852 | H25: =SUM(H$33-H$23)/9+H24 -> 112.10251 | I25: =SUM(I$33-I$23)/9+I24 -> 104.1479 | ... Q25: =SUM(Q$33-Q$23)/9+Q24 -> 36.328756 | R25: =SUM(S25-Q25)/2+Q25 -> 28.33315 | S25: =SUM(S$33-S$23)/9+S24 -> 20.337543 | T25: =SUM(U25-S25)/4+S25 -> 20.337543 | U25: =SUM(U$33-U$23)/9+U24 -> 20.337543 | V25: =SUM(V$33-V$23)/9+V24 -> 20.337543 | W25: =SUM(W$33-W$23)/9+W24 -> 20.337543 | X25: =SUM(X$33-X$23)/9+X24 -> 20.337543 | Y25: =SUM(Y$33-Y$23)/9+Y24 -> 20.337543 | Z25: =SUM(Z$33-Z$23)/9+Z24 -> 20.337543 | AA25: =SUM(AA$33-AA$23)/9+AA24 -> 20.337543 | AB25: =SUM(AB$33-AB$23)/9+AB24 -> 20.337543 | AC25: =SUM(AC$33-AC$23)/9+AC24 -> 20.337543
A26: 23 | B26: =SUM(B$33-B$23)/9+B25 -> 0 | C26: =SUM(C$33-C$23)/9+C25 -> 48.219659 | D26: =SUM(D$33-D$23)/9+D25 -> 96.193299 | E26: =SUM(E$33-E$23)/9+E25 -> 144.41296 | F26: =SUM(F$33-F$23)/9+F25 -> 136.78638 | G26: =SUM(G$33-G$23)/9+G25 -> 122.02526 | H26: =SUM(H$33-H$23)/9+H25 -> 119.07303 | I26: =SUM(I$33-I$23)/9+I25 -> 111.20044 | ... Q26: =SUM(Q$33-Q$23)/9+Q25 -> 51.909939 | R26: =SUM(S26-Q26)/2+Q26 -> 43.791323 | S26: =SUM(S$33-S$23)/9+S25 -> 35.672707 | T26: =SUM(U26-S26)/4+S26 -> 35.672707 | U26: =SUM(U$33-U$23)/9+U25 -> 35.672707 | V26: =SUM(V$33-V$23)/9+V25 -> 35.672707 | W26: =SUM(W$33-W$23)/9+W25 -> 35.672707 | X26: =SUM(X$33-X$23)/9+X25 -> 35.672707 | Y26: =SUM(Y$33-Y$23)/9+Y25 -> 35.672707 | Z26: =SUM(Z$33-Z$23)/9+Z25 -> 35.672707 | AA26: =SUM(AA$33-AA$23)/9+AA25 -> 35.672707 | AB26: =SUM(AB$33-AB$23)/9+AB25 -> 35.672707 | AC26: =SUM(AC$33-AC$23)/9+AC25 -> 35.672707
A27: 24 | B27: =SUM(B$33-B$23)/9+B26 -> 0 | C27: =SUM(C$33-C$23)/9+C26 -> 50.761852 | D27: =SUM(D$33-D$23)/9+D26 -> 101.19568 | E27: =SUM(E$33-E$23)/9+E26 -> 151.95753 | F27: =SUM(F$33-F$23)/9+F26 -> 146.21709 | G27: =SUM(G$33-G$23)/9+G26 -> 131.70199 | H27: =SUM(H$33-H$23)/9+H26 -> 126.04356 | I27: =SUM(I$33-I$23)/9+I26 -> 118.25297 | ... Q27: =SUM(Q$33-Q$23)/9+Q26 -> 67.491121 | R27: =SUM(S27-Q27)/2+Q27 -> 59.249496 | S27: =SUM(S$33-S$23)/9+S26 -> 51.00787 | T27: =SUM(U27-S27)/4+S27 -> 51.00787 | U27: =SUM(U$33-U$23)/9+U26 -> 51.00787 | V27: =SUM(V$33-V$23)/9+V26 -> 51.00787 | W27: =SUM(W$33-W$23)/9+W26 -> 51.00787 | X27: =SUM(X$33-X$23)/9+X26 -> 51.00787 | Y27: =SUM(Y$33-Y$23)/9+Y26 -> 51.00787 | Z27: =SUM(Z$33-Z$23)/9+Z26 -> 51.00787 | AA27: =SUM(AA$33-AA$23)/9+AA26 -> 51.00787 | AB27: =SUM(AB$33-AB$23)/9+AB26 -> 51.00787 | AC27: =SUM(AC$33-AC$23)/9+AC26 -> 51.00787
A28: 25 | B28: =SUM(B$33-B$23)/9+B27 -> 0 | C28: =SUM(C$33-C$23)/9+C27 -> 53.304044 | D28: =SUM(D$33-D$23)/9+D27 -> 106.19806 | E28: =SUM(E$33-E$23)/9+E27 -> 159.5021 | F28: =SUM(F$33-F$23)/9+F27 -> 155.64781 | G28: =SUM(G$33-G$23)/9+G27 -> 141.37873 | H28: =SUM(H$33-H$23)/9+H27 -> 133.01409 | I28: =SUM(I$33-I$23)/9+I27 -> 125.30551 | ... Q28: =SUM(Q$33-Q$23)/9+Q27 -> 83.072303 | R28: =SUM(S28-Q28)/2+Q28 -> 74.707668 | S28: =SUM(S$33-S$23)/9+S27 -> 66.343034 | T28: =SUM(U28-S28)/4+S28 -> 66.343034 | U28: =SUM(U$33-U$23)/9+U27 -> 66.343034 | V28: =SUM(V$33-V$23)/9+V27 -> 66.343034 | W28: =SUM(W$33-W$23)/9+W27 -> 66.343034 | X28: =SUM(X$33-X$23)/9+X27 -> 66.343034 | Y28: =SUM(Y$33-Y$23)/9+Y27 -> 66.343034 | Z28: =SUM(Z$33-Z$23)/9+Z27 -> 66.343034 | AA28: =SUM(AA$33-AA$23)/9+AA27 -> 66.343034 | AB28: =SUM(AB$33-AB$23)/9+AB27 -> 66.343034 | AC28: =SUM(AC$33-AC$23)/9+AC27 -> 66.343034
A29: 26 | B29: =SUM(B$33-B$23)/9+B28 -> 0 | C29: =SUM(C$33-C$23)/9+C28 -> 55.846237 | D29: =SUM(D$33-D$23)/9+D28 -> 111.20044 | E29: =SUM(E$33-E$23)/9+E28 -> 167.04667 | F29: =SUM(F$33-F$23)/9+F28 -> 165.07853 | G29: =SUM(G$33-G$23)/9+G28 -> 151.05546 | H29: =SUM(H$33-H$23)/9+H28 -> 139.98462 | I29: =SUM(I$33-I$23)/9+I28 -> 132.35804 | ... Q29: =SUM(Q$33-Q$23)/9+Q28 -> 98.653485 | R29: =SUM(S29-Q29)/2+Q29 -> 90.165841 | S29: =SUM(S$33-S$23)/9+S28 -> 81.678197 | T29: =SUM(U29-S29)/4+S29 -> 81.678197 | U29: =SUM(U$33-U$23)/9+U28 -> 81.678197 | V29: =SUM(V$33-V$23)/9+V28 -> 81.678197 | W29: =SUM(W$33-W$23)/9+W28 -> 81.678197 | X29: =SUM(X$33-X$23)/9+X28 -> 81.678197 | Y29: =SUM(Y$33-Y$23)/9+Y28 -> 81.678197 | Z29: =SUM(Z$33-Z$23)/9+Z28 -> 81.678197 | AA29: =SUM(AA$33-AA$23)/9+AA28 -> 81.678197 | AB29: =SUM(AB$33-AB$23)/9+AB28 -> 81.678197 | AC29: =SUM(AC$33-AC$23)/9+AC28 -> 81.678197
A30: 27 | B30: =SUM(B$33-B$23)/9+B29 -> 0 | C30: =SUM(C$33-C$23)/9+C29 -> 58.38843 | D30: =SUM(D$33-D$23)/9+D29 -> 116.20282 | E30: =SUM(E$33-E$23)/9+E29 -> 174.59125 | F30: =SUM(F$33-F$23)/9+F29 -> 174.50924 | G30: =SUM(G$33-G$23)/9+G29 -> 160.7322 | H30: =SUM(H$33-H$23)/9+H29 -> 146.95515 | I30: =SUM(I$33-I$23)/9+I29 -> 139.41058 | ... Q30: =SUM(Q$33-Q$23)/9+Q29 -> 114.23467 | R30: =SUM(S30-Q30)/2+Q30 -> 105.62401 | S30: =SUM(S$33-S$23)/9+S29 -> 97.013361 | T30: =SUM(U30-S30)/4+S30 -> 97.013361 | U30: =SUM(U$33-U$23)/9+U29 -> 97.013361 | V30: =SUM(V$33-V$23)/9+V29 -> 97.013361 | W30: =SUM(W$33-W$23)/9+W29 -> 97.013361 | X30: =SUM(X$33-X$23)/9+X29 -> 97.013361 | Y30: =SUM(Y$33-Y$23)/9+Y29 -> 97.013361 | Z30: =SUM(Z$33-Z$23)/9+Z29 -> 97.013361 | AA30: =SUM(AA$33-AA$23)/9+AA29 -> 97.013361 | AB30: =SUM(AB$33-AB$23)/9+AB29 -> 97.013361 | AC30: =SUM(AC$33-AC$23)/9+AC29 -> 97.013361
A31: 28 | B31: =SUM(B$33-B$23)/9+B30 -> 0 | C31: =SUM(C$33-C$23)/9+C30 -> 60.930623 | D31: =SUM(D$33-D$23)/9+D30 -> 121.2052 | E31: =SUM(E$33-E$23)/9+E30 -> 182.13582 | F31: =SUM(F$33-F$23)/9+F30 -> 183.93996 | G31: =SUM(G$33-G$23)/9+G30 -> 170.40893 | H31: =SUM(H$33-H$23)/9+H30 -> 153.92568 | I31: =SUM(I$33-I$23)/9+I30 -> 146.46311 | ... Q31: =SUM(Q$33-Q$23)/9+Q30 -> 129.81585 | R31: =SUM(S31-Q31)/2+Q31 -> 121.08219 | S31: =SUM(S$33-S$23)/9+S30 -> 112.34852 | T31: =SUM(U31-S31)/4+S31 -> 112.34852 | U31: =SUM(U$33-U$23)/9+U30 -> 112.34852 | V31: =SUM(V$33-V$23)/9+V30 -> 112.34852 | W31: =SUM(W$33-W$23)/9+W30 -> 112.34852 | X31: =SUM(X$33-X$23)/9+X30 -> 112.34852 | Y31: =SUM(Y$33-Y$23)/9+Y30 -> 112.34852 | Z31: =SUM(Z$33-Z$23)/9+Z30 -> 112.34852 | AA31: =SUM(AA$33-AA$23)/9+AA30 -> 112.34852 | AB31: =SUM(AB$33-AB$23)/9+AB30 -> 112.34852 | AC31: =SUM(AC$33-AC$23)/9+AC30 -> 112.34852
A32: 29 | B32: =SUM(B$33-B$23)/9+B31 -> 0 | C32: =SUM(C$33-C$23)/9+C31 -> 63.472816 | D32: =SUM(D$33-D$23)/9+D31 -> 126.20758 | E32: =SUM(E$33-E$23)/9+E31 -> 189.68039 | F32: =SUM(F$33-F$23)/9+F31 -> 193.37067 | G32: =SUM(G$33-G$23)/9+G31 -> 180.08566 | H32: =SUM(H$33-H$23)/9+H31 -> 160.89621 | I32: =SUM(I$33-I$23)/9+I31 -> 153.51565 | ... Q32: =SUM(Q$33-Q$23)/9+Q31 -> 145.39703 | R32: =SUM(S32-Q32)/2+Q32 -> 136.54036 | S32: =SUM(S$33-S$23)/9+S31 -> 127.68369 | T32: =SUM(U32-S32)/4+S32 -> 127.68369 | U32: =SUM(U$33-U$23)/9+U31 -> 127.68369 | V32: =SUM(V$33-V$23)/9+V31 -> 127.68369 | W32: =SUM(W$33-W$23)/9+W31 -> 127.68369 | X32: =SUM(X$33-X$23)/9+X31 -> 127.68369 | Y32: =SUM(Y$33-Y$23)/9+Y31 -> 127.68369 | Z32: =SUM(Z$33-Z$23)/9+Z31 -> 127.68369 | AA32: =SUM(AA$33-AA$23)/9+AA31 -> 127.68369 | AB32: =SUM(AB$33-AB$23)/9+AB31 -> 127.68369 | AC32: =SUM(AC$33-AC$23)/9+AC31 -> 127.68369
A33: 30 | B33: =SUM(Math!B35) -> 0 | C33: =SUM(Math!C35) -> 63.472816 | D33: =SUM(Math!D35) -> 126.20758 | E33: =SUM(Math!E35) -> 189.68039 | F33: =SUM(Math!F35) -> 193.37067 | G33: =SUM(Math!G35) -> 180.08566 | H33: =SUM(Math!H35) -> 160.89621 | I33: =SUM(Math!I35) -> 153.51565 | ... Q33: =SUM(Math!Q35) -> 145.39703 | R33: =SUM(S33-Q33)/2+Q33 -> 136.54036 | S33: =SUM(Math!R35) -> 127.68369 | T33: =SUM(U33-S33)/4+S33 -> 127.68369 | U33: =SUM(Math!S35) -> 127.68369 | V33: =SUM(Math!T35) -> 127.68369 | W33: =SUM(Math!U35) -> 127.68369 | X33: =SUM(Math!V35) -> 127.68369 | Y33: =SUM(Math!W35) -> 127.68369 | Z33: =SUM(Math!X35) -> 127.68369 | AA33: =SUM(Math!Y35) -> 127.68369 | AB33: =SUM(Math!Z35) -> 127.68369 | AC33: =SUM(Math!AA35) -> 127.68369
A34: 31 | B34: =SUM(B$43-B$33)/9+B33 -> 0 | C34: =SUM(C$43-C$33)/9+C33 -> 65.76899 | D34: =SUM(D$43-D$33)/9+D33 -> 130.96394 | E34: =SUM(E$43-E$33)/9+E33 -> 196.73293 | F34: =SUM(F$43-F$33)/9+F33 -> 198.61907 | G34: =SUM(G$43-G$33)/9+G33 -> 188.86033 | H34: =SUM(H$43-H$33)/9+H33 -> 169.58887 | I34: =SUM(I$43-I$33)/9+I33 -> 162.0443 | ... Q34: =SUM(Q$43-Q$33)/9+Q33 -> 154.1717 | R34: =SUM(S34-Q34)/2+Q34 -> 145.52004 | S34: =SUM(S$43-S$33)/9+S33 -> 136.86838 | T34: =SUM(U34-S34)/4+S34 -> 136.86838 | U34: =SUM(U$43-U$33)/9+U33 -> 136.86838 | V34: =SUM(V$43-V$33)/9+V33 -> 136.86838 | W34: =SUM(W$43-W$33)/9+W33 -> 136.86838 | X34: =SUM(X$43-X$33)/9+X33 -> 136.86838 | Y34: =SUM(Y$43-Y$33)/9+Y33 -> 136.86838 | Z34: =SUM(Z$43-Z$33)/9+Z33 -> 136.86838 | AA34: =SUM(AA$43-AA$33)/9+AA33 -> 136.86838 | AB34: =SUM(AB$43-AB$33)/9+AB33 -> 136.86838 | AC34: =SUM(AC$43-AC$33)/9+AC33 -> 136.86838
A35: 32 | B35: =SUM(B$43-B$33)/9+B34 -> 0 | C35: =SUM(C$43-C$33)/9+C34 -> 68.065164 | D35: =SUM(D$43-D$33)/9+D34 -> 135.7203 | E35: =SUM(E$43-E$33)/9+E34 -> 203.78546 | F35: =SUM(F$43-F$33)/9+F34 -> 203.86747 | G35: =SUM(G$43-G$33)/9+G34 -> 197.635 | H35: =SUM(H$43-H$33)/9+H34 -> 178.28153 | I35: =SUM(I$43-I$33)/9+I34 -> 170.57294 | ... Q35: =SUM(Q$43-Q$33)/9+Q34 -> 162.94636 | R35: =SUM(S35-Q35)/2+Q35 -> 154.49972 | S35: =SUM(S$43-S$33)/9+S34 -> 146.05308 | T35: =SUM(U35-S35)/4+S35 -> 146.05308 | U35: =SUM(U$43-U$33)/9+U34 -> 146.05308 | V35: =SUM(V$43-V$33)/9+V34 -> 146.05308 | W35: =SUM(W$43-W$33)/9+W34 -> 146.05308 | X35: =SUM(X$43-X$33)/9+X34 -> 146.05308 | Y35: =SUM(Y$43-Y$33)/9+Y34 -> 146.05308 | Z35: =SUM(Z$43-Z$33)/9+Z34 -> 146.05308 | AA35: =SUM(AA$43-AA$33)/9+AA34 -> 146.05308 | AB35: =SUM(AB$43-AB$33)/9+AB34 -> 146.05308 | AC35: =SUM(AC$43-AC$33)/9+AC34 -> 146.05308
A36: 33 | B36: =SUM(B$43-B$33)/9+B35 -> 0 | C36: =SUM(C$43-C$33)/9+C35 -> 70.361339 | D36: =SUM(D$43-D$33)/9+D35 -> 140.47666 | E36: =SUM(E$43-E$33)/9+E35 -> 210.838 | F36: =SUM(F$43-F$33)/9+F35 -> 209.11587 | G36: =SUM(G$43-G$33)/9+G35 -> 206.40966 | H36: =SUM(H$43-H$33)/9+H35 -> 186.97419 | I36: =SUM(I$43-I$33)/9+I35 -> 179.10159 | ... Q36: =SUM(Q$43-Q$33)/9+Q35 -> 171.72103 | R36: =SUM(S36-Q36)/2+Q36 -> 163.4794 | S36: =SUM(S$43-S$33)/9+S35 -> 155.23778 | T36: =SUM(U36-S36)/4+S36 -> 155.23778 | U36: =SUM(U$43-U$33)/9+U35 -> 155.23778 | V36: =SUM(V$43-V$33)/9+V35 -> 155.23778 | W36: =SUM(W$43-W$33)/9+W35 -> 155.23778 | X36: =SUM(X$43-X$33)/9+X35 -> 155.23778 | Y36: =SUM(Y$43-Y$33)/9+Y35 -> 155.23778 | Z36: =SUM(Z$43-Z$33)/9+Z35 -> 155.23778 | AA36: =SUM(AA$43-AA$33)/9+AA35 -> 155.23778 | AB36: =SUM(AB$43-AB$33)/9+AB35 -> 155.23778 | AC36: =SUM(AC$43-AC$33)/9+AC35 -> 155.23778
A37: 34 | B37: =SUM(B$43-B$33)/9+B36 -> 0 | C37: =SUM(C$43-C$33)/9+C36 -> 72.657513 | D37: =SUM(D$43-D$33)/9+D36 -> 145.23302 | E37: =SUM(E$43-E$33)/9+E36 -> 217.89053 | F37: =SUM(F$43-F$33)/9+F36 -> 214.36426 | G37: =SUM(G$43-G$33)/9+G36 -> 215.18433 | H37: =SUM(H$43-H$33)/9+H36 -> 195.66685 | I37: =SUM(I$43-I$33)/9+I36 -> 187.63024 | ... Q37: =SUM(Q$43-Q$33)/9+Q36 -> 180.4957 | R37: =SUM(S37-Q37)/2+Q37 -> 172.45909 | S37: =SUM(S$43-S$33)/9+S36 -> 164.42248 | T37: =SUM(U37-S37)/4+S37 -> 164.42248 | U37: =SUM(U$43-U$33)/9+U36 -> 164.42248 | V37: =SUM(V$43-V$33)/9+V36 -> 164.42248 | W37: =SUM(W$43-W$33)/9+W36 -> 164.42248 | X37: =SUM(X$43-X$33)/9+X36 -> 164.42248 | Y37: =SUM(Y$43-Y$33)/9+Y36 -> 164.42248 | Z37: =SUM(Z$43-Z$33)/9+Z36 -> 164.42248 | AA37: =SUM(AA$43-AA$33)/9+AA36 -> 164.42248 | AB37: =SUM(AB$43-AB$33)/9+AB36 -> 164.42248 | AC37: =SUM(AC$43-AC$33)/9+AC36 -> 164.42248
A38: 35 | B38: =SUM(B$43-B$33)/9+B37 -> 0 | C38: =SUM(C$43-C$33)/9+C37 -> 74.953687 | D38: =SUM(D$43-D$33)/9+D37 -> 149.98938 | E38: =SUM(E$43-E$33)/9+E37 -> 224.94307 | F38: =SUM(F$43-F$33)/9+F37 -> 219.61266 | G38: =SUM(G$43-G$33)/9+G37 -> 223.95899 | H38: =SUM(H$43-H$33)/9+H37 -> 204.35951 | I38: =SUM(I$43-I$33)/9+I37 -> 196.15888 | ... Q38: =SUM(Q$43-Q$33)/9+Q37 -> 189.27036 | R38: =SUM(S38-Q38)/2+Q38 -> 181.43877 | S38: =SUM(S$43-S$33)/9+S37 -> 173.60717 | T38: =SUM(U38-S38)/4+S38 -> 173.60717 | U38: =SUM(U$43-U$33)/9+U37 -> 173.60717 | V38: =SUM(V$43-V$33)/9+V37 -> 173.60717 | W38: =SUM(W$43-W$33)/9+W37 -> 173.60717 | X38: =SUM(X$43-X$33)/9+X37 -> 173.60717 | Y38: =SUM(Y$43-Y$33)/9+Y37 -> 173.60717 | Z38: =SUM(Z$43-Z$33)/9+Z37 -> 173.60717 | AA38: =SUM(AA$43-AA$33)/9+AA37 -> 173.60717 | AB38: =SUM(AB$43-AB$33)/9+AB37 -> 173.60717 | AC38: =SUM(AC$43-AC$33)/9+AC37 -> 173.60717
A39: 36 | B39: =SUM(B$43-B$33)/9+B38 -> 0 | C39: =SUM(C$43-C$33)/9+C38 -> 77.249861 | D39: =SUM(D$43-D$33)/9+D38 -> 154.74574 | E39: =SUM(E$43-E$33)/9+E38 -> 231.9956 | F39: =SUM(F$43-F$33)/9+F38 -> 224.86106 | G39: =SUM(G$43-G$33)/9+G38 -> 232.73366 | H39: =SUM(H$43-H$33)/9+H38 -> 213.05217 | I39: =SUM(I$43-I$33)/9+I38 -> 204.68753 | ... Q39: =SUM(Q$43-Q$33)/9+Q38 -> 198.04503 | R39: =SUM(S39-Q39)/2+Q39 -> 190.41845 | S39: =SUM(S$43-S$33)/9+S38 -> 182.79187 | T39: =SUM(U39-S39)/4+S39 -> 182.79187 | U39: =SUM(U$43-U$33)/9+U38 -> 182.79187 | V39: =SUM(V$43-V$33)/9+V38 -> 182.79187 | W39: =SUM(W$43-W$33)/9+W38 -> 182.79187 | X39: =SUM(X$43-X$33)/9+X38 -> 182.79187 | Y39: =SUM(Y$43-Y$33)/9+Y38 -> 182.79187 | Z39: =SUM(Z$43-Z$33)/9+Z38 -> 182.79187 | AA39: =SUM(AA$43-AA$33)/9+AA38 -> 182.79187 | AB39: =SUM(AB$43-AB$33)/9+AB38 -> 182.79187 | AC39: =SUM(AC$43-AC$33)/9+AC38 -> 182.79187
A40: 37 | B40: =SUM(B$43-B$33)/9+B39 -> 0 | C40: =SUM(C$43-C$33)/9+C39 -> 79.546036 | D40: =SUM(D$43-D$33)/9+D39 -> 159.5021 | E40: =SUM(E$43-E$33)/9+E39 -> 239.04814 | F40: =SUM(F$43-F$33)/9+F39 -> 230.10946 | G40: =SUM(G$43-G$33)/9+G39 -> 241.50832 | H40: =SUM(H$43-H$33)/9+H39 -> 221.74482 | I40: =SUM(I$43-I$33)/9+I39 -> 213.21618 | ... Q40: =SUM(Q$43-Q$33)/9+Q39 -> 206.81969 | R40: =SUM(S40-Q40)/2+Q40 -> 199.39813 | S40: =SUM(S$43-S$33)/9+S39 -> 191.97657 | T40: =SUM(U40-S40)/4+S40 -> 191.97657 | U40: =SUM(U$43-U$33)/9+U39 -> 191.97657 | V40: =SUM(V$43-V$33)/9+V39 -> 191.97657 | W40: =SUM(W$43-W$33)/9+W39 -> 191.97657 | X40: =SUM(X$43-X$33)/9+X39 -> 191.97657 | Y40: =SUM(Y$43-Y$33)/9+Y39 -> 191.97657 | Z40: =SUM(Z$43-Z$33)/9+Z39 -> 191.97657 | AA40: =SUM(AA$43-AA$33)/9+AA39 -> 191.97657 | AB40: =SUM(AB$43-AB$33)/9+AB39 -> 191.97657 | AC40: =SUM(AC$43-AC$33)/9+AC39 -> 191.97657
A41: 38 | B41: =SUM(B$43-B$33)/9+B40 -> 0 | C41: =SUM(C$43-C$33)/9+C40 -> 81.84221 | D41: =SUM(D$43-D$33)/9+D40 -> 164.25846 | E41: =SUM(E$43-E$33)/9+E40 -> 246.10067 | F41: =SUM(F$43-F$33)/9+F40 -> 235.35786 | G41: =SUM(G$43-G$33)/9+G40 -> 250.28299 | H41: =SUM(H$43-H$33)/9+H40 -> 230.43748 | I41: =SUM(I$43-I$33)/9+I40 -> 221.74482 | ... Q41: =SUM(Q$43-Q$33)/9+Q40 -> 215.59436 | R41: =SUM(S41-Q41)/2+Q41 -> 208.37781 | S41: =SUM(S$43-S$33)/9+S40 -> 201.16126 | T41: =SUM(U41-S41)/4+S41 -> 201.16126 | U41: =SUM(U$43-U$33)/9+U40 -> 201.16126 | V41: =SUM(V$43-V$33)/9+V40 -> 201.16126 | W41: =SUM(W$43-W$33)/9+W40 -> 201.16126 | X41: =SUM(X$43-X$33)/9+X40 -> 201.16126 | Y41: =SUM(Y$43-Y$33)/9+Y40 -> 201.16126 | Z41: =SUM(Z$43-Z$33)/9+Z40 -> 201.16126 | AA41: =SUM(AA$43-AA$33)/9+AA40 -> 201.16126 | AB41: =SUM(AB$43-AB$33)/9+AB40 -> 201.16126 | AC41: =SUM(AC$43-AC$33)/9+AC40 -> 201.16126
A42: 39 | B42: =SUM(B$43-B$33)/9+B41 -> 0 | C42: =SUM(C$43-C$33)/9+C41 -> 84.138384 | D42: =SUM(D$43-D$33)/9+D41 -> 169.01482 | E42: =SUM(E$43-E$33)/9+E41 -> 253.15321 | F42: =SUM(F$43-F$33)/9+F41 -> 240.60626 | G42: =SUM(G$43-G$33)/9+G41 -> 259.05766 | H42: =SUM(H$43-H$33)/9+H41 -> 239.13014 | I42: =SUM(I$43-I$33)/9+I41 -> 230.27347 | ... Q42: =SUM(Q$43-Q$33)/9+Q41 -> 224.36902 | R42: =SUM(S42-Q42)/2+Q42 -> 217.35749 | S42: =SUM(S$43-S$33)/9+S41 -> 210.34596 | T42: =SUM(U42-S42)/4+S42 -> 210.34596 | U42: =SUM(U$43-U$33)/9+U41 -> 210.34596 | V42: =SUM(V$43-V$33)/9+V41 -> 210.34596 | W42: =SUM(W$43-W$33)/9+W41 -> 210.34596 | X42: =SUM(X$43-X$33)/9+X41 -> 210.34596 | Y42: =SUM(Y$43-Y$33)/9+Y41 -> 210.34596 | Z42: =SUM(Z$43-Z$33)/9+Z41 -> 210.34596 | AA42: =SUM(AA$43-AA$33)/9+AA41 -> 210.34596 | AB42: =SUM(AB$43-AB$33)/9+AB41 -> 210.34596 | AC42: =SUM(AC$43-AC$33)/9+AC41 -> 210.34596
A43: 40 | B43: =SUM(Math!B36) -> 0 | C43: =SUM(Math!C36) -> 84.138384 | D43: =SUM(Math!D36) -> 169.01482 | E43: =SUM(Math!E36) -> 253.15321 | F43: =SUM(Math!F36) -> 240.60626 | G43: =SUM(Math!G36) -> 259.05766 | H43: =SUM(Math!H36) -> 239.13014 | I43: =SUM(Math!I36) -> 230.27347 | ... Q43: =SUM(Math!Q36) -> 224.36902 | R43: =SUM(S43-Q43)/2+Q43 -> 217.35749 | S43: =SUM(Math!R36) -> 210.34596 | T43: =SUM(U43-S43)/4+S43 -> 210.34596 | U43: =SUM(Math!S36) -> 210.34596 | V43: =SUM(Math!T36) -> 210.34596 | W43: =SUM(Math!U36) -> 210.34596 | X43: =SUM(Math!V36) -> 210.34596 | Y43: =SUM(Math!W36) -> 210.34596 | Z43: =SUM(Math!X36) -> 210.34596 | AA43: =SUM(Math!Y36) -> 210.34596 | AB43: =SUM(Math!Z36) -> 210.34596 | AC43: =SUM(Math!AA36) -> 210.34596
A44: 41 | B44: =SUM(B$53-B$43)/9+B43 -> 0 | C44: =SUM(C$53-C$43)/9+C43 -> 85.450484 | D44: =SUM(D$53-D$43)/9+D43 -> 171.55702 | E44: =SUM(E$53-E$43)/9+E43 -> 257.08951 | F44: =SUM(F$53-F$43)/9+F43 -> 248.56086 | G44: =SUM(G$53-G$43)/9+G43 -> 265.78217 | H44: =SUM(H$53-H$43)/9+H43 -> 249.1349 | I44: =SUM(I$53-I$43)/9+I43 -> 241.75434 | ... Q44: =SUM(Q$53-Q$43)/9+Q43 -> 229.61742 | R44: =SUM(S44-Q44)/2+Q44 -> 222.7289 | S44: =SUM(S$53-S$43)/9+S43 -> 215.84038 | T44: =SUM(U44-S44)/4+S44 -> 215.84038 | U44: =SUM(U$53-U$43)/9+U43 -> 215.84038 | V44: =SUM(V$53-V$43)/9+V43 -> 215.84038 | W44: =SUM(W$53-W$43)/9+W43 -> 215.84038 | X44: =SUM(X$53-X$43)/9+X43 -> 215.84038 | Y44: =SUM(Y$53-Y$43)/9+Y43 -> 215.84038 | Z44: =SUM(Z$53-Z$43)/9+Z43 -> 215.84038 | AA44: =SUM(AA$53-AA$43)/9+AA43 -> 215.84038 | AB44: =SUM(AB$53-AB$43)/9+AB43 -> 215.84038 | AC44: =SUM(AC$53-AC$43)/9+AC43 -> 215.84038
A45: 42 | B45: =SUM(B$53-B$43)/9+B44 -> 0 | C45: =SUM(C$53-C$43)/9+C44 -> 86.762583 | D45: =SUM(D$53-D$43)/9+D44 -> 174.09921 | E45: =SUM(E$53-E$43)/9+E44 -> 261.02581 | F45: =SUM(F$53-F$43)/9+F44 -> 256.51546 | G45: =SUM(G$53-G$43)/9+G44 -> 272.50668 | H45: =SUM(H$53-H$43)/9+H44 -> 259.13966 | I45: =SUM(I$53-I$43)/9+I44 -> 253.23521 | ... Q45: =SUM(Q$53-Q$43)/9+Q44 -> 234.86582 | R45: =SUM(S45-Q45)/2+Q45 -> 228.10031 | S45: =SUM(S$53-S$43)/9+S44 -> 221.33479 | T45: =SUM(U45-S45)/4+S45 -> 221.33479 | U45: =SUM(U$53-U$43)/9+U44 -> 221.33479 | V45: =SUM(V$53-V$43)/9+V44 -> 221.33479 | W45: =SUM(W$53-W$43)/9+W44 -> 221.33479 | X45: =SUM(X$53-X$43)/9+X44 -> 221.33479 | Y45: =SUM(Y$53-Y$43)/9+Y44 -> 221.33479 | Z45: =SUM(Z$53-Z$43)/9+Z44 -> 221.33479 | AA45: =SUM(AA$53-AA$43)/9+AA44 -> 221.33479 | AB45: =SUM(AB$53-AB$43)/9+AB44 -> 221.33479 | AC45: =SUM(AC$53-AC$43)/9+AC44 -> 221.33479
A46: 43 | B46: =SUM(B$53-B$43)/9+B45 -> 0 | C46: =SUM(C$53-C$43)/9+C45 -> 88.074683 | D46: =SUM(D$53-D$43)/9+D45 -> 176.6414 | E46: =SUM(E$53-E$43)/9+E45 -> 264.9621 | F46: =SUM(F$53-F$43)/9+F45 -> 264.47007 | G46: =SUM(G$53-G$43)/9+G45 -> 279.23119 | H46: =SUM(H$53-H$43)/9+H45 -> 269.14442 | I46: =SUM(I$53-I$43)/9+I45 -> 264.71609 | ... Q46: =SUM(Q$53-Q$43)/9+Q45 -> 240.11422 | R46: =SUM(S46-Q46)/2+Q46 -> 233.47171 | S46: =SUM(S$53-S$43)/9+S45 -> 226.82921 | T46: =SUM(U46-S46)/4+S46 -> 226.82921 | U46: =SUM(U$53-U$43)/9+U45 -> 226.82921 | V46: =SUM(V$53-V$43)/9+V45 -> 226.82921 | W46: =SUM(W$53-W$43)/9+W45 -> 226.82921 | X46: =SUM(X$53-X$43)/9+X45 -> 226.82921 | Y46: =SUM(Y$53-Y$43)/9+Y45 -> 226.82921 | Z46: =SUM(Z$53-Z$43)/9+Z45 -> 226.82921 | AA46: =SUM(AA$53-AA$43)/9+AA45 -> 226.82921 | AB46: =SUM(AB$53-AB$43)/9+AB45 -> 226.82921 | AC46: =SUM(AC$53-AC$43)/9+AC45 -> 226.82921
A47: 44 | B47: =SUM(B$53-B$43)/9+B46 -> 0 | C47: =SUM(C$53-C$43)/9+C46 -> 89.386782 | D47: =SUM(D$53-D$43)/9+D46 -> 179.1836 | E47: =SUM(E$53-E$43)/9+E46 -> 268.8984 | F47: =SUM(F$53-F$43)/9+F46 -> 272.42467 | G47: =SUM(G$53-G$43)/9+G46 -> 285.9557 | H47: =SUM(H$53-H$43)/9+H46 -> 279.14918 | I47: =SUM(I$53-I$43)/9+I46 -> 276.19696 | ... Q47: =SUM(Q$53-Q$43)/9+Q46 -> 245.36262 | R47: =SUM(S47-Q47)/2+Q47 -> 238.84312 | S47: =SUM(S$53-S$43)/9+S46 -> 232.32363 | T47: =SUM(U47-S47)/4+S47 -> 232.32363 | U47: =SUM(U$53-U$43)/9+U46 -> 232.32363 | V47: =SUM(V$53-V$43)/9+V46 -> 232.32363 | W47: =SUM(W$53-W$43)/9+W46 -> 232.32363 | X47: =SUM(X$53-X$43)/9+X46 -> 232.32363 | Y47: =SUM(Y$53-Y$43)/9+Y46 -> 232.32363 | Z47: =SUM(Z$53-Z$43)/9+Z46 -> 232.32363 | AA47: =SUM(AA$53-AA$43)/9+AA46 -> 232.32363 | AB47: =SUM(AB$53-AB$43)/9+AB46 -> 232.32363 | AC47: =SUM(AC$53-AC$43)/9+AC46 -> 232.32363
A48: 45 | B48: =SUM(B$53-B$43)/9+B47 -> 0 | C48: =SUM(C$53-C$43)/9+C47 -> 90.698882 | D48: =SUM(D$53-D$43)/9+D47 -> 181.72579 | E48: =SUM(E$53-E$43)/9+E47 -> 272.8347 | F48: =SUM(F$53-F$43)/9+F47 -> 280.37927 | G48: =SUM(G$53-G$43)/9+G47 -> 292.68021 | H48: =SUM(H$53-H$43)/9+H47 -> 289.15394 | I48: =SUM(I$53-I$43)/9+I47 -> 287.67783 | ... Q48: =SUM(Q$53-Q$43)/9+Q47 -> 250.61102 | R48: =SUM(S48-Q48)/2+Q48 -> 244.21453 | S48: =SUM(S$53-S$43)/9+S47 -> 237.81804 | T48: =SUM(U48-S48)/4+S48 -> 237.81804 | U48: =SUM(U$53-U$43)/9+U47 -> 237.81804 | V48: =SUM(V$53-V$43)/9+V47 -> 237.81804 | W48: =SUM(W$53-W$43)/9+W47 -> 237.81804 | X48: =SUM(X$53-X$43)/9+X47 -> 237.81804 | Y48: =SUM(Y$53-Y$43)/9+Y47 -> 237.81804 | Z48: =SUM(Z$53-Z$43)/9+Z47 -> 237.81804 | AA48: =SUM(AA$53-AA$43)/9+AA47 -> 237.81804 | AB48: =SUM(AB$53-AB$43)/9+AB47 -> 237.81804 | AC48: =SUM(AC$53-AC$43)/9+AC47 -> 237.81804
A49: 46 | B49: =SUM(B$53-B$43)/9+B48 -> 0 | C49: =SUM(C$53-C$43)/9+C48 -> 92.010981 | D49: =SUM(D$53-D$43)/9+D48 -> 184.26798 | E49: =SUM(E$53-E$43)/9+E48 -> 276.771 | F49: =SUM(F$53-F$43)/9+F48 -> 288.33388 | G49: =SUM(G$53-G$43)/9+G48 -> 299.40472 | H49: =SUM(H$53-H$43)/9+H48 -> 299.1587 | I49: =SUM(I$53-I$43)/9+I48 -> 299.1587 | ... Q49: =SUM(Q$53-Q$43)/9+Q48 -> 255.85941 | R49: =SUM(S49-Q49)/2+Q49 -> 249.58594 | S49: =SUM(S$53-S$43)/9+S48 -> 243.31246 | T49: =SUM(U49-S49)/4+S49 -> 243.31246 | U49: =SUM(U$53-U$43)/9+U48 -> 243.31246 | V49: =SUM(V$53-V$43)/9+V48 -> 243.31246 | W49: =SUM(W$53-W$43)/9+W48 -> 243.31246 | X49: =SUM(X$53-X$43)/9+X48 -> 243.31246 | Y49: =SUM(Y$53-Y$43)/9+Y48 -> 243.31246 | Z49: =SUM(Z$53-Z$43)/9+Z48 -> 243.31246 | AA49: =SUM(AA$53-AA$43)/9+AA48 -> 243.31246 | AB49: =SUM(AB$53-AB$43)/9+AB48 -> 243.31246 | AC49: =SUM(AC$53-AC$43)/9+AC48 -> 243.31246
A50: 47 | B50: =SUM(B$53-B$43)/9+B49 -> 0 | C50: =SUM(C$53-C$43)/9+C49 -> 93.323081 | D50: =SUM(D$53-D$43)/9+D49 -> 186.81017 | E50: =SUM(E$53-E$43)/9+E49 -> 280.7073 | F50: =SUM(F$53-F$43)/9+F49 -> 296.28848 | G50: =SUM(G$53-G$43)/9+G49 -> 306.12923 | H50: =SUM(H$53-H$43)/9+H49 -> 309.16346 | I50: =SUM(I$53-I$43)/9+I49 -> 310.63957 | ... Q50: =SUM(Q$53-Q$43)/9+Q49 -> 261.10781 | R50: =SUM(S50-Q50)/2+Q50 -> 254.95734 | S50: =SUM(S$53-S$43)/9+S49 -> 248.80688 | T50: =SUM(U50-S50)/4+S50 -> 248.80688 | U50: =SUM(U$53-U$43)/9+U49 -> 248.80688 | V50: =SUM(V$53-V$43)/9+V49 -> 248.80688 | W50: =SUM(W$53-W$43)/9+W49 -> 248.80688 | X50: =SUM(X$53-X$43)/9+X49 -> 248.80688 | Y50: =SUM(Y$53-Y$43)/9+Y49 -> 248.80688 | Z50: =SUM(Z$53-Z$43)/9+Z49 -> 248.80688 | AA50: =SUM(AA$53-AA$43)/9+AA49 -> 248.80688 | AB50: =SUM(AB$53-AB$43)/9+AB49 -> 248.80688 | AC50: =SUM(AC$53-AC$43)/9+AC49 -> 248.80688
A51: 48 | B51: =SUM(B$53-B$43)/9+B50 -> 0 | C51: =SUM(C$53-C$43)/9+C50 -> 94.63518 | D51: =SUM(D$53-D$43)/9+D50 -> 189.35237 | E51: =SUM(E$53-E$43)/9+E50 -> 284.6436 | F51: =SUM(F$53-F$43)/9+F50 -> 304.24308 | G51: =SUM(G$53-G$43)/9+G50 -> 312.85374 | H51: =SUM(H$53-H$43)/9+H50 -> 319.16822 | I51: =SUM(I$53-I$43)/9+I50 -> 322.12044 | ... Q51: =SUM(Q$53-Q$43)/9+Q50 -> 266.35621 | R51: =SUM(S51-Q51)/2+Q51 -> 260.32875 | S51: =SUM(S$53-S$43)/9+S50 -> 254.3013 | T51: =SUM(U51-S51)/4+S51 -> 254.3013 | U51: =SUM(U$53-U$43)/9+U50 -> 254.3013 | V51: =SUM(V$53-V$43)/9+V50 -> 254.3013 | W51: =SUM(W$53-W$43)/9+W50 -> 254.3013 | X51: =SUM(X$53-X$43)/9+X50 -> 254.3013 | Y51: =SUM(Y$53-Y$43)/9+Y50 -> 254.3013 | Z51: =SUM(Z$53-Z$43)/9+Z50 -> 254.3013 | AA51: =SUM(AA$53-AA$43)/9+AA50 -> 254.3013 | AB51: =SUM(AB$53-AB$43)/9+AB50 -> 254.3013 | AC51: =SUM(AC$53-AC$43)/9+AC50 -> 254.3013
A52: 49 | B52: =SUM(B$53-B$43)/9+B51 -> 0 | C52: =SUM(C$53-C$43)/9+C51 -> 95.94728 | D52: =SUM(D$53-D$43)/9+D51 -> 191.89456 | E52: =SUM(E$53-E$43)/9+E51 -> 288.5799 | F52: =SUM(F$53-F$43)/9+F51 -> 312.19769 | G52: =SUM(G$53-G$43)/9+G51 -> 319.57825 | H52: =SUM(H$53-H$43)/9+H51 -> 329.17298 | I52: =SUM(I$53-I$43)/9+I51 -> 333.60131 | ... Q52: =SUM(Q$53-Q$43)/9+Q51 -> 271.60461 | R52: =SUM(S52-Q52)/2+Q52 -> 265.70016 | S52: =SUM(S$53-S$43)/9+S51 -> 259.79571 | T52: =SUM(U52-S52)/4+S52 -> 259.79571 | U52: =SUM(U$53-U$43)/9+U51 -> 259.79571 | V52: =SUM(V$53-V$43)/9+V51 -> 259.79571 | W52: =SUM(W$53-W$43)/9+W51 -> 259.79571 | X52: =SUM(X$53-X$43)/9+X51 -> 259.79571 | Y52: =SUM(Y$53-Y$43)/9+Y51 -> 259.79571 | Z52: =SUM(Z$53-Z$43)/9+Z51 -> 259.79571 | AA52: =SUM(AA$53-AA$43)/9+AA51 -> 259.79571 | AB52: =SUM(AB$53-AB$43)/9+AB51 -> 259.79571 | AC52: =SUM(AC$53-AC$43)/9+AC51 -> 259.79571
A53: 50 | B53: =SUM(Math!B37) -> 0 | C53: =SUM(Math!C37) -> 95.94728 | D53: =SUM(Math!D37) -> 191.89456 | E53: =SUM(Math!E37) -> 288.5799 | F53: =SUM(Math!F37) -> 312.19769 | G53: =SUM(Math!G37) -> 319.57825 | H53: =SUM(Math!H37) -> 329.17298 | I53: =SUM(Math!I37) -> 333.60131 | ... Q53: =SUM(Math!Q37) -> 271.60461 | R53: =SUM(S53-Q53)/2+Q53 -> 265.70016 | S53: =SUM(Math!R37) -> 259.79571 | T53: =SUM(U53-S53)/4+S53 -> 259.79571 | U53: =SUM(Math!S37) -> 259.79571 | V53: =SUM(Math!T37) -> 259.79571 | W53: =SUM(Math!U37) -> 259.79571 | X53: =SUM(Math!V37) -> 259.79571 | Y53: =SUM(Math!W37) -> 259.79571 | Z53: =SUM(Math!X37) -> 259.79571 | AA53: =SUM(Math!Y37) -> 259.79571 | AB53: =SUM(Math!Z37) -> 259.79571 | AC53: =SUM(Math!AA37) -> 259.79571
A54: 51 | B54: =SUM(B$63-B$53)/9+B53 -> 0 | C54: =SUM(C$63-C$53)/9+C53 -> 97.423392 | D54: =SUM(D$63-D$53)/9+D53 -> 194.84678 | E54: =SUM(E$63-E$53)/9+E53 -> 292.92623 | F54: =SUM(F$63-F$53)/9+F53 -> 315.80596 | G54: =SUM(G$63-G$53)/9+G53 -> 324.33461 | H54: =SUM(H$63-H$53)/9+H53 -> 333.76532 | I54: =SUM(I$63-I$53)/9+I53 -> 338.60369 | ... Q54: =SUM(Q$63-Q$53)/9+Q53 -> 278.00109 | R54: =SUM(S54-Q54)/2+Q54 -> 271.97364 | S54: =SUM(S$63-S$53)/9+S53 -> 265.94618 | T54: =SUM(U54-S54)/4+S54 -> 265.94618 | U54: =SUM(U$63-U$53)/9+U53 -> 265.94618 | V54: =SUM(V$63-V$53)/9+V53 -> 265.94618 | W54: =SUM(W$63-W$53)/9+W53 -> 265.94618 | X54: =SUM(X$63-X$53)/9+X53 -> 265.94618 | Y54: =SUM(Y$63-Y$53)/9+Y53 -> 265.94618 | Z54: =SUM(Z$63-Z$53)/9+Z53 -> 265.94618 | AA54: =SUM(AA$63-AA$53)/9+AA53 -> 265.94618 | AB54: =SUM(AB$63-AB$53)/9+AB53 -> 265.94618 | AC54: =SUM(AC$63-AC$53)/9+AC53 -> 265.94618
A55: 52 | B55: =SUM(B$63-B$53)/9+B54 -> 0 | C55: =SUM(C$63-C$53)/9+C54 -> 98.899504 | D55: =SUM(D$63-D$53)/9+D54 -> 197.79901 | E55: =SUM(E$63-E$53)/9+E54 -> 297.27256 | F55: =SUM(F$63-F$53)/9+F54 -> 319.41424 | G55: =SUM(G$63-G$53)/9+G54 -> 329.09097 | H55: =SUM(H$63-H$53)/9+H54 -> 338.35767 | I55: =SUM(I$63-I$53)/9+I54 -> 343.60607 | ... Q55: =SUM(Q$63-Q$53)/9+Q54 -> 284.39758 | R55: =SUM(S55-Q55)/2+Q55 -> 278.24711 | S55: =SUM(S$63-S$53)/9+S54 -> 272.09665 | T55: =SUM(U55-S55)/4+S55 -> 272.09665 | U55: =SUM(U$63-U$53)/9+U54 -> 272.09665 | V55: =SUM(V$63-V$53)/9+V54 -> 272.09665 | W55: =SUM(W$63-W$53)/9+W54 -> 272.09665 | X55: =SUM(X$63-X$53)/9+X54 -> 272.09665 | Y55: =SUM(Y$63-Y$53)/9+Y54 -> 272.09665 | Z55: =SUM(Z$63-Z$53)/9+Z54 -> 272.09665 | AA55: =SUM(AA$63-AA$53)/9+AA54 -> 272.09665 | AB55: =SUM(AB$63-AB$53)/9+AB54 -> 272.09665 | AC55: =SUM(AC$63-AC$53)/9+AC54 -> 272.09665
A56: 53 | B56: =SUM(B$63-B$53)/9+B55 -> 0 | C56: =SUM(C$63-C$53)/9+C55 -> 100.37562 | D56: =SUM(D$63-D$53)/9+D55 -> 200.75123 | E56: =SUM(E$63-E$53)/9+E55 -> 301.61889 | F56: =SUM(F$63-F$53)/9+F55 -> 323.02251 | G56: =SUM(G$63-G$53)/9+G55 -> 333.84733 | H56: =SUM(H$63-H$53)/9+H55 -> 342.95002 | I56: =SUM(I$63-I$53)/9+I55 -> 348.60845 | ... Q56: =SUM(Q$63-Q$53)/9+Q55 -> 290.79406 | R56: =SUM(S56-Q56)/2+Q56 -> 284.52059 | S56: =SUM(S$63-S$53)/9+S55 -> 278.24711 | T56: =SUM(U56-S56)/4+S56 -> 278.24711 | U56: =SUM(U$63-U$53)/9+U55 -> 278.24711 | V56: =SUM(V$63-V$53)/9+V55 -> 278.24711 | W56: =SUM(W$63-W$53)/9+W55 -> 278.24711 | X56: =SUM(X$63-X$53)/9+X55 -> 278.24711 | Y56: =SUM(Y$63-Y$53)/9+Y55 -> 278.24711 | Z56: =SUM(Z$63-Z$53)/9+Z55 -> 278.24711 | AA56: =SUM(AA$63-AA$53)/9+AA55 -> 278.24711 | AB56: =SUM(AB$63-AB$53)/9+AB55 -> 278.24711 | AC56: =SUM(AC$63-AC$53)/9+AC55 -> 278.24711
A57: 54 | B57: =SUM(B$63-B$53)/9+B56 -> 0 | C57: =SUM(C$63-C$53)/9+C56 -> 101.85173 | D57: =SUM(D$63-D$53)/9+D56 -> 203.70346 | E57: =SUM(E$63-E$53)/9+E56 -> 305.96522 | F57: =SUM(F$63-F$53)/9+F56 -> 326.63078 | G57: =SUM(G$63-G$53)/9+G56 -> 338.60369 | H57: =SUM(H$63-H$53)/9+H56 -> 347.54237 | I57: =SUM(I$63-I$53)/9+I56 -> 353.61083 | ... Q57: =SUM(Q$63-Q$53)/9+Q56 -> 297.19055 | R57: =SUM(S57-Q57)/2+Q57 -> 290.79406 | S57: =SUM(S$63-S$53)/9+S56 -> 284.39758 | T57: =SUM(U57-S57)/4+S57 -> 284.39758 | U57: =SUM(U$63-U$53)/9+U56 -> 284.39758 | V57: =SUM(V$63-V$53)/9+V56 -> 284.39758 | W57: =SUM(W$63-W$53)/9+W56 -> 284.39758 | X57: =SUM(X$63-X$53)/9+X56 -> 284.39758 | Y57: =SUM(Y$63-Y$53)/9+Y56 -> 284.39758 | Z57: =SUM(Z$63-Z$53)/9+Z56 -> 284.39758 | AA57: =SUM(AA$63-AA$53)/9+AA56 -> 284.39758 | AB57: =SUM(AB$63-AB$53)/9+AB56 -> 284.39758 | AC57: =SUM(AC$63-AC$53)/9+AC56 -> 284.39758
A58: 55 | B58: =SUM(B$63-B$53)/9+B57 -> 0 | C58: =SUM(C$63-C$53)/9+C57 -> 103.32784 | D58: =SUM(D$63-D$53)/9+D57 -> 206.65568 | E58: =SUM(E$63-E$53)/9+E57 -> 310.31154 | F58: =SUM(F$63-F$53)/9+F57 -> 330.23906 | G58: =SUM(G$63-G$53)/9+G57 -> 343.36005 | H58: =SUM(H$63-H$53)/9+H57 -> 352.13472 | I58: =SUM(I$63-I$53)/9+I57 -> 358.61321 | ... Q58: =SUM(Q$63-Q$53)/9+Q57 -> 303.58703 | R58: =SUM(S58-Q58)/2+Q58 -> 297.06754 | S58: =SUM(S$63-S$53)/9+S57 -> 290.54805 | T58: =SUM(U58-S58)/4+S58 -> 290.54805 | U58: =SUM(U$63-U$53)/9+U57 -> 290.54805 | V58: =SUM(V$63-V$53)/9+V57 -> 290.54805 | W58: =SUM(W$63-W$53)/9+W57 -> 290.54805 | X58: =SUM(X$63-X$53)/9+X57 -> 290.54805 | Y58: =SUM(Y$63-Y$53)/9+Y57 -> 290.54805 | Z58: =SUM(Z$63-Z$53)/9+Z57 -> 290.54805 | AA58: =SUM(AA$63-AA$53)/9+AA57 -> 290.54805 | AB58: =SUM(AB$63-AB$53)/9+AB57 -> 290.54805 | AC58: =SUM(AC$63-AC$53)/9+AC57 -> 290.54805
A59: 56 | B59: =SUM(B$63-B$53)/9+B58 -> 0 | C59: =SUM(C$63-C$53)/9+C58 -> 104.80395 | D59: =SUM(D$63-D$53)/9+D58 -> 209.6079 | E59: =SUM(E$63-E$53)/9+E58 -> 314.65787 | F59: =SUM(F$63-F$53)/9+F58 -> 333.84733 | G59: =SUM(G$63-G$53)/9+G58 -> 348.11641 | H59: =SUM(H$63-H$53)/9+H58 -> 356.72707 | I59: =SUM(I$63-I$53)/9+I58 -> 363.61559 | ... Q59: =SUM(Q$63-Q$53)/9+Q58 -> 309.98352 | R59: =SUM(S59-Q59)/2+Q59 -> 303.34102 | S59: =SUM(S$63-S$53)/9+S58 -> 296.69851 | T59: =SUM(U59-S59)/4+S59 -> 296.69851 | U59: =SUM(U$63-U$53)/9+U58 -> 296.69851 | V59: =SUM(V$63-V$53)/9+V58 -> 296.69851 | W59: =SUM(W$63-W$53)/9+W58 -> 296.69851 | X59: =SUM(X$63-X$53)/9+X58 -> 296.69851 | Y59: =SUM(Y$63-Y$53)/9+Y58 -> 296.69851 | Z59: =SUM(Z$63-Z$53)/9+Z58 -> 296.69851 | AA59: =SUM(AA$63-AA$53)/9+AA58 -> 296.69851 | AB59: =SUM(AB$63-AB$53)/9+AB58 -> 296.69851 | AC59: =SUM(AC$63-AC$53)/9+AC58 -> 296.69851
A60: 57 | B60: =SUM(B$63-B$53)/9+B59 -> 0 | C60: =SUM(C$63-C$53)/9+C59 -> 106.28006 | D60: =SUM(D$63-D$53)/9+D59 -> 212.56013 | E60: =SUM(E$63-E$53)/9+E59 -> 319.0042 | F60: =SUM(F$63-F$53)/9+F59 -> 337.4556 | G60: =SUM(G$63-G$53)/9+G59 -> 352.87277 | H60: =SUM(H$63-H$53)/9+H59 -> 361.31942 | I60: =SUM(I$63-I$53)/9+I59 -> 368.61797 | ... Q60: =SUM(Q$63-Q$53)/9+Q59 -> 316.38001 | R60: =SUM(S60-Q60)/2+Q60 -> 309.61449 | S60: =SUM(S$63-S$53)/9+S59 -> 302.84898 | T60: =SUM(U60-S60)/4+S60 -> 302.84898 | U60: =SUM(U$63-U$53)/9+U59 -> 302.84898 | V60: =SUM(V$63-V$53)/9+V59 -> 302.84898 | W60: =SUM(W$63-W$53)/9+W59 -> 302.84898 | X60: =SUM(X$63-X$53)/9+X59 -> 302.84898 | Y60: =SUM(Y$63-Y$53)/9+Y59 -> 302.84898 | Z60: =SUM(Z$63-Z$53)/9+Z59 -> 302.84898 | AA60: =SUM(AA$63-AA$53)/9+AA59 -> 302.84898 | AB60: =SUM(AB$63-AB$53)/9+AB59 -> 302.84898 | AC60: =SUM(AC$63-AC$53)/9+AC59 -> 302.84898
A61: 58 | B61: =SUM(B$63-B$53)/9+B60 -> 0 | C61: =SUM(C$63-C$53)/9+C60 -> 107.75618 | D61: =SUM(D$63-D$53)/9+D60 -> 215.51235 | E61: =SUM(E$63-E$53)/9+E60 -> 323.35053 | F61: =SUM(F$63-F$53)/9+F60 -> 341.06388 | G61: =SUM(G$63-G$53)/9+G60 -> 357.62914 | H61: =SUM(H$63-H$53)/9+H60 -> 365.91176 | I61: =SUM(I$63-I$53)/9+I60 -> 373.62035 | ... Q61: =SUM(Q$63-Q$53)/9+Q60 -> 322.77649 | R61: =SUM(S61-Q61)/2+Q61 -> 315.88797 | S61: =SUM(S$63-S$53)/9+S60 -> 308.99945 | T61: =SUM(U61-S61)/4+S61 -> 308.99945 | U61: =SUM(U$63-U$53)/9+U60 -> 308.99945 | V61: =SUM(V$63-V$53)/9+V60 -> 308.99945 | W61: =SUM(W$63-W$53)/9+W60 -> 308.99945 | X61: =SUM(X$63-X$53)/9+X60 -> 308.99945 | Y61: =SUM(Y$63-Y$53)/9+Y60 -> 308.99945 | Z61: =SUM(Z$63-Z$53)/9+Z60 -> 308.99945 | AA61: =SUM(AA$63-AA$53)/9+AA60 -> 308.99945 | AB61: =SUM(AB$63-AB$53)/9+AB60 -> 308.99945 | AC61: =SUM(AC$63-AC$53)/9+AC60 -> 308.99945
A62: 59 | B62: =SUM(B$63-B$53)/9+B61 -> 0 | C62: =SUM(C$63-C$53)/9+C61 -> 109.23229 | D62: =SUM(D$63-D$53)/9+D61 -> 218.46458 | E62: =SUM(E$63-E$53)/9+E61 -> 327.69686 | F62: =SUM(F$63-F$53)/9+F61 -> 344.67215 | G62: =SUM(G$63-G$53)/9+G61 -> 362.3855 | H62: =SUM(H$63-H$53)/9+H61 -> 370.50411 | I62: =SUM(I$63-I$53)/9+I61 -> 378.62273 | ... Q62: =SUM(Q$63-Q$53)/9+Q61 -> 329.17298 | R62: =SUM(S62-Q62)/2+Q62 -> 322.16144 | S62: =SUM(S$63-S$53)/9+S61 -> 315.14991 | T62: =SUM(U62-S62)/4+S62 -> 315.14991 | U62: =SUM(U$63-U$53)/9+U61 -> 315.14991 | V62: =SUM(V$63-V$53)/9+V61 -> 315.14991 | W62: =SUM(W$63-W$53)/9+W61 -> 315.14991 | X62: =SUM(X$63-X$53)/9+X61 -> 315.14991 | Y62: =SUM(Y$63-Y$53)/9+Y61 -> 315.14991 | Z62: =SUM(Z$63-Z$53)/9+Z61 -> 315.14991 | AA62: =SUM(AA$63-AA$53)/9+AA61 -> 315.14991 | AB62: =SUM(AB$63-AB$53)/9+AB61 -> 315.14991 | AC62: =SUM(AC$63-AC$53)/9+AC61 -> 315.14991
A63: 60 | B63: =SUM(Math!B38) -> 0 | C63: =SUM(Math!C38) -> 109.23229 | D63: =SUM(Math!D38) -> 218.46458 | E63: =SUM(Math!E38) -> 327.69686 | F63: =SUM(Math!F38) -> 344.67215 | G63: =SUM(Math!G38) -> 362.3855 | H63: =SUM(Math!H38) -> 370.50411 | I63: =SUM(Math!I38) -> 378.62273 | ... Q63: =SUM(Math!Q38) -> 329.17298 | R63: =SUM(S63-Q63)/2+Q63 -> 322.16144 | S63: =SUM(Math!R38) -> 315.14991 | T63: =SUM(U63-S63)/4+S63 -> 315.14991 | U63: =SUM(Math!S38) -> 315.14991 | V63: =SUM(Math!T38) -> 315.14991 | W63: =SUM(Math!U38) -> 315.14991 | X63: =SUM(Math!V38) -> 315.14991 | Y63: =SUM(Math!W38) -> 315.14991 | Z63: =SUM(Math!X38) -> 315.14991 | AA63: =SUM(Math!Y38) -> 315.14991 | AB63: =SUM(Math!Z38) -> 315.14991 | AC63: =SUM(Math!AA38) -> 315.14991
A64: 61 | B64: =SUM(B$73-B$63)/9+B63 -> 0 | C64: =SUM(C$73-C$63)/9+C63 -> 112.26652 | D64: =SUM(D$73-D$63)/9+D63 -> 221.66282 | E64: =SUM(E$73-E$63)/9+E63 -> 331.05912 | F64: =SUM(F$73-F$63)/9+F63 -> 348.19842 | G64: =SUM(G$73-G$63)/9+G63 -> 365.99377 | H64: =SUM(H$73-H$63)/9+H63 -> 374.2764 | I64: =SUM(I$73-I$63)/9+I63 -> 384.69119 | ... Q64: =SUM(Q$73-Q$63)/9+Q63 -> 335.97949 | R64: =SUM(S64-Q64)/2+Q64 -> 328.96796 | S64: =SUM(S$73-S$63)/9+S63 -> 321.95643 | T64: =SUM(U64-S64)/4+S64 -> 321.95643 | U64: =SUM(U$73-U$63)/9+U63 -> 321.95643 | V64: =SUM(V$73-V$63)/9+V63 -> 321.95643 | W64: =SUM(W$73-W$63)/9+W63 -> 321.95643 | X64: =SUM(X$73-X$63)/9+X63 -> 321.95643 | Y64: =SUM(Y$73-Y$63)/9+Y63 -> 321.95643 | Z64: =SUM(Z$73-Z$63)/9+Z63 -> 321.95643 | AA64: =SUM(AA$73-AA$63)/9+AA63 -> 321.95643 | AB64: =SUM(AB$73-AB$63)/9+AB63 -> 321.95643 | AC64: =SUM(AC$73-AC$63)/9+AC63 -> 321.95643
A65: 62 | B65: =SUM(B$73-B$63)/9+B64 -> 0 | C65: =SUM(C$73-C$63)/9+C64 -> 115.30075 | D65: =SUM(D$73-D$63)/9+D64 -> 224.86106 | E65: =SUM(E$73-E$63)/9+E64 -> 334.42137 | F65: =SUM(F$73-F$63)/9+F64 -> 351.72469 | G65: =SUM(G$73-G$63)/9+G64 -> 369.60204 | H65: =SUM(H$73-H$63)/9+H64 -> 378.04868 | I65: =SUM(I$73-I$63)/9+I64 -> 390.75965 | ... Q65: =SUM(Q$73-Q$63)/9+Q64 -> 342.78601 | R65: =SUM(S65-Q65)/2+Q65 -> 335.77448 | S65: =SUM(S$73-S$63)/9+S64 -> 328.76294 | T65: =SUM(U65-S65)/4+S65 -> 328.76294 | U65: =SUM(U$73-U$63)/9+U64 -> 328.76294 | V65: =SUM(V$73-V$63)/9+V64 -> 328.76294 | W65: =SUM(W$73-W$63)/9+W64 -> 328.76294 | X65: =SUM(X$73-X$63)/9+X64 -> 328.76294 | Y65: =SUM(Y$73-Y$63)/9+Y64 -> 328.76294 | Z65: =SUM(Z$73-Z$63)/9+Z64 -> 328.76294 | AA65: =SUM(AA$73-AA$63)/9+AA64 -> 328.76294 | AB65: =SUM(AB$73-AB$63)/9+AB64 -> 328.76294 | AC65: =SUM(AC$73-AC$63)/9+AC64 -> 328.76294
A66: 63 | B66: =SUM(B$73-B$63)/9+B65 -> 0 | C66: =SUM(C$73-C$63)/9+C65 -> 118.33498 | D66: =SUM(D$73-D$63)/9+D65 -> 228.0593 | E66: =SUM(E$73-E$63)/9+E65 -> 337.78363 | F66: =SUM(F$73-F$63)/9+F65 -> 355.25095 | G66: =SUM(G$73-G$63)/9+G65 -> 373.21032 | H66: =SUM(H$73-H$63)/9+H65 -> 381.82097 | I66: =SUM(I$73-I$63)/9+I65 -> 396.82811 | ... Q66: =SUM(Q$73-Q$63)/9+Q65 -> 349.59253 | R66: =SUM(S66-Q66)/2+Q66 -> 342.58099 | S66: =SUM(S$73-S$63)/9+S65 -> 335.56946 | T66: =SUM(U66-S66)/4+S66 -> 335.56946 | U66: =SUM(U$73-U$63)/9+U65 -> 335.56946 | V66: =SUM(V$73-V$63)/9+V65 -> 335.56946 | W66: =SUM(W$73-W$63)/9+W65 -> 335.56946 | X66: =SUM(X$73-X$63)/9+X65 -> 335.56946 | Y66: =SUM(Y$73-Y$63)/9+Y65 -> 335.56946 | Z66: =SUM(Z$73-Z$63)/9+Z65 -> 335.56946 | AA66: =SUM(AA$73-AA$63)/9+AA65 -> 335.56946 | AB66: =SUM(AB$73-AB$63)/9+AB65 -> 335.56946 | AC66: =SUM(AC$73-AC$63)/9+AC65 -> 335.56946
A67: 64 | B67: =SUM(B$73-B$63)/9+B66 -> 0 | C67: =SUM(C$73-C$63)/9+C66 -> 121.36921 | D67: =SUM(D$73-D$63)/9+D66 -> 231.25755 | E67: =SUM(E$73-E$63)/9+E66 -> 341.14588 | F67: =SUM(F$73-F$63)/9+F66 -> 358.77722 | G67: =SUM(G$73-G$63)/9+G66 -> 376.81859 | H67: =SUM(H$73-H$63)/9+H66 -> 385.59326 | I67: =SUM(I$73-I$63)/9+I66 -> 402.89657 | ... Q67: =SUM(Q$73-Q$63)/9+Q66 -> 356.39904 | R67: =SUM(S67-Q67)/2+Q67 -> 349.38751 | S67: =SUM(S$73-S$63)/9+S66 -> 342.37598 | T67: =SUM(U67-S67)/4+S67 -> 342.37598 | U67: =SUM(U$73-U$63)/9+U66 -> 342.37598 | V67: =SUM(V$73-V$63)/9+V66 -> 342.37598 | W67: =SUM(W$73-W$63)/9+W66 -> 342.37598 | X67: =SUM(X$73-X$63)/9+X66 -> 342.37598 | Y67: =SUM(Y$73-Y$63)/9+Y66 -> 342.37598 | Z67: =SUM(Z$73-Z$63)/9+Z66 -> 342.37598 | AA67: =SUM(AA$73-AA$63)/9+AA66 -> 342.37598 | AB67: =SUM(AB$73-AB$63)/9+AB66 -> 342.37598 | AC67: =SUM(AC$73-AC$63)/9+AC66 -> 342.37598
A68: 65 | B68: =SUM(B$73-B$63)/9+B67 -> 0 | C68: =SUM(C$73-C$63)/9+C67 -> 124.40344 | D68: =SUM(D$73-D$63)/9+D67 -> 234.45579 | E68: =SUM(E$73-E$63)/9+E67 -> 344.50814 | F68: =SUM(F$73-F$63)/9+F67 -> 362.30349 | G68: =SUM(G$73-G$63)/9+G67 -> 380.42686 | H68: =SUM(H$73-H$63)/9+H67 -> 389.36554 | I68: =SUM(I$73-I$63)/9+I67 -> 408.96503 | ... Q68: =SUM(Q$73-Q$63)/9+Q67 -> 363.20556 | R68: =SUM(S68-Q68)/2+Q68 -> 356.19403 | S68: =SUM(S$73-S$63)/9+S67 -> 349.18249 | T68: =SUM(U68-S68)/4+S68 -> 349.18249 | U68: =SUM(U$73-U$63)/9+U67 -> 349.18249 | V68: =SUM(V$73-V$63)/9+V67 -> 349.18249 | W68: =SUM(W$73-W$63)/9+W67 -> 349.18249 | X68: =SUM(X$73-X$63)/9+X67 -> 349.18249 | Y68: =SUM(Y$73-Y$63)/9+Y67 -> 349.18249 | Z68: =SUM(Z$73-Z$63)/9+Z67 -> 349.18249 | AA68: =SUM(AA$73-AA$63)/9+AA67 -> 349.18249 | AB68: =SUM(AB$73-AB$63)/9+AB67 -> 349.18249 | AC68: =SUM(AC$73-AC$63)/9+AC67 -> 349.18249
A69: 66 | B69: =SUM(B$73-B$63)/9+B68 -> 0 | C69: =SUM(C$73-C$63)/9+C68 -> 127.43767 | D69: =SUM(D$73-D$63)/9+D68 -> 237.65403 | E69: =SUM(E$73-E$63)/9+E68 -> 347.87039 | F69: =SUM(F$73-F$63)/9+F68 -> 365.82976 | G69: =SUM(G$73-G$63)/9+G68 -> 384.03514 | H69: =SUM(H$73-H$63)/9+H68 -> 393.13783 | I69: =SUM(I$73-I$63)/9+I68 -> 415.03349 | ... Q69: =SUM(Q$73-Q$63)/9+Q68 -> 370.01207 | R69: =SUM(S69-Q69)/2+Q69 -> 363.00054 | S69: =SUM(S$73-S$63)/9+S68 -> 355.98901 | T69: =SUM(U69-S69)/4+S69 -> 355.98901 | U69: =SUM(U$73-U$63)/9+U68 -> 355.98901 | V69: =SUM(V$73-V$63)/9+V68 -> 355.98901 | W69: =SUM(W$73-W$63)/9+W68 -> 355.98901 | X69: =SUM(X$73-X$63)/9+X68 -> 355.98901 | Y69: =SUM(Y$73-Y$63)/9+Y68 -> 355.98901 | Z69: =SUM(Z$73-Z$63)/9+Z68 -> 355.98901 | AA69: =SUM(AA$73-AA$63)/9+AA68 -> 355.98901 | AB69: =SUM(AB$73-AB$63)/9+AB68 -> 355.98901 | AC69: =SUM(AC$73-AC$63)/9+AC68 -> 355.98901
A70: 67 | B70: =SUM(B$73-B$63)/9+B69 -> 0 | C70: =SUM(C$73-C$63)/9+C69 -> 130.4719 | D70: =SUM(D$73-D$63)/9+D69 -> 240.85227 | E70: =SUM(E$73-E$63)/9+E69 -> 351.23265 | F70: =SUM(F$73-F$63)/9+F69 -> 369.35602 | G70: =SUM(G$73-G$63)/9+G69 -> 387.64341 | H70: =SUM(H$73-H$63)/9+H69 -> 396.91012 | I70: =SUM(I$73-I$63)/9+I69 -> 421.10195 | ... Q70: =SUM(Q$73-Q$63)/9+Q69 -> 376.81859 | R70: =SUM(S70-Q70)/2+Q70 -> 369.80706 | S70: =SUM(S$73-S$63)/9+S69 -> 362.79553 | T70: =SUM(U70-S70)/4+S70 -> 362.79553 | U70: =SUM(U$73-U$63)/9+U69 -> 362.79553 | V70: =SUM(V$73-V$63)/9+V69 -> 362.79553 | W70: =SUM(W$73-W$63)/9+W69 -> 362.79553 | X70: =SUM(X$73-X$63)/9+X69 -> 362.79553 | Y70: =SUM(Y$73-Y$63)/9+Y69 -> 362.79553 | Z70: =SUM(Z$73-Z$63)/9+Z69 -> 362.79553 | AA70: =SUM(AA$73-AA$63)/9+AA69 -> 362.79553 | AB70: =SUM(AB$73-AB$63)/9+AB69 -> 362.79553 | AC70: =SUM(AC$73-AC$63)/9+AC69 -> 362.79553
A71: 68 | B71: =SUM(B$73-B$63)/9+B70 -> 0 | C71: =SUM(C$73-C$63)/9+C70 -> 133.50613 | D71: =SUM(D$73-D$63)/9+D70 -> 244.05052 | E71: =SUM(E$73-E$63)/9+E70 -> 354.5949 | F71: =SUM(F$73-F$63)/9+F70 -> 372.88229 | G71: =SUM(G$73-G$63)/9+G70 -> 391.25169 | H71: =SUM(H$73-H$63)/9+H70 -> 400.6824 | I71: =SUM(I$73-I$63)/9+I70 -> 427.17041 | ... Q71: =SUM(Q$73-Q$63)/9+Q70 -> 383.62511 | R71: =SUM(S71-Q71)/2+Q71 -> 376.61358 | S71: =SUM(S$73-S$63)/9+S70 -> 369.60204 | T71: =SUM(U71-S71)/4+S71 -> 369.60204 | U71: =SUM(U$73-U$63)/9+U70 -> 369.60204 | V71: =SUM(V$73-V$63)/9+V70 -> 369.60204 | W71: =SUM(W$73-W$63)/9+W70 -> 369.60204 | X71: =SUM(X$73-X$63)/9+X70 -> 369.60204 | Y71: =SUM(Y$73-Y$63)/9+Y70 -> 369.60204 | Z71: =SUM(Z$73-Z$63)/9+Z70 -> 369.60204 | AA71: =SUM(AA$73-AA$63)/9+AA70 -> 369.60204 | AB71: =SUM(AB$73-AB$63)/9+AB70 -> 369.60204 | AC71: =SUM(AC$73-AC$63)/9+AC70 -> 369.60204
A72: 69 | B72: =SUM(B$73-B$63)/9+B71 -> 0 | C72: =SUM(C$73-C$63)/9+C71 -> 136.54036 | D72: =SUM(D$73-D$63)/9+D71 -> 247.24876 | E72: =SUM(E$73-E$63)/9+E71 -> 357.95716 | F72: =SUM(F$73-F$63)/9+F71 -> 376.40856 | G72: =SUM(G$73-G$63)/9+G71 -> 394.85996 | H72: =SUM(H$73-H$63)/9+H71 -> 404.45469 | I72: =SUM(I$73-I$63)/9+I71 -> 433.23887 | ... Q72: =SUM(Q$73-Q$63)/9+Q71 -> 390.43162 | R72: =SUM(S72-Q72)/2+Q72 -> 383.42009 | S72: =SUM(S$73-S$63)/9+S71 -> 376.40856 | T72: =SUM(U72-S72)/4+S72 -> 376.40856 | U72: =SUM(U$73-U$63)/9+U71 -> 376.40856 | V72: =SUM(V$73-V$63)/9+V71 -> 376.40856 | W72: =SUM(W$73-W$63)/9+W71 -> 376.40856 | X72: =SUM(X$73-X$63)/9+X71 -> 376.40856 | Y72: =SUM(Y$73-Y$63)/9+Y71 -> 376.40856 | Z72: =SUM(Z$73-Z$63)/9+Z71 -> 376.40856 | AA72: =SUM(AA$73-AA$63)/9+AA71 -> 376.40856 | AB72: =SUM(AB$73-AB$63)/9+AB71 -> 376.40856 | AC72: =SUM(AC$73-AC$63)/9+AC71 -> 376.40856
A73: 70 | B73: =SUM(Math!B39) -> 0 | C73: =SUM(Math!C39) -> 136.54036 | D73: =SUM(Math!D39) -> 247.24876 | E73: =SUM(Math!E39) -> 357.95716 | F73: =SUM(Math!F39) -> 376.40856 | G73: =SUM(Math!G39) -> 394.85996 | H73: =SUM(Math!H39) -> 404.45469 | I73: =SUM(Math!I39) -> 433.23887 | ... Q73: =SUM(Math!Q39) -> 390.43162 | R73: =SUM(S73-Q73)/2+Q73 -> 383.42009 | S73: =SUM(Math!R39) -> 376.40856 | T73: =SUM(U73-S73)/4+S73 -> 376.40856 | U73: =SUM(Math!S39) -> 376.40856 | V73: =SUM(Math!T39) -> 376.40856 | W73: =SUM(Math!U39) -> 376.40856 | X73: =SUM(Math!V39) -> 376.40856 | Y73: =SUM(Math!W39) -> 376.40856 | Z73: =SUM(Math!X39) -> 376.40856 | AA73: =SUM(Math!Y39) -> 376.40856 | AB73: =SUM(Math!Z39) -> 376.40856 | AC73: =SUM(Math!AA39) -> 376.40856
A74: 71 | B74: =SUM(B$83-B$73)/9+B73 -> 0 | C74: =SUM(C$83-C$73)/9+C73 -> 141.46073 | D74: =SUM(D$83-D$73)/9+D73 -> 252.16913 | E74: =SUM(E$83-E$73)/9+E73 -> 362.87753 | F74: =SUM(F$83-F$73)/9+F73 -> 380.9189 | G74: =SUM(G$83-G$73)/9+G73 -> 398.96027 | H74: =SUM(H$83-H$73)/9+H73 -> 408.30898 | I74: =SUM(I$83-I$73)/9+I73 -> 437.33918 | ... Q74: =SUM(Q$83-Q$73)/9+Q73 -> 396.00805 | R74: =SUM(S74-Q74)/2+Q74 -> 389.89858 | S74: =SUM(S$83-S$73)/9+S73 -> 383.78912 | T74: =SUM(U74-S74)/4+S74 -> 383.78912 | U74: =SUM(U$83-U$73)/9+U73 -> 383.78912 | V74: =SUM(V$83-V$73)/9+V73 -> 383.78912 | W74: =SUM(W$83-W$73)/9+W73 -> 383.78912 | X74: =SUM(X$83-X$73)/9+X73 -> 383.78912 | Y74: =SUM(Y$83-Y$73)/9+Y73 -> 383.78912 | Z74: =SUM(Z$83-Z$73)/9+Z73 -> 383.78912 | AA74: =SUM(AA$83-AA$73)/9+AA73 -> 383.78912 | AB74: =SUM(AB$83-AB$73)/9+AB73 -> 383.78912 | AC74: =SUM(AC$83-AC$73)/9+AC73 -> 383.78912
A75: 72 | B75: =SUM(B$83-B$73)/9+B74 -> 0 | C75: =SUM(C$83-C$73)/9+C74 -> 146.38111 | D75: =SUM(D$83-D$73)/9+D74 -> 257.08951 | E75: =SUM(E$83-E$73)/9+E74 -> 367.79791 | F75: =SUM(F$83-F$73)/9+F74 -> 385.42924 | G75: =SUM(G$83-G$73)/9+G74 -> 403.06058 | H75: =SUM(H$83-H$73)/9+H74 -> 412.16327 | I75: =SUM(I$83-I$73)/9+I74 -> 441.43949 | ... Q75: =SUM(Q$83-Q$73)/9+Q74 -> 401.58447 | R75: =SUM(S75-Q75)/2+Q75 -> 396.37708 | S75: =SUM(S$83-S$73)/9+S74 -> 391.16968 | T75: =SUM(U75-S75)/4+S75 -> 391.16968 | U75: =SUM(U$83-U$73)/9+U74 -> 391.16968 | V75: =SUM(V$83-V$73)/9+V74 -> 391.16968 | W75: =SUM(W$83-W$73)/9+W74 -> 391.16968 | X75: =SUM(X$83-X$73)/9+X74 -> 391.16968 | Y75: =SUM(Y$83-Y$73)/9+Y74 -> 391.16968 | Z75: =SUM(Z$83-Z$73)/9+Z74 -> 391.16968 | AA75: =SUM(AA$83-AA$73)/9+AA74 -> 391.16968 | AB75: =SUM(AB$83-AB$73)/9+AB74 -> 391.16968 | AC75: =SUM(AC$83-AC$73)/9+AC74 -> 391.16968
A76: 73 | B76: =SUM(B$83-B$73)/9+B75 -> 0 | C76: =SUM(C$83-C$73)/9+C75 -> 151.30148 | D76: =SUM(D$83-D$73)/9+D75 -> 262.00988 | E76: =SUM(E$83-E$73)/9+E75 -> 372.71828 | F76: =SUM(F$83-F$73)/9+F75 -> 389.93959 | G76: =SUM(G$83-G$73)/9+G75 -> 407.16089 | H76: =SUM(H$83-H$73)/9+H75 -> 416.01757 | I76: =SUM(I$83-I$73)/9+I75 -> 445.53981 | ... Q76: =SUM(Q$83-Q$73)/9+Q75 -> 407.16089 | R76: =SUM(S76-Q76)/2+Q76 -> 402.85557 | S76: =SUM(S$83-S$73)/9+S75 -> 398.55024 | T76: =SUM(U76-S76)/4+S76 -> 398.55024 | U76: =SUM(U$83-U$73)/9+U75 -> 398.55024 | V76: =SUM(V$83-V$73)/9+V75 -> 398.55024 | W76: =SUM(W$83-W$73)/9+W75 -> 398.55024 | X76: =SUM(X$83-X$73)/9+X75 -> 398.55024 | Y76: =SUM(Y$83-Y$73)/9+Y75 -> 398.55024 | Z76: =SUM(Z$83-Z$73)/9+Z75 -> 398.55024 | AA76: =SUM(AA$83-AA$73)/9+AA75 -> 398.55024 | AB76: =SUM(AB$83-AB$73)/9+AB75 -> 398.55024 | AC76: =SUM(AC$83-AC$73)/9+AC75 -> 398.55024
A77: 74 | B77: =SUM(B$83-B$73)/9+B76 -> 0 | C77: =SUM(C$83-C$73)/9+C76 -> 156.22185 | D77: =SUM(D$83-D$73)/9+D76 -> 266.93025 | E77: =SUM(E$83-E$73)/9+E76 -> 377.63865 | F77: =SUM(F$83-F$73)/9+F76 -> 394.44993 | G77: =SUM(G$83-G$73)/9+G76 -> 411.2612 | H77: =SUM(H$83-H$73)/9+H76 -> 419.87186 | I77: =SUM(I$83-I$73)/9+I76 -> 449.64012 | ... Q77: =SUM(Q$83-Q$73)/9+Q76 -> 412.73732 | R77: =SUM(S77-Q77)/2+Q77 -> 409.33406 | S77: =SUM(S$83-S$73)/9+S76 -> 405.9308 | T77: =SUM(U77-S77)/4+S77 -> 405.9308 | U77: =SUM(U$83-U$73)/9+U76 -> 405.9308 | V77: =SUM(V$83-V$73)/9+V76 -> 405.9308 | W77: =SUM(W$83-W$73)/9+W76 -> 405.9308 | X77: =SUM(X$83-X$73)/9+X76 -> 405.9308 | Y77: =SUM(Y$83-Y$73)/9+Y76 -> 405.9308 | Z77: =SUM(Z$83-Z$73)/9+Z76 -> 405.9308 | AA77: =SUM(AA$83-AA$73)/9+AA76 -> 405.9308 | AB77: =SUM(AB$83-AB$73)/9+AB76 -> 405.9308 | AC77: =SUM(AC$83-AC$73)/9+AC76 -> 405.9308
