Workbook

Sheet Math
B1: RPM | AC1: TLIQ | AD1: RPM
A2: TPS | B2: 0 | C2: 200 | D2: 400 | E2: 600 | F2: 800 | G2: 1000 | H2: 1200 | I2: 1400 | J2: 1600 | K2: 1800 | L2: 2000 | M2: 2200 | N2: 2400 | O2: 2600 | P2: 2800 | Q2: 3000 | R2: 3100 | S2: 3250 | T2: 3400 | U2: 3600 | V2: 3800 | W2: 4000 | X2: 4200 | Y2: 4400 | Z2: 4600 | AA2: 4800 | AC2: TPS | AD2: 0 | AE2: 200 | AF2: 400 | AG2: 600 | AH2: 800 | AI2: 1000 | AJ2: 1200 | AK2: 1400 | AL2: 1600 | AM2: 1800 | AN2: 2000 | AO2: 2200 | AP2: 2400 | AQ2: 2600 | AR2: 2800 | AS2: 3000 | AT2: 3100 | AU2: 3250 | AV2: 3400 | AW2: 3600 | AX2: 3800 | AY2: 4000 | AZ2: 4200 | BA2: 4400 | BB2: 4600 | BC2: 4800
A3: 0 | B3: 0 | C3: 0 | D3: 0 | E3: 0 | F3: 0 | G3: 0 | H3: 0 | I3: 0 | J3: 0 | K3: 0 | L3: 0 | M3: 0 | N3: 0 | O3: 0 | P3: 0 | Q3: 0 | R3: 0 | S3: 0 | T3: 0 | U3: 0 | V3: 0 | W3: 0 | X3: 0 | Y3: 0 | Z3: 0 | AA3: 0 | AC3: 0 | AD3: =VLOOKUP(AD17,'TLIQ B0741 Full'!$A$3:$AC$948,2,TRUE) -> 0 | AE3: =VLOOKUP(AE17,'TLIQ B0741 Full'!$A$3:$AC$948,3,TRUE) -> 1.0078125 | AF3: =VLOOKUP(AF17,'TLIQ B0741 Full'!$A$3:$AC$948,4,TRUE) -> 1.5705645 | AG3: =VLOOKUP(AG17,'TLIQ B0741 Full'!$A$3:$AC$948,5,TRUE) -> 1.9650538 | AH3: =VLOOKUP(AH17,'TLIQ B0741 Full'!$A$3:$AC$948,6,TRUE) -> 2.2163978 | AI3: =VLOOKUP(AI17,'TLIQ B0741 Full'!$A$3:$AC$948,7,TRUE) -> 2.6169355 | AJ3: =VLOOKUP(AJ17,'TLIQ B0741 Full'!$A$3:$AC$948,8,TRUE) -> 2.7083333 | AK3: =VLOOKUP(AK17,'TLIQ B0741 Full'!$A$3:$AC$948,9,TRUE) -> 2.7217742 | AL3: =VLOOKUP(AL17,'TLIQ B0741 Full'!$A$3:$AC$948,10,TRUE) -> 2.3840726 | AM3: =VLOOKUP(AM17,'TLIQ B0741 Full'!$A$3:$AC$948,11,TRUE) -> 2.9390121 | AN3: =VLOOKUP(AN17,'TLIQ B0741 Full'!$A$3:$AC$948,12,TRUE) -> 3.703461 | AO3: =VLOOKUP(AO17,'TLIQ B0741 Full'!$A$3:$AC$948,13,TRUE) -> 3.9045699 | AP3: =VLOOKUP(AP17,'TLIQ B0741 Full'!$A$3:$AC$948,14,TRUE) -> 3.8044355 | AQ3: =VLOOKUP(AQ17,'TLIQ B0741 Full'!$A$3:$AC$948,15,TRUE) -> 3.1844758 | AR3: =VLOOKUP(AR17,'TLIQ B0741 Full'!$A$3:$AC$948,16,TRUE) -> 2.202621 | AS3: =VLOOKUP(AS17,'TLIQ B0741 Full'!$A$3:$AC$948,17,TRUE) -> 0.54133065 | AT3: =VLOOKUP(AT17,'TLIQ B0741 Full'!$A$3:$AC$948,18,TRUE) -> 0.171875 | AU3: =VLOOKUP(AU17,'TLIQ B0741 Full'!$A$3:$AC$948,20,TRUE) -> 0.32942708 | AV3: =VLOOKUP(AV17,'TLIQ B0741 Full'!$A$3:$AC$948,21,TRUE) -> 0.32942708 | AW3: =VLOOKUP(AW17,'TLIQ B0741 Full'!$A$3:$AC$948,22,TRUE) -> 0.32942708 | AX3: =VLOOKUP(AX17,'TLIQ B0741 Full'!$A$3:$AC$948,23,TRUE) -> 0.32942708 | AY3: =VLOOKUP(AY17,'TLIQ B0741 Full'!$A$3:$AC$948,24,TRUE) -> 0.32942708 | AZ3: =VLOOKUP(AZ17,'TLIQ B0741 Full'!$A$3:$AC$948,25,TRUE) -> 0.32942708 | BA3: =VLOOKUP(BA17,'TLIQ B0741 Full'!$A$3:$AC$948,26,TRUE) -> 0.32942708 | BB3: =VLOOKUP(BB17,'TLIQ B0741 Full'!$A$3:$AC$948,27,TRUE) -> 0.32942708 | BC3: =VLOOKUP(BC17,'TLIQ B0741 Full'!$A$3:$AC$948,28,TRUE) -> 0.32942708
A4: 10 | B4: 19.703125 | C4: 15.296875 | D4: 11.203125 | E4: 10 | F4: 9.203125 | G4: 8.40625 | H4: 7.203125 | I4: 5.796875 | J4: 3.796875 | K4: 2 | L4: 0 | M4: 0 | N4: 0 | O4: 0 | P4: 0 | Q4: 0 | R4: 0 | S4: 0 | T4: 0 | U4: 0 | V4: 0 | W4: 0 | X4: 0 | Y4: 0 | Z4: 0 | AA4: 0 | AC4: 10 | AD4: =VLOOKUP(AD18,'TLIQ B0741 Full'!$A$3:$AC$948,2,TRUE) -> 0 | AE4: =VLOOKUP(AE18,'TLIQ B0741 Full'!$A$3:$AC$948,3,TRUE) -> 2.765625 | AF4: =VLOOKUP(AF18,'TLIQ B0741 Full'!$A$3:$AC$948,4,TRUE) -> 6.234375 | AG4: =VLOOKUP(AG18,'TLIQ B0741 Full'!$A$3:$AC$948,5,TRUE) -> 10.855469 | AH4: =VLOOKUP(AH18,'TLIQ B0741 Full'!$A$3:$AC$948,6,TRUE) -> 10.649966 | AI4: =VLOOKUP(AI18,'TLIQ B0741 Full'!$A$3:$AC$948,7,TRUE) -> 9.2550951 | AJ4: =VLOOKUP(AJ18,'TLIQ B0741 Full'!$A$3:$AC$948,8,TRUE) -> 7.8743207 | AK4: =VLOOKUP(AK18,'TLIQ B0741 Full'!$A$3:$AC$948,9,TRUE) -> 5.6997283 | AL4: =VLOOKUP(AL18,'TLIQ B0741 Full'!$A$3:$AC$948,10,TRUE) -> 3.7278226 | AM4: =VLOOKUP(AM18,'TLIQ B0741 Full'!$A$3:$AC$948,11,TRUE) -> 3.9763105 | AN4: =VLOOKUP(AN18,'TLIQ B0741 Full'!$A$3:$AC$948,12,TRUE) -> 3.703461 | AO4: =VLOOKUP(AO18,'TLIQ B0741 Full'!$A$3:$AC$948,13,TRUE) -> 3.9045699 | AP4: =VLOOKUP(AP18,'TLIQ B0741 Full'!$A$3:$AC$948,14,TRUE) -> 3.8044355 | AQ4: =VLOOKUP(AQ18,'TLIQ B0741 Full'!$A$3:$AC$948,15,TRUE) -> 3.1844758 | AR4: =VLOOKUP(AR18,'TLIQ B0741 Full'!$A$3:$AC$948,16,TRUE) -> 2.202621 | AS4: =VLOOKUP(AS18,'TLIQ B0741 Full'!$A$3:$AC$948,17,TRUE) -> 0.54133065 | AT4: =VLOOKUP(AT18,'TLIQ B0741 Full'!$A$3:$AC$948,18,TRUE) -> 0.171875 | AU4: =VLOOKUP(AU18,'TLIQ B0741 Full'!$A$3:$AC$948,20,TRUE) -> 0.32942708 | AV4: =VLOOKUP(AV18,'TLIQ B0741 Full'!$A$3:$AC$948,21,TRUE) -> 0.32942708 | AW4: =VLOOKUP(AW18,'TLIQ B0741 Full'!$A$3:$AC$948,22,TRUE) -> 0.32942708 | AX4: =VLOOKUP(AX18,'TLIQ B0741 Full'!$A$3:$AC$948,23,TRUE) -> 0.32942708 | AY4: =VLOOKUP(AY18,'TLIQ B0741 Full'!$A$3:$AC$948,24,TRUE) -> 0.32942708 | AZ4: =VLOOKUP(AZ18,'TLIQ B0741 Full'!$A$3:$AC$948,25,TRUE) -> 0.32942708 | BA4: =VLOOKUP(BA18,'TLIQ B0741 Full'!$A$3:$AC$948,26,TRUE) -> 0.32942708 | BB4: =VLOOKUP(BB18,'TLIQ B0741 Full'!$A$3:$AC$948,27,TRUE) -> 0.32942708 | BC4: =VLOOKUP(BC18,'TLIQ B0741 Full'!$A$3:$AC$948,28,TRUE) -> 0.32942708
A5: 20 | B5: 29 | C5: 22.203125 | D5: 19.296875 | E5: 17.703125 | F5: 16.296875 | G5: 14.703125 | H5: 13.296875 | I5: 11.796875 | J5: 10.796875 | K5: 9.59375 | L5: 8.796875 | M5: 7.40625 | N5: 5.40625 | O5: 3.59375 | P5: 0 | Q5: 0 | R5: 0 | S5: 0 | T5: 0 | U5: 0 | V5: 0 | W5: 0 | X5: 0 | Y5: 0 | Z5: 0 | AA5: 0 | AC5: 20 | AD5: =VLOOKUP(AD19,'TLIQ B0741 Full'!$A$3:$AC$948,2,TRUE) -> 0 | AE5: =VLOOKUP(AE19,'TLIQ B0741 Full'!$A$3:$AC$948,3,TRUE) -> 3.3515625 | AF5: =VLOOKUP(AF19,'TLIQ B0741 Full'!$A$3:$AC$948,4,TRUE) -> 9.5392736 | AG5: =VLOOKUP(AG19,'TLIQ B0741 Full'!$A$3:$AC$948,5,TRUE) -> 17.53308 | AH5: =VLOOKUP(AH19,'TLIQ B0741 Full'!$A$3:$AC$948,6,TRUE) -> 16.523508 | AI5: =VLOOKUP(AI19,'TLIQ B0741 Full'!$A$3:$AC$948,7,TRUE) -> 14.82269 | AJ5: =VLOOKUP(AJ19,'TLIQ B0741 Full'!$A$3:$AC$948,8,TRUE) -> 13.587636 | AK5: =VLOOKUP(AK19,'TLIQ B0741 Full'!$A$3:$AC$948,9,TRUE) -> 11.919837 | AL5: =VLOOKUP(AL19,'TLIQ B0741 Full'!$A$3:$AC$948,10,TRUE) -> 13.185462 | AM5: =VLOOKUP(AM19,'TLIQ B0741 Full'!$A$3:$AC$948,11,TRUE) -> 11.265625 | AN5: =VLOOKUP(AN19,'TLIQ B0741 Full'!$A$3:$AC$948,12,TRUE) -> 8.8175951 | AO5: =VLOOKUP(AO19,'TLIQ B0741 Full'!$A$3:$AC$948,13,TRUE) -> 8.297211 | AP5: =VLOOKUP(AP19,'TLIQ B0741 Full'!$A$3:$AC$948,14,TRUE) -> 7.2731855 | AQ5: =VLOOKUP(AQ19,'TLIQ B0741 Full'!$A$3:$AC$948,15,TRUE) -> 5.5433468 | AR5: =VLOOKUP(AR19,'TLIQ B0741 Full'!$A$3:$AC$948,16,TRUE) -> 2.202621 | AS5: =VLOOKUP(AS19,'TLIQ B0741 Full'!$A$3:$AC$948,17,TRUE) -> 0.54133065 | AT5: =VLOOKUP(AT19,'TLIQ B0741 Full'!$A$3:$AC$948,18,TRUE) -> 0.171875 | AU5: =VLOOKUP(AU19,'TLIQ B0741 Full'!$A$3:$AC$948,20,TRUE) -> 0.32942708 | AV5: =VLOOKUP(AV19,'TLIQ B0741 Full'!$A$3:$AC$948,21,TRUE) -> 0.32942708 | AW5: =VLOOKUP(AW19,'TLIQ B0741 Full'!$A$3:$AC$948,22,TRUE) -> 0.32942708 | AX5: =VLOOKUP(AX19,'TLIQ B0741 Full'!$A$3:$AC$948,23,TRUE) -> 0.32942708 | AY5: =VLOOKUP(AY19,'TLIQ B0741 Full'!$A$3:$AC$948,24,TRUE) -> 0.32942708 | AZ5: =VLOOKUP(AZ19,'TLIQ B0741 Full'!$A$3:$AC$948,25,TRUE) -> 0.32942708 | BA5: =VLOOKUP(BA19,'TLIQ B0741 Full'!$A$3:$AC$948,26,TRUE) -> 0.32942708 | BB5: =VLOOKUP(BB19,'TLIQ B0741 Full'!$A$3:$AC$948,27,TRUE) -> 0.32942708 | BC5: =VLOOKUP(BC19,'TLIQ B0741 Full'!$A$3:$AC$948,28,TRUE) -> 0.32942708
A6: 30 | B6: 40 | C6: 32.59375 | D6: 26.703125 | E6: 24.296875 | F6: 22.703125 | G6: 21.296875 | H6: 20 | I6: 18.90625 | J6: 17.703125 | K6: 16.703125 | L6: 15.296875 | M6: 14.5 | N6: 13.296875 | O6: 11.796875 | P6: 10.59375 | Q6: 9.203125 | R6: 7 | S6: 4.796875 | T6: 2 | U6: 0 | V6: 0 | W6: 0 | X6: 0 | Y6: 0 | Z6: 0 | AA6: 0 | AC6: 30 | AD6: =VLOOKUP(AD20,'TLIQ B0741 Full'!$A$3:$AC$948,2,TRUE) -> 0 | AE6: =VLOOKUP(AE20,'TLIQ B0741 Full'!$A$3:$AC$948,3,TRUE) -> 4.25 | AF6: =VLOOKUP(AF20,'TLIQ B0741 Full'!$A$3:$AC$948,4,TRUE) -> 11.984375 | AG6: =VLOOKUP(AG20,'TLIQ B0741 Full'!$A$3:$AC$948,5,TRUE) -> 23.094735 | AH6: =VLOOKUP(AH20,'TLIQ B0741 Full'!$A$3:$AC$948,6,TRUE) -> 21.087697 | AI6: =VLOOKUP(AI20,'TLIQ B0741 Full'!$A$3:$AC$948,7,TRUE) -> 20.420327 | AJ6: =VLOOKUP(AJ20,'TLIQ B0741 Full'!$A$3:$AC$948,8,TRUE) -> 20.113598 | AK6: =VLOOKUP(AK20,'TLIQ B0741 Full'!$A$3:$AC$948,9,TRUE) -> 19.014358 | AL6: =VLOOKUP(AL20,'TLIQ B0741 Full'!$A$3:$AC$948,10,TRUE) -> 18.677989 | AM6: =VLOOKUP(AM20,'TLIQ B0741 Full'!$A$3:$AC$948,11,TRUE) -> 17.171875 | AN6: =VLOOKUP(AN20,'TLIQ B0741 Full'!$A$3:$AC$948,12,TRUE) -> 15.371264 | AO6: =VLOOKUP(AO20,'TLIQ B0741 Full'!$A$3:$AC$948,13,TRUE) -> 13.713995 | AP6: =VLOOKUP(AP20,'TLIQ B0741 Full'!$A$3:$AC$948,14,TRUE) -> 12.865149 | AQ6: =VLOOKUP(AQ20,'TLIQ B0741 Full'!$A$3:$AC$948,15,TRUE) -> 11.097317 | AR6: =VLOOKUP(AR20,'TLIQ B0741 Full'!$A$3:$AC$948,16,TRUE) -> 10.572581 | AS6: =VLOOKUP(AS20,'TLIQ B0741 Full'!$A$3:$AC$948,17,TRUE) -> 10.826613 | AT6: =VLOOKUP(AT20,'TLIQ B0741 Full'!$A$3:$AC$948,18,TRUE) -> 8.421875 | AU6: =VLOOKUP(AU20,'TLIQ B0741 Full'!$A$3:$AC$948,20,TRUE) -> 4.4294355 | AV6: =VLOOKUP(AV20,'TLIQ B0741 Full'!$A$3:$AC$948,21,TRUE) -> 2.0947581 | AW6: =VLOOKUP(AW20,'TLIQ B0741 Full'!$A$3:$AC$948,22,TRUE) -> 0.32942708 | AX6: =VLOOKUP(AX20,'TLIQ B0741 Full'!$A$3:$AC$948,23,TRUE) -> 0.32942708 | AY6: =VLOOKUP(AY20,'TLIQ B0741 Full'!$A$3:$AC$948,24,TRUE) -> 0.32942708 | AZ6: =VLOOKUP(AZ20,'TLIQ B0741 Full'!$A$3:$AC$948,25,TRUE) -> 0.32942708 | BA6: =VLOOKUP(BA20,'TLIQ B0741 Full'!$A$3:$AC$948,26,TRUE) -> 0.32942708 | BB6: =VLOOKUP(BB20,'TLIQ B0741 Full'!$A$3:$AC$948,27,TRUE) -> 0.32942708 | BC6: =VLOOKUP(BC20,'TLIQ B0741 Full'!$A$3:$AC$948,28,TRUE) -> 0.32942708
A7: 40 | B7: 56.90625 | C7: 46 | D7: 35.703125 | E7: 32.90625 | F7: 30.90625 | G7: 30 | H7: 28.296875 | I7: 27.09375 | J7: 25.703125 | K7: 24.296875 | L7: 22.90625 | M7: 21.296875 | N7: 20.296875 | O7: 19.09375 | P7: 18 | Q7: 16 | R7: 13.90625 | S7: 9.296875 | T7: 4 | U7: 0 | V7: 0 | W7: 0 | X7: 0 | Y7: 0 | Z7: 0 | AA7: 0 | AC7: 40 | AD7: =VLOOKUP(AD21,'TLIQ B0741 Full'!$A$3:$AC$948,2,TRUE) -> 0 | AE7: =VLOOKUP(AE21,'TLIQ B0741 Full'!$A$3:$AC$948,3,TRUE) -> 5.2191723 | AF7: =VLOOKUP(AF21,'TLIQ B0741 Full'!$A$3:$AC$948,4,TRUE) -> 15.081503 | AG7: =VLOOKUP(AG21,'TLIQ B0741 Full'!$A$3:$AC$948,5,TRUE) -> 30.482337 | AH7: =VLOOKUP(AH21,'TLIQ B0741 Full'!$A$3:$AC$948,6,TRUE) -> 28.794158 | AI7: =VLOOKUP(AI21,'TLIQ B0741 Full'!$A$3:$AC$948,7,TRUE) -> 28.468468 | AJ7: =VLOOKUP(AJ21,'TLIQ B0741 Full'!$A$3:$AC$948,8,TRUE) -> 27.213119 | AK7: =VLOOKUP(AK21,'TLIQ B0741 Full'!$A$3:$AC$948,9,TRUE) -> 26.298142 | AL7: =VLOOKUP(AL21,'TLIQ B0741 Full'!$A$3:$AC$948,10,TRUE) -> 24.620777 | AM7: =VLOOKUP(AM21,'TLIQ B0741 Full'!$A$3:$AC$948,11,TRUE) -> 23.999578 | AN7: =VLOOKUP(AN21,'TLIQ B0741 Full'!$A$3:$AC$948,12,TRUE) -> 22.194679 | AO7: =VLOOKUP(AO21,'TLIQ B0741 Full'!$A$3:$AC$948,13,TRUE) -> 20.522928 | AP7: =VLOOKUP(AP21,'TLIQ B0741 Full'!$A$3:$AC$948,14,TRUE) -> 18.559443 | AQ7: =VLOOKUP(AQ21,'TLIQ B0741 Full'!$A$3:$AC$948,15,TRUE) -> 17.911345 | AR7: =VLOOKUP(AR21,'TLIQ B0741 Full'!$A$3:$AC$948,16,TRUE) -> 17.557065 | AS7: =VLOOKUP(AS21,'TLIQ B0741 Full'!$A$3:$AC$948,17,TRUE) -> 17.143342 | AT7: =VLOOKUP(AT21,'TLIQ B0741 Full'!$A$3:$AC$948,18,TRUE) -> 13.859375 | AU7: =VLOOKUP(AU21,'TLIQ B0741 Full'!$A$3:$AC$948,20,TRUE) -> 10.655242 | AV7: =VLOOKUP(AV21,'TLIQ B0741 Full'!$A$3:$AC$948,21,TRUE) -> 4.4294355 | AW7: =VLOOKUP(AW21,'TLIQ B0741 Full'!$A$3:$AC$948,22,TRUE) -> 0.32942708 | AX7: =VLOOKUP(AX21,'TLIQ B0741 Full'!$A$3:$AC$948,23,TRUE) -> 0.32942708 | AY7: =VLOOKUP(AY21,'TLIQ B0741 Full'!$A$3:$AC$948,24,TRUE) -> 0.32942708 | AZ7: =VLOOKUP(AZ21,'TLIQ B0741 Full'!$A$3:$AC$948,25,TRUE) -> 0.32942708 | BA7: =VLOOKUP(BA21,'TLIQ B0741 Full'!$A$3:$AC$948,26,TRUE) -> 0.32942708 | BB7: =VLOOKUP(BB21,'TLIQ B0741 Full'!$A$3:$AC$948,27,TRUE) -> 0.32942708 | BC7: =VLOOKUP(BC21,'TLIQ B0741 Full'!$A$3:$AC$948,28,TRUE) -> 0.32942708
A8: 50 | B8: 85 | C8: 85 | D8: 47.703125 | E8: 44 | F8: 42.203125 | G8: 40.796875 | H8: 39.796875 | I8: 38.40625 | J8: 36.5 | K8: 35.296875 | L8: 34.09375 | M8: 33.09375 | N8: 32.09375 | O8: 30.296875 | P8: 28.703125 | Q8: 25.296875 | R8: 21.703125 | S8: 16.296875 | T8: 8 | U8: 0 | V8: 0 | W8: 0 | X8: 0 | Y8: 0 | Z8: 0 | AA8: 0 | AC8: 50 | AD8: =VLOOKUP(AD22,'TLIQ B0741 Full'!$A$3:$AC$948,2,TRUE) -> 0 | AE8: =VLOOKUP(AE22,'TLIQ B0741 Full'!$A$3:$AC$948,3,TRUE) -> 9.9476902 | AF8: =VLOOKUP(AF22,'TLIQ B0741 Full'!$A$3:$AC$948,4,TRUE) -> 18.132473 | AG8: =VLOOKUP(AG22,'TLIQ B0741 Full'!$A$3:$AC$948,5,TRUE) -> 41.985394 | AH8: =VLOOKUP(AH22,'TLIQ B0741 Full'!$A$3:$AC$948,6,TRUE) -> 39.846977 | AI8: =VLOOKUP(AI22,'TLIQ B0741 Full'!$A$3:$AC$948,7,TRUE) -> 38.762228 | AJ8: =VLOOKUP(AJ22,'TLIQ B0741 Full'!$A$3:$AC$948,8,TRUE) -> 38.148777 | AK8: =VLOOKUP(AK22,'TLIQ B0741 Full'!$A$3:$AC$948,9,TRUE) -> 36.646739 | AL8: =VLOOKUP(AL22,'TLIQ B0741 Full'!$A$3:$AC$948,10,TRUE) -> 35.268342 | AM8: =VLOOKUP(AM22,'TLIQ B0741 Full'!$A$3:$AC$948,11,TRUE) -> 33.839334 | AN8: =VLOOKUP(AN22,'TLIQ B0741 Full'!$A$3:$AC$948,12,TRUE) -> 32.766984 | AO8: =VLOOKUP(AO22,'TLIQ B0741 Full'!$A$3:$AC$948,13,TRUE) -> 30.84375 | AP8: =VLOOKUP(AP22,'TLIQ B0741 Full'!$A$3:$AC$948,14,TRUE) -> 30.928668 | AQ8: =VLOOKUP(AQ22,'TLIQ B0741 Full'!$A$3:$AC$948,15,TRUE) -> 29.078547 | AR8: =VLOOKUP(AR22,'TLIQ B0741 Full'!$A$3:$AC$948,16,TRUE) -> 28.481982 | AS8: =VLOOKUP(AS22,'TLIQ B0741 Full'!$A$3:$AC$948,17,TRUE) -> 25.770693 | AT8: =VLOOKUP(AT22,'TLIQ B0741 Full'!$A$3:$AC$948,18,TRUE) -> 20.251189 | AU8: =VLOOKUP(AU22,'TLIQ B0741 Full'!$A$3:$AC$948,20,TRUE) -> 16.686492 | AV8: =VLOOKUP(AV22,'TLIQ B0741 Full'!$A$3:$AC$948,21,TRUE) -> 9.4879032 | AW8: =VLOOKUP(AW22,'TLIQ B0741 Full'!$A$3:$AC$948,22,TRUE) -> 0.32942708 | AX8: =VLOOKUP(AX22,'TLIQ B0741 Full'!$A$3:$AC$948,23,TRUE) -> 0.32942708 | AY8: =VLOOKUP(AY22,'TLIQ B0741 Full'!$A$3:$AC$948,24,TRUE) -> 0.32942708 | AZ8: =VLOOKUP(AZ22,'TLIQ B0741 Full'!$A$3:$AC$948,25,TRUE) -> 0.32942708 | BA8: =VLOOKUP(BA22,'TLIQ B0741 Full'!$A$3:$AC$948,26,TRUE) -> 0.32942708 | BB8: =VLOOKUP(BB22,'TLIQ B0741 Full'!$A$3:$AC$948,27,TRUE) -> 0.32942708 | BC8: =VLOOKUP(BC22,'TLIQ B0741 Full'!$A$3:$AC$948,28,TRUE) -> 0.32942708
A9: 60 | B9: 85 | C9: 85 | D9: 56.203125 | E9: 53.59375 | F9: 52.796875 | G9: 51.796875 | H9: 50.796875 | I9: 49.796875 | J9: 48.59375 | K9: 47 | L9: 45.59375 | M9: 44.40625 | N9: 43 | O9: 41.59375 | P9: 40 | Q9: 33.296875 | R9: 27.09375 | S9: 19.5 | T9: 10 | U9: 0 | V9: 0 | W9: 0 | X9: 0 | Y9: 0 | Z9: 0 | AA9: 0 | AC9: 60 | AD9: =VLOOKUP(AD23,'TLIQ B0741 Full'!$A$3:$AC$948,2,TRUE) -> 0 | AE9: =VLOOKUP(AE23,'TLIQ B0741 Full'!$A$3:$AC$948,3,TRUE) -> 9.9476902 | AF9: =VLOOKUP(AF23,'TLIQ B0741 Full'!$A$3:$AC$948,4,TRUE) -> 20.819973 | AG9: =VLOOKUP(AG23,'TLIQ B0741 Full'!$A$3:$AC$948,5,TRUE) -> 50.662364 | AH9: =VLOOKUP(AH23,'TLIQ B0741 Full'!$A$3:$AC$948,6,TRUE) -> 53.26087 | AI9: =VLOOKUP(AI23,'TLIQ B0741 Full'!$A$3:$AC$948,7,TRUE) -> 50.519871 | AJ9: =VLOOKUP(AJ23,'TLIQ B0741 Full'!$A$3:$AC$948,8,TRUE) -> 51.159647 | AK9: =VLOOKUP(AK23,'TLIQ B0741 Full'!$A$3:$AC$948,9,TRUE) -> 51.055707 | AL9: =VLOOKUP(AL23,'TLIQ B0741 Full'!$A$3:$AC$948,10,TRUE) -> 48.190897 | AM9: =VLOOKUP(AM23,'TLIQ B0741 Full'!$A$3:$AC$948,11,TRUE) -> 46.887908 | AN9: =VLOOKUP(AN23,'TLIQ B0741 Full'!$A$3:$AC$948,12,TRUE) -> 44.320312 | AO9: =VLOOKUP(AO23,'TLIQ B0741 Full'!$A$3:$AC$948,13,TRUE) -> 43.08356 | AP9: =VLOOKUP(AP23,'TLIQ B0741 Full'!$A$3:$AC$948,14,TRUE) -> 41.390625 | AQ9: =VLOOKUP(AQ23,'TLIQ B0741 Full'!$A$3:$AC$948,15,TRUE) -> 39.742527 | AR9: =VLOOKUP(AR23,'TLIQ B0741 Full'!$A$3:$AC$948,16,TRUE) -> 39.126359 | AS9: =VLOOKUP(AS23,'TLIQ B0741 Full'!$A$3:$AC$948,17,TRUE) -> 32.236909 | AT9: =VLOOKUP(AT23,'TLIQ B0741 Full'!$A$3:$AC$948,18,TRUE) -> 28.100084 | AU9: =VLOOKUP(AU23,'TLIQ B0741 Full'!$A$3:$AC$948,20,TRUE) -> 19.036685 | AV9: =VLOOKUP(AV23,'TLIQ B0741 Full'!$A$3:$AC$948,21,TRUE) -> 10.655242 | AW9: =VLOOKUP(AW23,'TLIQ B0741 Full'!$A$3:$AC$948,22,TRUE) -> 0.32942708 | AX9: =VLOOKUP(AX23,'TLIQ B0741 Full'!$A$3:$AC$948,23,TRUE) -> 0.32942708 | AY9: =VLOOKUP(AY23,'TLIQ B0741 Full'!$A$3:$AC$948,24,TRUE) -> 0.32942708 | AZ9: =VLOOKUP(AZ23,'TLIQ B0741 Full'!$A$3:$AC$948,25,TRUE) -> 0.32942708 | BA9: =VLOOKUP(BA23,'TLIQ B0741 Full'!$A$3:$AC$948,26,TRUE) -> 0.32942708 | BB9: =VLOOKUP(BB23,'TLIQ B0741 Full'!$A$3:$AC$948,27,TRUE) -> 0.32942708 | BC9: =VLOOKUP(BC23,'TLIQ B0741 Full'!$A$3:$AC$948,28,TRUE) -> 0.32942708
A10: 70 | B10: 85 | C10: 85 | D10: 60 | E10: 60 | F10: 60 | G10: 60 | H10: 60 | I10: 60 | J10: 59.59375 | K10: 58.203125 | L10: 57.203125 | M10: 56 | N10: 54.796875 | O10: 53.796875 | P10: 52.203125 | Q10: 49.40625 | R10: 40.203125 | S10: 27.09375 | T10: 12 | U10: 0 | V10: 0 | W10: 0 | X10: 0 | Y10: 0 | Z10: 0 | AA10: 0 | AC10: 70 | AD10: =VLOOKUP(AD24,'TLIQ B0741 Full'!$A$3:$AC$948,2,TRUE) -> 0 | AE10: =VLOOKUP(AE24,'TLIQ B0741 Full'!$A$3:$AC$948,3,TRUE) -> 9.9476902 | AF10: =VLOOKUP(AF24,'TLIQ B0741 Full'!$A$3:$AC$948,4,TRUE) -> 21.871603 | AG10: =VLOOKUP(AG24,'TLIQ B0741 Full'!$A$3:$AC$948,5,TRUE) -> 58.336957 | AH10: =VLOOKUP(AH24,'TLIQ B0741 Full'!$A$3:$AC$948,6,TRUE) -> 59.05231 | AI10: =VLOOKUP(AI24,'TLIQ B0741 Full'!$A$3:$AC$948,7,TRUE) -> 58.103091 | AJ10: =VLOOKUP(AJ24,'TLIQ B0741 Full'!$A$3:$AC$948,8,TRUE) -> 57.774796 | AK10: =VLOOKUP(AK24,'TLIQ B0741 Full'!$A$3:$AC$948,9,TRUE) -> 57.892833 | AL10: =VLOOKUP(AL24,'TLIQ B0741 Full'!$A$3:$AC$948,10,TRUE) -> 59.221128 | AM10: =VLOOKUP(AM24,'TLIQ B0741 Full'!$A$3:$AC$948,11,TRUE) -> 57.710938 | AN10: =VLOOKUP(AN24,'TLIQ B0741 Full'!$A$3:$AC$948,12,TRUE) -> 55.858696 | AO10: =VLOOKUP(AO24,'TLIQ B0741 Full'!$A$3:$AC$948,13,TRUE) -> 55.379076 | AP10: =VLOOKUP(AP24,'TLIQ B0741 Full'!$A$3:$AC$948,14,TRUE) -> 52.848505 | AQ10: =VLOOKUP(AQ24,'TLIQ B0741 Full'!$A$3:$AC$948,15,TRUE) -> 50.615489 | AR10: =VLOOKUP(AR24,'TLIQ B0741 Full'!$A$3:$AC$948,16,TRUE) -> 49.836957 | AS10: =VLOOKUP(AS24,'TLIQ B0741 Full'!$A$3:$AC$948,17,TRUE) -> 47.740149 | AT10: =VLOOKUP(AT24,'TLIQ B0741 Full'!$A$3:$AC$948,18,TRUE) -> 39.716712 | AU10: =VLOOKUP(AU24,'TLIQ B0741 Full'!$A$3:$AC$948,20,TRUE) -> 28.167652 | AV10: =VLOOKUP(AV24,'TLIQ B0741 Full'!$A$3:$AC$948,21,TRUE) -> 12.600806 | AW10: =VLOOKUP(AW24,'TLIQ B0741 Full'!$A$3:$AC$948,22,TRUE) -> 0.32942708 | AX10: =VLOOKUP(AX24,'TLIQ B0741 Full'!$A$3:$AC$948,23,TRUE) -> 0.32942708 | AY10: =VLOOKUP(AY24,'TLIQ B0741 Full'!$A$3:$AC$948,24,TRUE) -> 0.32942708 | AZ10: =VLOOKUP(AZ24,'TLIQ B0741 Full'!$A$3:$AC$948,25,TRUE) -> 0.32942708 | BA10: =VLOOKUP(BA24,'TLIQ B0741 Full'!$A$3:$AC$948,26,TRUE) -> 0.32942708 | BB10: =VLOOKUP(BB24,'TLIQ B0741 Full'!$A$3:$AC$948,27,TRUE) -> 0.32942708 | BC10: =VLOOKUP(BC24,'TLIQ B0741 Full'!$A$3:$AC$948,28,TRUE) -> 0.32942708
A11: 80 | B11: 85 | C11: 85 | D11: 60 | E11: 60 | F11: 60 | G11: 60 | H11: 72 | I11: 71.5 | J11: 70.796875 | K11: 70 | L11: 68.90625 | M11: 67.09375 | N11: 65.703125 | O11: 64.296875 | P11: 62.90625 | Q11: 60.703125 | R11: 54.703125 | S11: 42.40625 | T11: 16 | U11: 0 | V11: 0 | W11: 0 | X11: 0 | Y11: 0 | Z11: 0 | AA11: 0 | AC11: 80 | AD11: =VLOOKUP(AD25,'TLIQ B0741 Full'!$A$3:$AC$948,2,TRUE) -> 0 | AE11: =VLOOKUP(AE25,'TLIQ B0741 Full'!$A$3:$AC$948,3,TRUE) -> 9.9476902 | AF11: =VLOOKUP(AF25,'TLIQ B0741 Full'!$A$3:$AC$948,4,TRUE) -> 21.871603 | AG11: =VLOOKUP(AG25,'TLIQ B0741 Full'!$A$3:$AC$948,5,TRUE) -> 58.336957 | AH11: =VLOOKUP(AH25,'TLIQ B0741 Full'!$A$3:$AC$948,6,TRUE) -> 59.05231 | AI11: =VLOOKUP(AI25,'TLIQ B0741 Full'!$A$3:$AC$948,7,TRUE) -> 58.103091 | AJ11: =VLOOKUP(AJ25,'TLIQ B0741 Full'!$A$3:$AC$948,8,TRUE) -> 69.972486 | AK11: =VLOOKUP(AK25,'TLIQ B0741 Full'!$A$3:$AC$948,9,TRUE) -> 70.608696 | AL11: =VLOOKUP(AL25,'TLIQ B0741 Full'!$A$3:$AC$948,10,TRUE) -> 68.731658 | AM11: =VLOOKUP(AM25,'TLIQ B0741 Full'!$A$3:$AC$948,11,TRUE) -> 69.086358 | AN11: =VLOOKUP(AN25,'TLIQ B0741 Full'!$A$3:$AC$948,12,TRUE) -> 68.319556 | AO11: =VLOOKUP(AO25,'TLIQ B0741 Full'!$A$3:$AC$948,13,TRUE) -> 66.810971 | AP11: =VLOOKUP(AP25,'TLIQ B0741 Full'!$A$3:$AC$948,14,TRUE) -> 64.394361 | AQ11: =VLOOKUP(AQ25,'TLIQ B0741 Full'!$A$3:$AC$948,15,TRUE) -> 63.0625 | AR11: =VLOOKUP(AR25,'TLIQ B0741 Full'!$A$3:$AC$948,16,TRUE) -> 60.621773 | AS11: =VLOOKUP(AS25,'TLIQ B0741 Full'!$A$3:$AC$948,17,TRUE) -> 57.970109 | AT11: =VLOOKUP(AT25,'TLIQ B0741 Full'!$A$3:$AC$948,18,TRUE) -> 52.2348 | AU11: =VLOOKUP(AU25,'TLIQ B0741 Full'!$A$3:$AC$948,20,TRUE) -> 41.471467 | AV11: =VLOOKUP(AV25,'TLIQ B0741 Full'!$A$3:$AC$948,21,TRUE) -> 16.686492 | AW11: =VLOOKUP(AW25,'TLIQ B0741 Full'!$A$3:$AC$948,22,TRUE) -> 0.32942708 | AX11: =VLOOKUP(AX25,'TLIQ B0741 Full'!$A$3:$AC$948,23,TRUE) -> 0.32942708 | AY11: =VLOOKUP(AY25,'TLIQ B0741 Full'!$A$3:$AC$948,24,TRUE) -> 0.32942708 | AZ11: =VLOOKUP(AZ25,'TLIQ B0741 Full'!$A$3:$AC$948,25,TRUE) -> 0.32942708 | BA11: =VLOOKUP(BA25,'TLIQ B0741 Full'!$A$3:$AC$948,26,TRUE) -> 0.32942708 | BB11: =VLOOKUP(BB25,'TLIQ B0741 Full'!$A$3:$AC$948,27,TRUE) -> 0.32942708 | BC11: =VLOOKUP(BC25,'TLIQ B0741 Full'!$A$3:$AC$948,28,TRUE) -> 0.32942708
A12: 90 | B12: 85 | C12: 85 | D12: 60 | E12: 60 | F12: 60 | G12: 60 | H12: 74 | I12: 82 | J12: 80 | K12: 80 | L12: 78.5 | M12: 79 | N12: 76.296875 | O12: 74.90625 | P12: 73.703125 | Q12: 72.296875 | R12: 68.90625 | S12: 60.59375 | T12: 20 | U12: 0 | V12: 0 | W12: 0 | X12: 0 | Y12: 0 | Z12: 0 | AA12: 0 | AC12: 90 | AD12: =VLOOKUP(AD26,'TLIQ B0741 Full'!$A$3:$AC$948,2,TRUE) -> 0 | AE12: =VLOOKUP(AE26,'TLIQ B0741 Full'!$A$3:$AC$948,3,TRUE) -> 9.9476902 | AF12: =VLOOKUP(AF26,'TLIQ B0741 Full'!$A$3:$AC$948,4,TRUE) -> 21.871603 | AG12: =VLOOKUP(AG26,'TLIQ B0741 Full'!$A$3:$AC$948,5,TRUE) -> 58.336957 | AH12: =VLOOKUP(AH26,'TLIQ B0741 Full'!$A$3:$AC$948,6,TRUE) -> 59.05231 | AI12: =VLOOKUP(AI26,'TLIQ B0741 Full'!$A$3:$AC$948,7,TRUE) -> 58.103091 | AJ12: =VLOOKUP(AJ26,'TLIQ B0741 Full'!$A$3:$AC$948,8,TRUE) -> 72.005435 | AK12: =VLOOKUP(AK26,'TLIQ B0741 Full'!$A$3:$AC$948,9,TRUE) -> 80.311156 | AL12: =VLOOKUP(AL26,'TLIQ B0741 Full'!$A$3:$AC$948,10,TRUE) -> 79.554099 | AM12: =VLOOKUP(AM26,'TLIQ B0741 Full'!$A$3:$AC$948,11,TRUE) -> 80.156586 | AN12: =VLOOKUP(AN26,'TLIQ B0741 Full'!$A$3:$AC$948,12,TRUE) -> 79.388105 | AO12: =VLOOKUP(AO26,'TLIQ B0741 Full'!$A$3:$AC$948,13,TRUE) -> 79.148017 | AP12: =VLOOKUP(AP26,'TLIQ B0741 Full'!$A$3:$AC$948,14,TRUE) -> 75.811996 | AQ12: =VLOOKUP(AQ26,'TLIQ B0741 Full'!$A$3:$AC$948,15,TRUE) -> 73.715726 | AR12: =VLOOKUP(AR26,'TLIQ B0741 Full'!$A$3:$AC$948,16,TRUE) -> 72.053668 | AS12: =VLOOKUP(AS26,'TLIQ B0741 Full'!$A$3:$AC$948,17,TRUE) -> 70.709239 | AT12: =VLOOKUP(AT26,'TLIQ B0741 Full'!$A$3:$AC$948,18,TRUE) -> 67.330673 | AU12: =VLOOKUP(AU26,'TLIQ B0741 Full'!$A$3:$AC$948,20,TRUE) -> 57.817595 | AV12: =VLOOKUP(AV26,'TLIQ B0741 Full'!$A$3:$AC$948,21,TRUE) -> 19.036685 | AW12: =VLOOKUP(AW26,'TLIQ B0741 Full'!$A$3:$AC$948,22,TRUE) -> 0.32942708 | AX12: =VLOOKUP(AX26,'TLIQ B0741 Full'!$A$3:$AC$948,23,TRUE) -> 0.32942708 | AY12: =VLOOKUP(AY26,'TLIQ B0741 Full'!$A$3:$AC$948,24,TRUE) -> 0.32942708 | AZ12: =VLOOKUP(AZ26,'TLIQ B0741 Full'!$A$3:$AC$948,25,TRUE) -> 0.32942708 | BA12: =VLOOKUP(BA26,'TLIQ B0741 Full'!$A$3:$AC$948,26,TRUE) -> 0.32942708 | BB12: =VLOOKUP(BB26,'TLIQ B0741 Full'!$A$3:$AC$948,27,TRUE) -> 0.32942708 | BC12: =VLOOKUP(BC26,'TLIQ B0741 Full'!$A$3:$AC$948,28,TRUE) -> 0.32942708
A13: 100 | B13: 85 | C13: 85 | D13: 60 | E13: 60 | F13: 60 | G13: 60 | H13: 74 | I13: 82 | J13: 80 | K13: 80 | L13: 78.5 | M13: 79 | N13: 80 | O13: 83 | P13: 89 | Q13: 90 | R13: 85 | S13: 81 | T13: 20 | U13: 0 | V13: 0 | W13: 0 | X13: 0 | Y13: 0 | Z13: 0 | AA13: 0 | AC13: 100 | AD13: =VLOOKUP(AD27,'TLIQ B0741 Full'!$A$3:$AC$948,2,TRUE) -> 0 | AE13: =VLOOKUP(AE27,'TLIQ B0741 Full'!$A$3:$AC$948,3,TRUE) -> 9.9476902 | AF13: =VLOOKUP(AF27,'TLIQ B0741 Full'!$A$3:$AC$948,4,TRUE) -> 21.871603 | AG13: =VLOOKUP(AG27,'TLIQ B0741 Full'!$A$3:$AC$948,5,TRUE) -> 58.336957 | AH13: =VLOOKUP(AH27,'TLIQ B0741 Full'!$A$3:$AC$948,6,TRUE) -> 59.05231 | AI13: =VLOOKUP(AI27,'TLIQ B0741 Full'!$A$3:$AC$948,7,TRUE) -> 58.103091 | AJ13: =VLOOKUP(AJ27,'TLIQ B0741 Full'!$A$3:$AC$948,8,TRUE) -> 72.005435 | AK13: =VLOOKUP(AK27,'TLIQ B0741 Full'!$A$3:$AC$948,9,TRUE) -> 80.311156 | AL13: =VLOOKUP(AL27,'TLIQ B0741 Full'!$A$3:$AC$948,10,TRUE) -> 79.554099 | AM13: =VLOOKUP(AM27,'TLIQ B0741 Full'!$A$3:$AC$948,11,TRUE) -> 80.156586 | AN13: =VLOOKUP(AN27,'TLIQ B0741 Full'!$A$3:$AC$948,12,TRUE) -> 79.388105 | AO13: =VLOOKUP(AO27,'TLIQ B0741 Full'!$A$3:$AC$948,13,TRUE) -> 79.148017 | AP13: =VLOOKUP(AP27,'TLIQ B0741 Full'!$A$3:$AC$948,14,TRUE) -> 79.21119 | AQ13: =VLOOKUP(AQ27,'TLIQ B0741 Full'!$A$3:$AC$948,15,TRUE) -> 82.982863 | AR13: =VLOOKUP(AR27,'TLIQ B0741 Full'!$A$3:$AC$948,16,TRUE) -> 89.226983 | AS13: =VLOOKUP(AS27,'TLIQ B0741 Full'!$A$3:$AC$948,17,TRUE) -> 89.47295 | AT13: =VLOOKUP(AT27,'TLIQ B0741 Full'!$A$3:$AC$948,18,TRUE) -> 85.037298 | AU13: =VLOOKUP(AU27,'TLIQ B0741 Full'!$A$3:$AC$948,20,TRUE) -> 80.19786 | AV13: =VLOOKUP(AV27,'TLIQ B0741 Full'!$A$3:$AC$948,21,TRUE) -> 19.036685 | AW13: =VLOOKUP(AW27,'TLIQ B0741 Full'!$A$3:$AC$948,22,TRUE) -> 0.32942708 | AX13: =VLOOKUP(AX27,'TLIQ B0741 Full'!$A$3:$AC$948,23,TRUE) -> 0.32942708 | AY13: =VLOOKUP(AY27,'TLIQ B0741 Full'!$A$3:$AC$948,24,TRUE) -> 0.32942708 | AZ13: =VLOOKUP(AZ27,'TLIQ B0741 Full'!$A$3:$AC$948,25,TRUE) -> 0.32942708 | BA13: =VLOOKUP(BA27,'TLIQ B0741 Full'!$A$3:$AC$948,26,TRUE) -> 0.32942708 | BB13: =VLOOKUP(BB27,'TLIQ B0741 Full'!$A$3:$AC$948,27,TRUE) -> 0.32942708 | BC13: =VLOOKUP(BC27,'TLIQ B0741 Full'!$A$3:$AC$948,28,TRUE) -> 0.32942708
B14: copy and past your TBIQ into here [B0727] | AK14: ^FORMULAS - Don’t mess with^
B15: RPM | AC15: BT | AD15: RPM
A16: TPS | B16: 0 | C16: 200 | D16: 400 | E16: 600 | F16: 800 | G16: 1000 | H16: 1200 | I16: 1400 | J16: 1600 | K16: 1800 | L16: 2000 | M16: 2200 | N16: 2400 | O16: 2600 | P16: 2800 | Q16: 3000 | R16: 3100 | S16: 3250 | T16: 3400 | U16: 3600 | V16: 3800 | W16: 4000 | X16: 4200 | Y16: 4400 | Z16: 4600 | AA16: 4800 | AC16: MM3 | AD16: 0 | AE16: 200 | AF16: 400 | AG16: 600 | AH16: 800 | AI16: 1000 | AJ16: 1200 | AK16: 1400 | AL16: 1600 | AM16: 1800 | AN16: 2000 | AO16: 2200 | AP16: 2400 | AQ16: 2600 | AR16: 2800 | AS16: 3000 | AT16: 3100 | AU16: 3250 | AV16: 3400 | AW16: 3600 | AX16: 3800 | AY16: 4000 | AZ16: 4200 | BA16: 4400 | BB16: 4600 | BC16: 4800
A17: 0 | B17: =AD3-B3 -> 0 | C17: =AE3-C3 -> 1.0078125 | D17: =AF3-D3 -> 1.5705645 | E17: =AG3-E3 -> 1.9650538 | F17: =AH3-F3 -> 2.2163978 | G17: =AI3-G3 -> 2.6169355 | H17: =AJ3-H3 -> 2.7083333 | I17: =AK3-I3 -> 2.7217742 | ... AA17: =BC3-AA3 -> 0.32942708 | AC17: 0 | AD17: =VLOOKUP(B3,'Base Torque B1102 Full'!$A$3:$AC$103,2,TRUE) -> 0 | AE17: =VLOOKUP(C3,'Base Torque B1102 Full'!$A$3:$AC$103,3,TRUE) -> -14.023064 | AF17: =VLOOKUP(D3,'Base Torque B1102 Full'!$A$3:$AC$103,4,TRUE) -> -28.784184 | AG17: =VLOOKUP(E3,'Base Torque B1102 Full'!$A$3:$AC$103,5,TRUE) -> -42.807248 | AH17: =VLOOKUP(F3,'Base Torque B1102 Full'!$A$3:$AC$103,6,TRUE) -> -42.807248 | AI17: =VLOOKUP(G3,'Base Torque B1102 Full'!$A$3:$AC$103,7,TRUE) -> -44.28336 | AJ17: =VLOOKUP(H3,'Base Torque B1102 Full'!$A$3:$AC$103,8,TRUE) -> -45.759472 | AK17: =VLOOKUP(I3,'Base Torque B1102 Full'!$A$3:$AC$103,9,TRUE) -> -50.187808 | AL17: =VLOOKUP(J3,'Base Torque B1102 Full'!$A$3:$AC$103,10,TRUE) -> -55.3542 | AM17: =VLOOKUP(K3,'Base Torque B1102 Full'!$A$3:$AC$103,11,TRUE) -> -59.04448 | AN17: =VLOOKUP(L3,'Base Torque B1102 Full'!$A$3:$AC$103,12,TRUE) -> -63.472816 | AO17: =VLOOKUP(M3,'Base Torque B1102 Full'!$A$3:$AC$103,13,TRUE) -> -70.11532 | AP17: =VLOOKUP(N3,'Base Torque B1102 Full'!$A$3:$AC$103,14,TRUE) -> -76.757824 | AQ17: =VLOOKUP(O3,'Base Torque B1102 Full'!$A$3:$AC$103,15,TRUE) -> -83.400328 | AR17: =VLOOKUP(P3,'Base Torque B1102 Full'!$A$3:$AC$103,16,TRUE) -> -95.209224 | AS17: =VLOOKUP(Q3,'Base Torque B1102 Full'!$A$3:$AC$103,17,TRUE) -> -107.01812 | AT17: =VLOOKUP(R3,'Base Torque B1102 Full'!$A$3:$AC$103,18,TRUE) -> -110.7084 | AU17: =VLOOKUP(S3,'Base Torque B1102 Full'!$A$3:$AC$103,20,TRUE) -> -114.39868 | AV17: =VLOOKUP(T3,'Base Torque B1102 Full'!$A$3:$AC$103,21,TRUE) -> -114.39868 | AW17: =VLOOKUP(U3,'Base Torque B1102 Full'!$A$3:$AC$103,22,TRUE) -> -114.39868 | AX17: =VLOOKUP(V3,'Base Torque B1102 Full'!$A$3:$AC$103,23,TRUE) -> -114.39868 | AY17: =VLOOKUP(W3,'Base Torque B1102 Full'!$A$3:$AC$103,24,TRUE) -> -114.39868 | AZ17: =VLOOKUP(X3,'Base Torque B1102 Full'!$A$3:$AC$103,25,TRUE) -> -114.39868 | BA17: =VLOOKUP(Y3,'Base Torque B1102 Full'!$A$3:$AC$103,26,TRUE) -> -114.39868 | BB17: =VLOOKUP(Z3,'Base Torque B1102 Full'!$A$3:$AC$103,27,TRUE) -> -114.39868 | BC17: =VLOOKUP(AA3,'Base Torque B1102 Full'!$A$3:$AC$103,28,TRUE) -> -114.39868
A18: 10 | B18: =AD4-B4 -> -19.703125 | C18: =AE4-C4 -> -12.53125 | D18: =AF4-D4 -> -4.96875 | E18: =AG4-E4 -> 0.85546875 | F18: =AH4-F4 -> 1.446841 | G18: =AI4-G4 -> 0.84884511 | H18: =AJ4-H4 -> 0.67119565 | I18: =AK4-I4 -> -0.097146739 | ... AA18: =BC4-AA4 -> 0.32942708 | AC18: 10 | AD18: =VLOOKUP(B4,'Base Torque B1102 Full'!$A$3:$AC$103,2,TRUE) -> 0 | AE18: =VLOOKUP(C4,'Base Torque B1102 Full'!$A$3:$AC$103,3,TRUE) -> 30.096284 | AF18: =VLOOKUP(D4,'Base Torque B1102 Full'!$A$3:$AC$103,4,TRUE) -> 39.198974 | AG18: =VLOOKUP(E4,'Base Torque B1102 Full'!$A$3:$AC$103,5,TRUE) -> 51.66392 | AH18: =VLOOKUP(F4,'Base Torque B1102 Full'!$A$3:$AC$103,6,TRUE) -> 39.855024 | AI18: =VLOOKUP(G4,'Base Torque B1102 Full'!$A$3:$AC$103,7,TRUE) -> 19.353468 | AJ18: =VLOOKUP(H4,'Base Torque B1102 Full'!$A$3:$AC$103,8,TRUE) -> 10.496796 | AK18: =VLOOKUP(I4,'Base Torque B1102 Full'!$A$3:$AC$103,9,TRUE) -> -7.1345413 | AL18: =VLOOKUP(J4,'Base Torque B1102 Full'!$A$3:$AC$103,10,TRUE) -> -24.355848 | AM18: =VLOOKUP(K4,'Base Torque B1102 Full'!$A$3:$AC$103,11,TRUE) -> -41.823173 | AN18: =VLOOKUP(L4,'Base Torque B1102 Full'!$A$3:$AC$103,12,TRUE) -> -63.472816 | AO18: =VLOOKUP(M4,'Base Torque B1102 Full'!$A$3:$AC$103,13,TRUE) -> -70.11532 | AP18: =VLOOKUP(N4,'Base Torque B1102 Full'!$A$3:$AC$103,14,TRUE) -> -76.757824 | AQ18: =VLOOKUP(O4,'Base Torque B1102 Full'!$A$3:$AC$103,15,TRUE) -> -83.400328 | AR18: =VLOOKUP(P4,'Base Torque B1102 Full'!$A$3:$AC$103,16,TRUE) -> -95.209224 | AS18: =VLOOKUP(Q4,'Base Torque B1102 Full'!$A$3:$AC$103,17,TRUE) -> -107.01812 | AT18: =VLOOKUP(R4,'Base Torque B1102 Full'!$A$3:$AC$103,18,TRUE) -> -110.7084 | AU18: =VLOOKUP(S4,'Base Torque B1102 Full'!$A$3:$AC$103,20,TRUE) -> -114.39868 | AV18: =VLOOKUP(T4,'Base Torque B1102 Full'!$A$3:$AC$103,21,TRUE) -> -114.39868 | AW18: =VLOOKUP(U4,'Base Torque B1102 Full'!$A$3:$AC$103,22,TRUE) -> -114.39868 | AX18: =VLOOKUP(V4,'Base Torque B1102 Full'!$A$3:$AC$103,23,TRUE) -> -114.39868 | AY18: =VLOOKUP(W4,'Base Torque B1102 Full'!$A$3:$AC$103,24,TRUE) -> -114.39868 | AZ18: =VLOOKUP(X4,'Base Torque B1102 Full'!$A$3:$AC$103,25,TRUE) -> -114.39868 | BA18: =VLOOKUP(Y4,'Base Torque B1102 Full'!$A$3:$AC$103,26,TRUE) -> -114.39868 | BB18: =VLOOKUP(Z4,'Base Torque B1102 Full'!$A$3:$AC$103,27,TRUE) -> -114.39868 | BC18: =VLOOKUP(AA4,'Base Torque B1102 Full'!$A$3:$AC$103,28,TRUE) -> -114.39868
A19: 20 | B19: =AD5-B5 -> -29 | C19: =AE5-C5 -> -18.851562 | D19: =AF5-D5 -> -9.7576014 | E19: =AG5-E5 -> -0.17004505 | F19: =AH5-F5 -> 0.22663288 | G19: =AI5-G5 -> 0.11956522 | H19: =AJ5-H5 -> 0.29076087 | I19: =AK5-I5 -> 0.12296196 | ... AA19: =BC5-AA5 -> 0.32942708 | AC19: 20 | AD19: =VLOOKUP(B5,'Base Torque B1102 Full'!$A$3:$AC$103,2,TRUE) -> 0 | AE19: =VLOOKUP(C5,'Base Torque B1102 Full'!$A$3:$AC$103,3,TRUE) -> 45.677466 | AF19: =VLOOKUP(D5,'Base Torque B1102 Full'!$A$3:$AC$103,4,TRUE) -> 81.18616 | AG19: =VLOOKUP(E5,'Base Torque B1102 Full'!$A$3:$AC$103,5,TRUE) -> 106.19806 | AH19: =VLOOKUP(F5,'Base Torque B1102 Full'!$A$3:$AC$103,6,TRUE) -> 85.614496 | AI19: =VLOOKUP(G5,'Base Torque B1102 Full'!$A$3:$AC$103,7,TRUE) -> 56.502287 | AJ19: =VLOOKUP(H5,'Base Torque B1102 Full'!$A$3:$AC$103,8,TRUE) -> 50.433827 | AK19: =VLOOKUP(I5,'Base Torque B1102 Full'!$A$3:$AC$103,9,TRUE) -> 34.278601 | AL19: =VLOOKUP(J5,'Base Torque B1102 Full'!$A$3:$AC$103,10,TRUE) -> 37.640856 | AM19: =VLOOKUP(K5,'Base Torque B1102 Full'!$A$3:$AC$103,11,TRUE) -> 18.4514 | AN19: =VLOOKUP(L5,'Base Torque B1102 Full'!$A$3:$AC$103,12,TRUE) -> -7.7085849 | AO19: =VLOOKUP(M5,'Base Torque B1102 Full'!$A$3:$AC$103,13,TRUE) -> -25.339923 | AP19: =VLOOKUP(N5,'Base Torque B1102 Full'!$A$3:$AC$103,14,TRUE) -> -45.59546 | AQ19: =VLOOKUP(O5,'Base Torque B1102 Full'!$A$3:$AC$103,15,TRUE) -> -63.226797 | AR19: =VLOOKUP(P5,'Base Torque B1102 Full'!$A$3:$AC$103,16,TRUE) -> -95.209224 | AS19: =VLOOKUP(Q5,'Base Torque B1102 Full'!$A$3:$AC$103,17,TRUE) -> -107.01812 | AT19: =VLOOKUP(R5,'Base Torque B1102 Full'!$A$3:$AC$103,18,TRUE) -> -110.7084 | AU19: =VLOOKUP(S5,'Base Torque B1102 Full'!$A$3:$AC$103,20,TRUE) -> -114.39868 | AV19: =VLOOKUP(T5,'Base Torque B1102 Full'!$A$3:$AC$103,21,TRUE) -> -114.39868 | AW19: =VLOOKUP(U5,'Base Torque B1102 Full'!$A$3:$AC$103,22,TRUE) -> -114.39868 | AX19: =VLOOKUP(V5,'Base Torque B1102 Full'!$A$3:$AC$103,23,TRUE) -> -114.39868 | AY19: =VLOOKUP(W5,'Base Torque B1102 Full'!$A$3:$AC$103,24,TRUE) -> -114.39868 | AZ19: =VLOOKUP(X5,'Base Torque B1102 Full'!$A$3:$AC$103,25,TRUE) -> -114.39868 | BA19: =VLOOKUP(Y5,'Base Torque B1102 Full'!$A$3:$AC$103,26,TRUE) -> -114.39868 | BB19: =VLOOKUP(Z5,'Base Torque B1102 Full'!$A$3:$AC$103,27,TRUE) -> -114.39868 | BC19: =VLOOKUP(AA5,'Base Torque B1102 Full'!$A$3:$AC$103,28,TRUE) -> -114.39868
A20: 30 | B20: =AD6-B6 -> -40 | C20: =AE6-C6 -> -28.34375 | D20: =AF6-D6 -> -14.71875 | E20: =AG6-E6 -> -1.2021396 | F20: =AH6-F6 -> -1.6154279 | G20: =AI6-G6 -> -0.87654842 | H20: =AJ6-H6 -> 0.11359797 | I20: =AK6-I6 -> 0.10810811 | ... AA20: =BC6-AA6 -> 0.32942708 | AC20: 30 | AD20: =VLOOKUP(B6,'Base Torque B1102 Full'!$A$3:$AC$103,2,TRUE) -> 0 | AE20: =VLOOKUP(C6,'Base Torque B1102 Full'!$A$3:$AC$103,3,TRUE) -> 68.065164 | AF20: =VLOOKUP(D6,'Base Torque B1102 Full'!$A$3:$AC$103,4,TRUE) -> 111.20044 | AG20: =VLOOKUP(E6,'Base Torque B1102 Full'!$A$3:$AC$103,5,TRUE) -> 151.95753 | AH20: =VLOOKUP(F6,'Base Torque B1102 Full'!$A$3:$AC$103,6,TRUE) -> 127.35566 | AI20: =VLOOKUP(G6,'Base Torque B1102 Full'!$A$3:$AC$103,7,TRUE) -> 102.67179 | AJ20: =VLOOKUP(H6,'Base Torque B1102 Full'!$A$3:$AC$103,8,TRUE) -> 98.161448 | AK20: =VLOOKUP(I6,'Base Torque B1102 Full'!$A$3:$AC$103,9,TRUE) -> 83.072303 | AL20: =VLOOKUP(J6,'Base Torque B1102 Full'!$A$3:$AC$103,10,TRUE) -> 70.361339 | AM20: =VLOOKUP(K6,'Base Torque B1102 Full'!$A$3:$AC$103,11,TRUE) -> 54.370125 | AN20: =VLOOKUP(L6,'Base Torque B1102 Full'!$A$3:$AC$103,12,TRUE) -> 36.164744 | AO20: =VLOOKUP(M6,'Base Torque B1102 Full'!$A$3:$AC$103,13,TRUE) -> 14.679114 | AP20: =VLOOKUP(N6,'Base Torque B1102 Full'!$A$3:$AC$103,14,TRUE) -> 1.476112 | AQ20: =VLOOKUP(O6,'Base Torque B1102 Full'!$A$3:$AC$103,15,TRUE) -> -16.237232 | AR20: =VLOOKUP(P6,'Base Torque B1102 Full'!$A$3:$AC$103,16,TRUE) -> -38.378912 | AS20: =VLOOKUP(Q6,'Base Torque B1102 Full'!$A$3:$AC$103,17,TRUE) -> -50.925864 | AT20: =VLOOKUP(R6,'Base Torque B1102 Full'!$A$3:$AC$103,18,TRUE) -> -66.794068 | AU20: =VLOOKUP(S6,'Base Torque B1102 Full'!$A$3:$AC$103,20,TRUE) -> -89.140764 | AV20: =VLOOKUP(T6,'Base Torque B1102 Full'!$A$3:$AC$103,21,TRUE) -> -101.76972 | AW20: =VLOOKUP(U6,'Base Torque B1102 Full'!$A$3:$AC$103,22,TRUE) -> -114.39868 | AX20: =VLOOKUP(V6,'Base Torque B1102 Full'!$A$3:$AC$103,23,TRUE) -> -114.39868 | AY20: =VLOOKUP(W6,'Base Torque B1102 Full'!$A$3:$AC$103,24,TRUE) -> -114.39868 | AZ20: =VLOOKUP(X6,'Base Torque B1102 Full'!$A$3:$AC$103,25,TRUE) -> -114.39868 | BA20: =VLOOKUP(Y6,'Base Torque B1102 Full'!$A$3:$AC$103,26,TRUE) -> -114.39868 | BB20: =VLOOKUP(Z6,'Base Torque B1102 Full'!$A$3:$AC$103,27,TRUE) -> -114.39868 | BC20: =VLOOKUP(AA6,'Base Torque B1102 Full'!$A$3:$AC$103,28,TRUE) -> -114.39868
A21: 40 | B21: =AD7-B7 -> -56.90625 | C21: =AE7-C7 -> -40.780828 | D21: =AF7-D7 -> -20.621622 | E21: =AG7-E7 -> -2.423913 | F21: =AH7-F7 -> -2.1120924 | G21: =AI7-G7 -> -1.5315315 | H21: =AJ7-H7 -> -1.0837556 | I21: =AK7-I7 -> -0.79560811 | ... AA21: =BC7-AA7 -> 0.32942708 | AC21: 40 | AD21: =VLOOKUP(B7,'Base Torque B1102 Full'!$A$3:$AC$103,2,TRUE) -> 0 | AE21: =VLOOKUP(C7,'Base Torque B1102 Full'!$A$3:$AC$103,3,TRUE) -> 92.010981 | AF21: =VLOOKUP(D7,'Base Torque B1102 Full'!$A$3:$AC$103,4,TRUE) -> 149.98938 | AG21: =VLOOKUP(E7,'Base Torque B1102 Full'!$A$3:$AC$103,5,TRUE) -> 203.78546 | AH21: =VLOOKUP(F7,'Base Torque B1102 Full'!$A$3:$AC$103,6,TRUE) -> 193.37067 | AI21: =VLOOKUP(G7,'Base Torque B1102 Full'!$A$3:$AC$103,7,TRUE) -> 180.08566 | AJ21: =VLOOKUP(H7,'Base Torque B1102 Full'!$A$3:$AC$103,8,TRUE) -> 153.92568 | AK21: =VLOOKUP(I7,'Base Torque B1102 Full'!$A$3:$AC$103,9,TRUE) -> 139.41058 | AL21: =VLOOKUP(J7,'Base Torque B1102 Full'!$A$3:$AC$103,10,TRUE) -> 122.76331 | AM21: =VLOOKUP(K7,'Base Torque B1102 Full'!$A$3:$AC$103,11,TRUE) -> 113.98865 | AN21: =VLOOKUP(L7,'Base Torque B1102 Full'!$A$3:$AC$103,12,TRUE) -> 89.960826 | AO21: =VLOOKUP(M7,'Base Torque B1102 Full'!$A$3:$AC$103,13,TRUE) -> 61.750685 | AP21: =VLOOKUP(N7,'Base Torque B1102 Full'!$A$3:$AC$103,14,TRUE) -> 45.759472 | AQ21: =VLOOKUP(O7,'Base Torque B1102 Full'!$A$3:$AC$103,15,TRUE) -> 36.9028 | AR21: =VLOOKUP(P7,'Base Torque B1102 Full'!$A$3:$AC$103,16,TRUE) -> 18.697419 | AS21: =VLOOKUP(Q7,'Base Torque B1102 Full'!$A$3:$AC$103,17,TRUE) -> -13.531027 | AT21: =VLOOKUP(R7,'Base Torque B1102 Full'!$A$3:$AC$103,18,TRUE) -> -37.025809 | AU21: =VLOOKUP(S7,'Base Torque B1102 Full'!$A$3:$AC$103,20,TRUE) -> -57.568368 | AV21: =VLOOKUP(T7,'Base Torque B1102 Full'!$A$3:$AC$103,21,TRUE) -> -89.140764 | AW21: =VLOOKUP(U7,'Base Torque B1102 Full'!$A$3:$AC$103,22,TRUE) -> -114.39868 | AX21: =VLOOKUP(V7,'Base Torque B1102 Full'!$A$3:$AC$103,23,TRUE) -> -114.39868 | AY21: =VLOOKUP(W7,'Base Torque B1102 Full'!$A$3:$AC$103,24,TRUE) -> -114.39868 | AZ21: =VLOOKUP(X7,'Base Torque B1102 Full'!$A$3:$AC$103,25,TRUE) -> -114.39868 | BA21: =VLOOKUP(Y7,'Base Torque B1102 Full'!$A$3:$AC$103,26,TRUE) -> -114.39868 | BB21: =VLOOKUP(Z7,'Base Torque B1102 Full'!$A$3:$AC$103,27,TRUE) -> -114.39868 | BC21: =VLOOKUP(AA7,'Base Torque B1102 Full'!$A$3:$AC$103,28,TRUE) -> -114.39868
A22: 50 | B22: =AD8-B8 -> -85 | C22: =AE8-C8 -> -75.05231 | D22: =AF8-D8 -> -29.570652 | E22: =AG8-E8 -> -2.014606 | F22: =AH8-F8 -> -2.3561481 | G22: =AI8-G8 -> -2.0346467 | H22: =AJ8-H8 -> -1.6480978 | I22: =AK8-I8 -> -1.7595109 | ... AA22: =BC8-AA8 -> 0.32942708 | AC22: 50 | AD22: =VLOOKUP(B8,'Base Torque B1102 Full'!$A$3:$AC$103,2,TRUE) -> 0 | AE22: =VLOOKUP(C8,'Base Torque B1102 Full'!$A$3:$AC$103,3,TRUE) -> 201.32528 | AF22: =VLOOKUP(D8,'Base Torque B1102 Full'!$A$3:$AC$103,4,TRUE) -> 186.81017 | AG22: =VLOOKUP(E8,'Base Torque B1102 Full'!$A$3:$AC$103,5,TRUE) -> 268.8984 | AH22: =VLOOKUP(F8,'Base Torque B1102 Full'!$A$3:$AC$103,6,TRUE) -> 256.51546 | AI22: =VLOOKUP(G8,'Base Torque B1102 Full'!$A$3:$AC$103,7,TRUE) -> 259.05766 | AJ22: =VLOOKUP(H8,'Base Torque B1102 Full'!$A$3:$AC$103,8,TRUE) -> 239.13014 | AK22: =VLOOKUP(I8,'Base Torque B1102 Full'!$A$3:$AC$103,9,TRUE) -> 221.74482 | AL22: =VLOOKUP(J8,'Base Torque B1102 Full'!$A$3:$AC$103,10,TRUE) -> 218.71059 | AM22: =VLOOKUP(K8,'Base Torque B1102 Full'!$A$3:$AC$103,11,TRUE) -> 212.80615 | AN22: =VLOOKUP(L8,'Base Torque B1102 Full'!$A$3:$AC$103,12,TRUE) -> 209.03386 | AO22: =VLOOKUP(M8,'Base Torque B1102 Full'!$A$3:$AC$103,13,TRUE) -> 185.49807 | AP22: =VLOOKUP(N8,'Base Torque B1102 Full'!$A$3:$AC$103,14,TRUE) -> 197.14296 | AQ22: =VLOOKUP(O8,'Base Torque B1102 Full'!$A$3:$AC$103,15,TRUE) -> 179.34761 | AR22: =VLOOKUP(P8,'Base Torque B1102 Full'!$A$3:$AC$103,16,TRUE) -> 150.48142 | AS22: =VLOOKUP(Q8,'Base Torque B1102 Full'!$A$3:$AC$103,17,TRUE) -> 83.072303 | AT22: =VLOOKUP(R8,'Base Torque B1102 Full'!$A$3:$AC$103,18,TRUE) -> 12.874977 | AU22: =VLOOKUP(S8,'Base Torque B1102 Full'!$A$3:$AC$103,20,TRUE) -> -26.077979 | AV22: =VLOOKUP(T8,'Base Torque B1102 Full'!$A$3:$AC$103,21,TRUE) -> -63.882847 | AW22: =VLOOKUP(U8,'Base Torque B1102 Full'!$A$3:$AC$103,22,TRUE) -> -114.39868 | AX22: =VLOOKUP(V8,'Base Torque B1102 Full'!$A$3:$AC$103,23,TRUE) -> -114.39868 | AY22: =VLOOKUP(W8,'Base Torque B1102 Full'!$A$3:$AC$103,24,TRUE) -> -114.39868 | AZ22: =VLOOKUP(X8,'Base Torque B1102 Full'!$A$3:$AC$103,25,TRUE) -> -114.39868 | BA22: =VLOOKUP(Y8,'Base Torque B1102 Full'!$A$3:$AC$103,26,TRUE) -> -114.39868 | BB22: =VLOOKUP(Z8,'Base Torque B1102 Full'!$A$3:$AC$103,27,TRUE) -> -114.39868 | BC22: =VLOOKUP(AA8,'Base Torque B1102 Full'!$A$3:$AC$103,28,TRUE) -> -114.39868
A23: 60 | B23: =AD9-B9 -> -85 | C23: =AE9-C9 -> -75.05231 | D23: =AF9-D9 -> -35.383152 | E23: =AG9-E9 -> -2.9313859 | F23: =AH9-F9 -> 0.46399457 | G23: =AI9-G9 -> -1.2770041 | H23: =AJ9-H9 -> 0.36277174 | I23: =AK9-I9 -> 1.2588315 | ... AA23: =BC9-AA9 -> 0.32942708 | AC23: 60 | AD23: =VLOOKUP(B9,'Base Torque B1102 Full'!$A$3:$AC$103,2,TRUE) -> 0 | AE23: =VLOOKUP(C9,'Base Torque B1102 Full'!$A$3:$AC$103,3,TRUE) -> 201.32528 | AF23: =VLOOKUP(D9,'Base Torque B1102 Full'!$A$3:$AC$103,4,TRUE) -> 209.6079 | AG23: =VLOOKUP(E9,'Base Torque B1102 Full'!$A$3:$AC$103,5,TRUE) -> 301.61889 | AH23: =VLOOKUP(F9,'Base Torque B1102 Full'!$A$3:$AC$103,6,TRUE) -> 319.41424 | AI23: =VLOOKUP(G9,'Base Torque B1102 Full'!$A$3:$AC$103,7,TRUE) -> 324.33461 | AJ23: =VLOOKUP(H9,'Base Torque B1102 Full'!$A$3:$AC$103,8,TRUE) -> 329.17298 | AK23: =VLOOKUP(I9,'Base Torque B1102 Full'!$A$3:$AC$103,9,TRUE) -> 333.60131 | AL23: =VLOOKUP(J9,'Base Torque B1102 Full'!$A$3:$AC$103,10,TRUE) -> 325.5647 | AM23: =VLOOKUP(K9,'Base Torque B1102 Full'!$A$3:$AC$103,11,TRUE) -> 317.93812 | AN23: =VLOOKUP(L9,'Base Torque B1102 Full'!$A$3:$AC$103,12,TRUE) -> 300.06077 | AO23: =VLOOKUP(M9,'Base Torque B1102 Full'!$A$3:$AC$103,13,TRUE) -> 271.27658 | AP23: =VLOOKUP(N9,'Base Torque B1102 Full'!$A$3:$AC$103,14,TRUE) -> 277.75507 | AQ23: =VLOOKUP(O9,'Base Torque B1102 Full'!$A$3:$AC$103,15,TRUE) -> 262.74794 | AR23: =VLOOKUP(P9,'Base Torque B1102 Full'!$A$3:$AC$103,16,TRUE) -> 237.65403 | AS23: =VLOOKUP(Q9,'Base Torque B1102 Full'!$A$3:$AC$103,17,TRUE) -> 171.72103 | AT23: =VLOOKUP(R9,'Base Torque B1102 Full'!$A$3:$AC$103,18,TRUE) -> 105.62401 | AU23: =VLOOKUP(S9,'Base Torque B1102 Full'!$A$3:$AC$103,20,TRUE) -> -10.332784 | AV23: =VLOOKUP(T9,'Base Torque B1102 Full'!$A$3:$AC$103,21,TRUE) -> -57.568368 | AW23: =VLOOKUP(U9,'Base Torque B1102 Full'!$A$3:$AC$103,22,TRUE) -> -114.39868 | AX23: =VLOOKUP(V9,'Base Torque B1102 Full'!$A$3:$AC$103,23,TRUE) -> -114.39868 | AY23: =VLOOKUP(W9,'Base Torque B1102 Full'!$A$3:$AC$103,24,TRUE) -> -114.39868 | AZ23: =VLOOKUP(X9,'Base Torque B1102 Full'!$A$3:$AC$103,25,TRUE) -> -114.39868 | BA23: =VLOOKUP(Y9,'Base Torque B1102 Full'!$A$3:$AC$103,26,TRUE) -> -114.39868 | BB23: =VLOOKUP(Z9,'Base Torque B1102 Full'!$A$3:$AC$103,27,TRUE) -> -114.39868 | BC23: =VLOOKUP(AA9,'Base Torque B1102 Full'!$A$3:$AC$103,28,TRUE) -> -114.39868
A24: 70 | B24: =AD10-B10 -> -85 | C24: =AE10-C10 -> -75.05231 | D24: =AF10-D10 -> -38.128397 | E24: =AG10-E10 -> -1.6630435 | F24: =AH10-F10 -> -0.94769022 | G24: =AI10-G10 -> -1.896909 | H24: =AJ10-H10 -> -2.2252038 | I24: =AK10-I10 -> -2.1071671 | ... AA24: =BC10-AA10 -> 0.32942708 | AC24: 70 | AD24: =VLOOKUP(B10,'Base Torque B1102 Full'!$A$3:$AC$103,2,TRUE) -> 0 | AE24: =VLOOKUP(C10,'Base Torque B1102 Full'!$A$3:$AC$103,3,TRUE) -> 201.32528 | AF24: =VLOOKUP(D10,'Base Torque B1102 Full'!$A$3:$AC$103,4,TRUE) -> 218.46458 | AG24: =VLOOKUP(E10,'Base Torque B1102 Full'!$A$3:$AC$103,5,TRUE) -> 327.69686 | AH24: =VLOOKUP(F10,'Base Torque B1102 Full'!$A$3:$AC$103,6,TRUE) -> 344.67215 | AI24: =VLOOKUP(G10,'Base Torque B1102 Full'!$A$3:$AC$103,7,TRUE) -> 362.3855 | AJ24: =VLOOKUP(H10,'Base Torque B1102 Full'!$A$3:$AC$103,8,TRUE) -> 370.50411 | AK24: =VLOOKUP(I10,'Base Torque B1102 Full'!$A$3:$AC$103,9,TRUE) -> 378.62273 | AL24: =VLOOKUP(J10,'Base Torque B1102 Full'!$A$3:$AC$103,10,TRUE) -> 399.2883 | AM24: =VLOOKUP(K10,'Base Torque B1102 Full'!$A$3:$AC$103,11,TRUE) -> 395.02397 | AN24: =VLOOKUP(L10,'Base Torque B1102 Full'!$A$3:$AC$103,12,TRUE) -> 391.00567 | AO24: =VLOOKUP(M10,'Base Torque B1102 Full'!$A$3:$AC$103,13,TRUE) -> 377.14662 | AP24: =VLOOKUP(N10,'Base Torque B1102 Full'!$A$3:$AC$103,14,TRUE) -> 349.42851 | AQ24: =VLOOKUP(O10,'Base Torque B1102 Full'!$A$3:$AC$103,15,TRUE) -> 327.20483 | AR24: =VLOOKUP(P10,'Base Torque B1102 Full'!$A$3:$AC$103,16,TRUE) -> 301.45487 | AS24: =VLOOKUP(Q10,'Base Torque B1102 Full'!$A$3:$AC$103,17,TRUE) -> 271.60461 | AT24: =VLOOKUP(R10,'Base Torque B1102 Full'!$A$3:$AC$103,18,TRUE) -> 217.35749 | AU24: =VLOOKUP(S10,'Base Torque B1102 Full'!$A$3:$AC$103,20,TRUE) -> 97.013361 | AV24: =VLOOKUP(T10,'Base Torque B1102 Full'!$A$3:$AC$103,21,TRUE) -> -47.071572 | AW24: =VLOOKUP(U10,'Base Torque B1102 Full'!$A$3:$AC$103,22,TRUE) -> -114.39868 | AX24: =VLOOKUP(V10,'Base Torque B1102 Full'!$A$3:$AC$103,23,TRUE) -> -114.39868 | AY24: =VLOOKUP(W10,'Base Torque B1102 Full'!$A$3:$AC$103,24,TRUE) -> -114.39868 | AZ24: =VLOOKUP(X10,'Base Torque B1102 Full'!$A$3:$AC$103,25,TRUE) -> -114.39868 | BA24: =VLOOKUP(Y10,'Base Torque B1102 Full'!$A$3:$AC$103,26,TRUE) -> -114.39868 | BB24: =VLOOKUP(Z10,'Base Torque B1102 Full'!$A$3:$AC$103,27,TRUE) -> -114.39868 | BC24: =VLOOKUP(AA10,'Base Torque B1102 Full'!$A$3:$AC$103,28,TRUE) -> -114.39868
A25: 80 | B25: =AD11-B11 -> -85 | C25: =AE11-C11 -> -75.05231 | D25: =AF11-D11 -> -38.128397 | E25: =AG11-E11 -> -1.6630435 | F25: =AH11-F11 -> -0.94769022 | G25: =AI11-G11 -> -1.896909 | H25: =AJ11-H11 -> -2.0275136 | I25: =AK11-I11 -> -0.89130435 | ... AA25: =BC11-AA11 -> 0.32942708 | AC25: 80 | AD25: =VLOOKUP(B11,'Base Torque B1102 Full'!$A$3:$AC$103,2,TRUE) -> 0 | AE25: =VLOOKUP(C11,'Base Torque B1102 Full'!$A$3:$AC$103,3,TRUE) -> 201.32528 | AF25: =VLOOKUP(D11,'Base Torque B1102 Full'!$A$3:$AC$103,4,TRUE) -> 218.46458 | AG25: =VLOOKUP(E11,'Base Torque B1102 Full'!$A$3:$AC$103,5,TRUE) -> 327.69686 | AH25: =VLOOKUP(F11,'Base Torque B1102 Full'!$A$3:$AC$103,6,TRUE) -> 344.67215 | AI25: =VLOOKUP(G11,'Base Torque B1102 Full'!$A$3:$AC$103,7,TRUE) -> 362.3855 | AJ25: =VLOOKUP(H11,'Base Torque B1102 Full'!$A$3:$AC$103,8,TRUE) -> 412.16327 | AK25: =VLOOKUP(I11,'Base Torque B1102 Full'!$A$3:$AC$103,9,TRUE) -> 437.33918 | AL25: =VLOOKUP(J11,'Base Torque B1102 Full'!$A$3:$AC$103,10,TRUE) -> 453.90444 | AM25: =VLOOKUP(K11,'Base Torque B1102 Full'!$A$3:$AC$103,11,TRUE) -> 465.71334 | AN25: =VLOOKUP(L11,'Base Torque B1102 Full'!$A$3:$AC$103,12,TRUE) -> 469.56763 | AO25: =VLOOKUP(M11,'Base Torque B1102 Full'!$A$3:$AC$103,13,TRUE) -> 458.74281 | AP25: =VLOOKUP(N11,'Base Torque B1102 Full'!$A$3:$AC$103,14,TRUE) -> 427.33442 | AQ25: =VLOOKUP(O11,'Base Torque B1102 Full'!$A$3:$AC$103,15,TRUE) -> 401.66648 | AR25: =VLOOKUP(P11,'Base Torque B1102 Full'!$A$3:$AC$103,16,TRUE) -> 362.3855 | AS25: =VLOOKUP(Q11,'Base Torque B1102 Full'!$A$3:$AC$103,17,TRUE) -> 329.17298 | AT25: =VLOOKUP(R11,'Base Torque B1102 Full'!$A$3:$AC$103,18,TRUE) -> 290.79406 | AU25: =VLOOKUP(S11,'Base Torque B1102 Full'!$A$3:$AC$103,20,TRUE) -> 221.33479 | AV25: =VLOOKUP(T11,'Base Torque B1102 Full'!$A$3:$AC$103,21,TRUE) -> -26.077979 | AW25: =VLOOKUP(U11,'Base Torque B1102 Full'!$A$3:$AC$103,22,TRUE) -> -114.39868 | AX25: =VLOOKUP(V11,'Base Torque B1102 Full'!$A$3:$AC$103,23,TRUE) -> -114.39868 | AY25: =VLOOKUP(W11,'Base Torque B1102 Full'!$A$3:$AC$103,24,TRUE) -> -114.39868 | AZ25: =VLOOKUP(X11,'Base Torque B1102 Full'!$A$3:$AC$103,25,TRUE) -> -114.39868 | BA25: =VLOOKUP(Y11,'Base Torque B1102 Full'!$A$3:$AC$103,26,TRUE) -> -114.39868 | BB25: =VLOOKUP(Z11,'Base Torque B1102 Full'!$A$3:$AC$103,27,TRUE) -> -114.39868 | BC25: =VLOOKUP(AA11,'Base Torque B1102 Full'!$A$3:$AC$103,28,TRUE) -> -114.39868
A26: 90 | B26: =AD12-B12 -> -85 | C26: =AE12-C12 -> -75.05231 | D26: =AF12-D12 -> -38.128397 | E26: =AG12-E12 -> -1.6630435 | F26: =AH12-F12 -> -0.94769022 | G26: =AI12-G12 -> -1.896909 | H26: =AJ12-H12 -> -1.9945652 | I26: =AK12-I12 -> -1.6888441 | ... AA26: =BC12-AA12 -> 0.32942708 | AC26: 90 | AD26: =VLOOKUP(B12,'Base Torque B1102 Full'!$A$3:$AC$103,2,TRUE) -> 0 | AE26: =VLOOKUP(C12,'Base Torque B1102 Full'!$A$3:$AC$103,3,TRUE) -> 201.32528 | AF26: =VLOOKUP(D12,'Base Torque B1102 Full'!$A$3:$AC$103,4,TRUE) -> 218.46458 | AG26: =VLOOKUP(E12,'Base Torque B1102 Full'!$A$3:$AC$103,5,TRUE) -> 327.69686 | AH26: =VLOOKUP(F12,'Base Torque B1102 Full'!$A$3:$AC$103,6,TRUE) -> 344.67215 | AI26: =VLOOKUP(G12,'Base Torque B1102 Full'!$A$3:$AC$103,7,TRUE) -> 362.3855 | AJ26: =VLOOKUP(H12,'Base Torque B1102 Full'!$A$3:$AC$103,8,TRUE) -> 419.87186 | AK26: =VLOOKUP(I12,'Base Torque B1102 Full'!$A$3:$AC$103,9,TRUE) -> 478.67032 | AL26: =VLOOKUP(J12,'Base Torque B1102 Full'!$A$3:$AC$103,10,TRUE) -> 504.8303 | AM26: =VLOOKUP(K12,'Base Torque B1102 Full'!$A$3:$AC$103,11,TRUE) -> 520.32948 | AN26: =VLOOKUP(L12,'Base Torque B1102 Full'!$A$3:$AC$103,12,TRUE) -> 529.35016 | AO26: =VLOOKUP(M12,'Base Torque B1102 Full'!$A$3:$AC$103,13,TRUE) -> 531.40032 | AP26: =VLOOKUP(N12,'Base Torque B1102 Full'!$A$3:$AC$103,14,TRUE) -> 507.53651 | AQ26: =VLOOKUP(O12,'Base Torque B1102 Full'!$A$3:$AC$103,15,TRUE) -> 469.07559 | AR26: =VLOOKUP(P12,'Base Torque B1102 Full'!$A$3:$AC$103,16,TRUE) -> 430.04063 | AS26: =VLOOKUP(Q12,'Base Torque B1102 Full'!$A$3:$AC$103,17,TRUE) -> 401.58447 | AT26: =VLOOKUP(R12,'Base Torque B1102 Full'!$A$3:$AC$103,18,TRUE) -> 376.61358 | AU26: =VLOOKUP(S12,'Base Torque B1102 Full'!$A$3:$AC$103,20,TRUE) -> 315.14991 | AV26: =VLOOKUP(T12,'Base Torque B1102 Full'!$A$3:$AC$103,21,TRUE) -> -10.332784 | AW26: =VLOOKUP(U12,'Base Torque B1102 Full'!$A$3:$AC$103,22,TRUE) -> -114.39868 | AX26: =VLOOKUP(V12,'Base Torque B1102 Full'!$A$3:$AC$103,23,TRUE) -> -114.39868 | AY26: =VLOOKUP(W12,'Base Torque B1102 Full'!$A$3:$AC$103,24,TRUE) -> -114.39868 | AZ26: =VLOOKUP(X12,'Base Torque B1102 Full'!$A$3:$AC$103,25,TRUE) -> -114.39868 | BA26: =VLOOKUP(Y12,'Base Torque B1102 Full'!$A$3:$AC$103,26,TRUE) -> -114.39868 | BB26: =VLOOKUP(Z12,'Base Torque B1102 Full'!$A$3:$AC$103,27,TRUE) -> -114.39868 | BC26: =VLOOKUP(AA12,'Base Torque B1102 Full'!$A$3:$AC$103,28,TRUE) -> -114.39868
A27: 100 | B27: =AD13-B13 -> -85 | C27: =AE13-C13 -> -75.05231 | D27: =AF13-D13 -> -38.128397 | E27: =AG13-E13 -> -1.6630435 | F27: =AH13-F13 -> -0.94769022 | G27: =AI13-G13 -> -1.896909 | H27: =AJ13-H13 -> -1.9945652 | I27: =AK13-I13 -> -1.6888441 | ... AA27: =BC13-AA13 -> 0.32942708 | AC27: 100 | AD27: =VLOOKUP(B13,'Base Torque B1102 Full'!$A$3:$AC$103,2,TRUE) -> 0 | AE27: =VLOOKUP(C13,'Base Torque B1102 Full'!$A$3:$AC$103,3,TRUE) -> 201.32528 | AF27: =VLOOKUP(D13,'Base Torque B1102 Full'!$A$3:$AC$103,4,TRUE) -> 218.46458 | AG27: =VLOOKUP(E13,'Base Torque B1102 Full'!$A$3:$AC$103,5,TRUE) -> 327.69686 | AH27: =VLOOKUP(F13,'Base Torque B1102 Full'!$A$3:$AC$103,6,TRUE) -> 344.67215 | AI27: =VLOOKUP(G13,'Base Torque B1102 Full'!$A$3:$AC$103,7,TRUE) -> 362.3855 | AJ27: =VLOOKUP(H13,'Base Torque B1102 Full'!$A$3:$AC$103,8,TRUE) -> 419.87186 | AK27: =VLOOKUP(I13,'Base Torque B1102 Full'!$A$3:$AC$103,9,TRUE) -> 478.67032 | AL27: =VLOOKUP(J13,'Base Torque B1102 Full'!$A$3:$AC$103,10,TRUE) -> 504.8303 | AM27: =VLOOKUP(K13,'Base Torque B1102 Full'!$A$3:$AC$103,11,TRUE) -> 520.32948 | AN27: =VLOOKUP(L13,'Base Torque B1102 Full'!$A$3:$AC$103,12,TRUE) -> 529.35016 | AO27: =VLOOKUP(M13,'Base Torque B1102 Full'!$A$3:$AC$103,13,TRUE) -> 531.40032 | AP27: =VLOOKUP(N13,'Base Torque B1102 Full'!$A$3:$AC$103,14,TRUE) -> 531.40032 | AQ27: =VLOOKUP(O13,'Base Torque B1102 Full'!$A$3:$AC$103,15,TRUE) -> 527.46402 | AR27: =VLOOKUP(P13,'Base Torque B1102 Full'!$A$3:$AC$103,16,TRUE) -> 547.63755 | AS27: =VLOOKUP(Q13,'Base Torque B1102 Full'!$A$3:$AC$103,17,TRUE) -> 549.85172 | AT27: =VLOOKUP(R13,'Base Torque B1102 Full'!$A$3:$AC$103,18,TRUE) -> 506.71645 | AU27: =VLOOKUP(S13,'Base Torque B1102 Full'!$A$3:$AC$103,20,TRUE) -> 456.69265 | AV27: =VLOOKUP(T13,'Base Torque B1102 Full'!$A$3:$AC$103,21,TRUE) -> -10.332784 | AW27: =VLOOKUP(U13,'Base Torque B1102 Full'!$A$3:$AC$103,22,TRUE) -> -114.39868 | AX27: =VLOOKUP(V13,'Base Torque B1102 Full'!$A$3:$AC$103,23,TRUE) -> -114.39868 | AY27: =VLOOKUP(W13,'Base Torque B1102 Full'!$A$3:$AC$103,24,TRUE) -> -114.39868 | AZ27: =VLOOKUP(X13,'Base Torque B1102 Full'!$A$3:$AC$103,25,TRUE) -> -114.39868 | BA27: =VLOOKUP(Y13,'Base Torque B1102 Full'!$A$3:$AC$103,26,TRUE) -> -114.39868 | BB27: =VLOOKUP(Z13,'Base Torque B1102 Full'!$A$3:$AC$103,27,TRUE) -> -114.39868 | BC27: =VLOOKUP(AA13,'Base Torque B1102 Full'!$A$3:$AC$103,28,TRUE) -> -114.39868
B28: see the diferance between TBIQ & TLIQ. Try to make these as close to "0" as posible by adjusting Base Torque and TLIQ (below) | AK28: ^FORMULAS - Don’t mess with^
B30: RPM
A31: mm3 | B31: 0 | C31: 200 | D31: 400 | E31: 600 | F31: 800 | G31: 1000 | H31: 1200 | I31: 1400 | J31: 1600 | K31: 1800 | L31: 2000 | M31: 2200 | N31: 2400 | O31: 2600 | P31: 2800 | Q31: 3000 | R31: 3200 | S31: 3400 | T31: 3600 | U31: 3800 | V31: 4000 | W31: 4200 | X31: 4400 | Y31: 4600 | Z31: 4800 | AA31: 5000
A32: 0 | B32: 0 | C32: -14.023064 | D32: -28.784184 | E32: -42.807248 | F32: -42.807248 | G32: -44.28336 | H32: -45.759472 | I32: -50.187808 | J32: -55.3542 | K32: -59.04448 | L32: -63.472816 | M32: -70.11532 | N32: -76.757824 | O32: -83.400328 | P32: -95.209224 | Q32: -107.01812 | R32: -114.39868 | S32: -114.39868 | T32: -114.39868 | U32: -114.39868 | V32: -114.39868 | W32: -114.39868 | X32: -114.39868 | Y32: -114.39868 | Z32: -114.39868 | AA32: -114.39868
A33: 10 | B33: 0 | C33: 16.975288 | D33: 33.950576 | E33: 51.66392 | F33: 39.855024 | G33: 27.308072 | H33: 26.570016 | I33: 27.308072 | J33: 37.640856 | K33: 18.4514 | L33: -0.738056 | M33: -12.546952 | N33: -20.665568 | O33: -22.879736 | P33: -38.378912 | Q33: -50.925864 | R33: -57.568368 | S33: -57.568368 | T33: -57.568368 | U33: -57.568368 | V33: -57.568368 | W33: -57.568368 | X33: -57.568368 | Y33: -57.568368 | Z33: -57.568368 | AA33: -57.568368
A34: 20 | B34: 0 | C34: 40.59308 | D34: 81.18616 | E34: 121.77924 | F34: 108.49423 | G34: 92.995056 | H34: 98.161448 | I34: 90.042832 | J34: 79.710048 | K34: 72.329488 | L34: 65.686984 | M34: 48.711696 | N34: 45.759472 | O34: 36.9028 | P34: 25.83196 | Q34: 5.166392 | R34: -10.332784 | S34: -10.332784 | T34: -10.332784 | U34: -10.332784 | V34: -10.332784 | W34: -10.332784 | X34: -10.332784 | Y34: -10.332784 | Z34: -10.332784 | AA34: -10.332784
A35: 30 | B35: 0 | C35: 63.472816 | D35: 126.20758 | E35: 189.68039 | F35: 193.37067 | G35: 180.08566 | H35: 160.89621 | I35: 153.51565 | J35: 157.20593 | K35: 166.0626 | L35: 174.91927 | M35: 166.0626 | N35: 180.08566 | O35: 179.34761 | P35: 166.0626 | Q35: 145.39703 | R35: 127.68369 | S35: 127.68369 | T35: 127.68369 | U35: 127.68369 | V35: 127.68369 | W35: 127.68369 | X35: 127.68369 | Y35: 127.68369 | Z35: 127.68369 | AA35: 127.68369
A36: 40 | B36: 0 | C36: 84.138384 | D36: 169.01482 | E36: 253.15321 | F36: 240.60626 | G36: 259.05766 | H36: 239.13014 | I36: 230.27347 | J36: 249.46293 | K36: 250.20098 | L36: 251.6771 | M36: 224.36902 | N36: 256.84349 | O36: 257.58154 | P36: 237.65403 | Q36: 224.36902 | R36: 210.34596 | S36: 210.34596 | T36: 210.34596 | U36: 210.34596 | V36: 210.34596 | W36: 210.34596 | X36: 210.34596 | Y36: 210.34596 | Z36: 210.34596 | AA36: 210.34596
A37: 50 | B37: 0 | C37: 95.94728 | D37: 191.89456 | E37: 288.5799 | F37: 312.19769 | G37: 319.57825 | H37: 329.17298 | I37: 333.60131 | J37: 335.07742 | K37: 337.29159 | L37: 338.7677 | M37: 329.91103 | N37: 319.57825 | O37: 304.07907 | P37: 287.84184 | Q37: 271.60461 | R37: 259.79571 | S37: 259.79571 | T37: 259.79571 | U37: 259.79571 | V37: 259.79571 | W37: 259.79571 | X37: 259.79571 | Y37: 259.79571 | Z37: 259.79571 | AA37: 259.79571
A38: 60 | B38: 0 | C38: 109.23229 | D38: 218.46458 | E38: 327.69686 | F38: 344.67215 | G38: 362.3855 | H38: 370.50411 | I38: 378.62273 | J38: 399.2883 | K38: 402.24052 | L38: 405.9308 | M38: 400.76441 | N38: 386.74134 | O38: 373.45634 | P38: 349.10049 | Q38: 329.17298 | R38: 315.14991 | S38: 315.14991 | T38: 315.14991 | U38: 315.14991 | V38: 315.14991 | W38: 315.14991 | X38: 315.14991 | Y38: 315.14991 | Z38: 315.14991 | AA38: 315.14991
A39: 70 | B39: 0 | C39: 136.54036 | D39: 247.24876 | E39: 357.95716 | F39: 376.40856 | G39: 394.85996 | H39: 404.45469 | I39: 433.23887 | J39: 453.90444 | K39: 465.71334 | L39: 477.52223 | M39: 475.30806 | N39: 459.80889 | O39: 436.92915 | P39: 408.88302 | Q39: 390.43162 | R39: 376.40856 | S39: 376.40856 | T39: 376.40856 | U39: 376.40856 | V39: 376.40856 | W39: 376.40856 | X39: 376.40856 | Y39: 376.40856 | Z39: 376.40856 | AA39: 376.40856
A40: 80 | B40: 0 | C40: 180.82372 | D40: 291.53212 | E40: 402.24052 | F40: 417.00164 | G40: 431.76276 | H40: 439.14332 | I40: 470.14167 | J40: 504.8303 | K40: 520.32948 | L40: 535.82866 | M40: 531.40032 | N40: 531.40032 | O40: 509.25864 | P40: 472.35584 | Q40: 440.61943 | R40: 442.8336 | S40: 442.8336 | T40: 442.8336 | U40: 442.8336 | V40: 442.8336 | W40: 442.8336 | X40: 442.8336 | Y40: 442.8336 | Z40: 442.8336 | AA40: 442.8336
A41: 90 | B41: 0 | C41: 217.72652 | D41: 328.43492 | E41: 439.14332 | F41: 453.90444 | G41: 468.66556 | H41: 476.04612 | I41: 508.52058 | J41: 542.47116 | K41: 557.23228 | L41: 571.9934 | M41: 568.30312 | N41: 568.30312 | O41: 563.87478 | P41: 547.63755 | Q41: 549.85172 | R41: 567.56506 | S41: 567.56506 | T41: 567.56506 | U41: 567.56506 | V41: 567.56506 | W41: 567.56506 | X41: 567.56506 | Y41: 567.56506 | Z41: 567.56506 | AA41: 567.56506
...

Sheet TBIQ B0727 Full
A1: TBIQ | B1: RPM
A2: TPS | B2: 0 | C2: 200 | D2: 400 | E2: 600 | F2: 800 | G2: 1000 | H2: 1200 | I2: 1400 | J2: 1600 | K2: 1800 | L2: 2000 | M2: 2200 | N2: 2400 | O2: 2600 | P2: 2800 | Q2: 3000 | R2: 3100 | S2: 3200 | T2: 3250 | U2: 3400 | V2: 3600 | W2: 3800 | X2: 4000 | Y2: 4200 | Z2: 4400 | AA2: 4600 | AB2: 4800
A3: 0 | B3: =SUM(Math!B3) -> 0 | C3: =SUM(Math!C3) -> 0 | D3: =SUM(Math!D3) -> 0 | E3: =SUM(Math!E3) -> 0 | F3: =SUM(Math!F3) -> 0 | G3: =SUM(Math!G3) -> 0 | H3: =SUM(Math!H3) -> 0 | I3: =SUM(Math!I3) -> 0 | ... R3: =SUM(Math!R3) -> 0 | S3: =SUM(T3-R3)/2+R3 -> 0 | T3: =SUM(Math!S3) -> 0 | U3: =SUM(Math!T3) -> 0 | V3: =SUM(Math!U3) -> 0 | W3: =SUM(Math!V3) -> 0 | X3: =SUM(Math!W3) -> 0 | Y3: =SUM(Math!X3) -> 0 | Z3: =SUM(Math!Y3) -> 0 | AA3: =SUM(Math!Z3) -> 0 | AB3: =SUM(Math!AA3) -> 0 | AC3: < these are the fugures you can see (dark gray)
A4: 1 | B4: =SUM(B$13-B$3)/9+B3 -> 2.1892361 | C4: =SUM(C$13-C$3)/9+C3 -> 1.6996528 | D4: =SUM(D$13-D$3)/9+D3 -> 1.2447917 | E4: =SUM(E$13-E$3)/9+E3 -> 1.1111111 | F4: =SUM(F$13-F$3)/9+F3 -> 1.0225694 | G4: =SUM(G$13-G$3)/9+G3 -> 0.93402778 | H4: =SUM(H$13-H$3)/9+H3 -> 0.80034722 | I4: =SUM(I$13-I$3)/9+I3 -> 0.64409722 | ... R4: =SUM(R$13-R$3)/9+R3 -> 0 | S4: =SUM(T4-R4)/2+R4 -> 0 | T4: =SUM(T$13-T$3)/9+T3 -> 0 | U4: =SUM(U$13-U$3)/9+U3 -> 0 | V4: =SUM(V$13-V$3)/9+V3 -> 0 | W4: =SUM(W$13-W$3)/9+W3 -> 0 | X4: =SUM(X$13-X$3)/9+X3 -> 0 | Y4: =SUM(Y$13-Y$3)/9+Y3 -> 0 | Z4: =SUM(Z$13-Z$3)/9+Z3 -> 0 | AA4: =SUM(AA$13-AA$3)/9+AA3 -> 0 | AB4: =SUM(AB$13-AB$3)/9+AB3 -> 0
A5: 2 | B5: =SUM(B$13-B$3)/9+B4 -> 4.3784722 | C5: =SUM(C$13-C$3)/9+C4 -> 3.3993056 | D5: =SUM(D$13-D$3)/9+D4 -> 2.4895833 | E5: =SUM(E$13-E$3)/9+E4 -> 2.2222222 | F5: =SUM(F$13-F$3)/9+F4 -> 2.0451389 | G5: =SUM(G$13-G$3)/9+G4 -> 1.8680556 | H5: =SUM(H$13-H$3)/9+H4 -> 1.6006944 | I5: =SUM(I$13-I$3)/9+I4 -> 1.2881944 | ... R5: =SUM(R$13-R$3)/9+R4 -> 0 | S5: =SUM(T5-R5)/2+R5 -> 0 | T5: =SUM(T$13-T$3)/9+T4 -> 0 | U5: =SUM(U$13-U$3)/9+U4 -> 0 | V5: =SUM(V$13-V$3)/9+V4 -> 0 | W5: =SUM(W$13-W$3)/9+W4 -> 0 | X5: =SUM(X$13-X$3)/9+X4 -> 0 | Y5: =SUM(Y$13-Y$3)/9+Y4 -> 0 | Z5: =SUM(Z$13-Z$3)/9+Z4 -> 0 | AA5: =SUM(AA$13-AA$3)/9+AA4 -> 0 | AB5: =SUM(AB$13-AB$3)/9+AB4 -> 0
A6: 3 | B6: =SUM(B$13-B$3)/9+B5 -> 6.5677083 | C6: =SUM(C$13-C$3)/9+C5 -> 5.0989583 | D6: =SUM(D$13-D$3)/9+D5 -> 3.734375 | E6: =SUM(E$13-E$3)/9+E5 -> 3.3333333 | F6: =SUM(F$13-F$3)/9+F5 -> 3.0677083 | G6: =SUM(G$13-G$3)/9+G5 -> 2.8020833 | H6: =SUM(H$13-H$3)/9+H5 -> 2.4010417 | I6: =SUM(I$13-I$3)/9+I5 -> 1.9322917 | ... R6: =SUM(R$13-R$3)/9+R5 -> 0 | S6: =SUM(T6-R6)/2+R6 -> 0 | T6: =SUM(T$13-T$3)/9+T5 -> 0 | U6: =SUM(U$13-U$3)/9+U5 -> 0 | V6: =SUM(V$13-V$3)/9+V5 -> 0 | W6: =SUM(W$13-W$3)/9+W5 -> 0 | X6: =SUM(X$13-X$3)/9+X5 -> 0 | Y6: =SUM(Y$13-Y$3)/9+Y5 -> 0 | Z6: =SUM(Z$13-Z$3)/9+Z5 -> 0 | AA6: =SUM(AA$13-AA$3)/9+AA5 -> 0 | AB6: =SUM(AB$13-AB$3)/9+AB5 -> 0
